BEGIN:VCALENDAR
VERSION:2.0
PRODID:-//UP Alumni Website - ECPv6.15.16//NONSGML v1.0//EN
CALSCALE:GREGORIAN
METHOD:PUBLISH
X-WR-CALNAME:UP Alumni Website
X-ORIGINAL-URL:https://alum.up.edu.ph
X-WR-CALDESC:Events for UP Alumni Website
REFRESH-INTERVAL;VALUE=DURATION:PT1H
X-Robots-Tag:noindex
X-PUBLISHED-TTL:PT1H
BEGIN:VTIMEZONE
TZID:UTC
BEGIN:STANDARD
TZOFFSETFROM:+0000
TZOFFSETTO:+0000
TZNAME:UTC
DTSTART:20210101T000000
END:STANDARD
END:VTIMEZONE
BEGIN:VEVENT
DTSTART;TZID=UTC:20220901T090000
DTEND;TZID=UTC:20220901T113000
DTSTAMP:20260423T063902
CREATED:20220830T215108Z
LAST-MODIFIED:20220830T215108Z
UID:4045-1662022800-1662031800@alum.up.edu.ph
SUMMARY:#CloseTheGap: Accelerate Post-pandemic Recovery through Social Justice
DESCRIPTION:The Philippine Institute for Development Studies (PIDS) invites everyone to join the forum “#CloseTheGap: Accelerate Post-pandemic Recovery through Social Justice” on September 1\, Thursday\, 9:00-11:30 a.m. via Zoom.\n\nThis is a kick-off event of the 20th Development Policy Research Month (DPRM) celebration.\n\nTo register\, visit https://bit.ly/dprm2022kickoff or scan the QR code on the poster.\n\nThe forum will also be streamed live on the PIDS Facebook page.\n\nLearn more about the DPRM at https://dprm.pids.gov.ph/.
URL:https://alum.up.edu.ph/event/closethegap-accelerate-post-pandemic-recovery-through-social-justice/
END:VEVENT
END:VCALENDAR