BEGIN:VCALENDAR
VERSION:2.0
PRODID:-//UP Alumni Website - ECPv6.15.16//NONSGML v1.0//EN
CALSCALE:GREGORIAN
METHOD:PUBLISH
X-WR-CALNAME:UP Alumni Website
X-ORIGINAL-URL:https://alum.up.edu.ph
X-WR-CALDESC:Events for UP Alumni Website
REFRESH-INTERVAL;VALUE=DURATION:PT1H
X-Robots-Tag:noindex
X-PUBLISHED-TTL:PT1H
BEGIN:VTIMEZONE
TZID:UTC
BEGIN:STANDARD
TZOFFSETFROM:+0000
TZOFFSETTO:+0000
TZNAME:UTC
DTSTART:20210101T000000
END:STANDARD
END:VTIMEZONE
BEGIN:VEVENT
DTSTART;TZID=UTC:20220902T080000
DTEND;TZID=UTC:20220902T170000
DTSTAMP:20260426T051845
CREATED:20220825T220246Z
LAST-MODIFIED:20220825T220246Z
UID:3940-1662105600-1662138000@alum.up.edu.ph
SUMMARY:Mandatory Continuing Legal Education Synchronous Online Seminar
DESCRIPTION:The “Mandatory Continuing Legal Education Synchronous Online Seminar” of the UP Law Center Institute for the Administration of Justice will be conducted on September 2\, 9\, 16\, 23\, and 30.\n\nRegister at http://uplaw.ph/mcleseptember2022fridayprogram until August 29.\n\nVisit https://law.upd.edu.ph/mcle/ for more details.
URL:https://alum.up.edu.ph/event/mandatory-continuing-legal-education-synchronous-online-seminar/
END:VEVENT
BEGIN:VEVENT
DTSTART;TZID=UTC:20220902T090000
DTEND;TZID=UTC:20220902T120000
DTSTAMP:20260426T051845
CREATED:20220829T205039Z
LAST-MODIFIED:20220829T205039Z
UID:4010-1662109200-1662120000@alum.up.edu.ph
SUMMARY:"GOMBURZA Ideal Today: Service and Commitment”
DESCRIPTION:UP Manila is pleased to invite you to the Third GOMBURZA Martyrdom Webinar on the theme “GOMBURZA Ideal Today: Service and Commitment” on Friday September 2\, 2022 from 9:00AM-12:00NN.\n\nRegister here
URL:https://alum.up.edu.ph/event/gomburza-ideal-today-service-and-commitment/
END:VEVENT
BEGIN:VEVENT
DTSTART;TZID=UTC:20220902T120000
DTEND;TZID=UTC:20220902T140000
DTSTAMP:20260426T051845
CREATED:20220901T012644Z
LAST-MODIFIED:20220901T012644Z
UID:4100-1662120000-1662127200@alum.up.edu.ph
SUMMARY:Stop COVID Deaths Webinar #115 “MAY COVID-19 ANG KLASMEYT NG ANAK KO: Is it safe for my child to go back to school?”
DESCRIPTION:The University of the Philippines in partnership with\nUP Manila NIH National Telehealth Center and in cooperation with\nUP Philippine General Hospital\nwould like to invite you to join the Fight Against COVID-19! \n  \nRegistration slots are limited to this SPECIAL EDITION of\nthe STOP C.O.V.I.D. DEATHS Webinar Series.\n(Current COVID-19 problems; Other outbreaks; Viruses; Infections; Disasters)\nSo sign up NOW:\ntinyurl.com/StopCOVIDDeathsWebinar115 \n  \nWebinar #115\n“MAY COVID-19 ANG KLASMEYT NG ANAK KO:\nIs it safe for my child to go back to school?”\nSeptember 2\, 2022 (Friday) 12nn\n\nPresenter:\nDr. Anna Ong-Lim\nMember\, DOH Technical Advisory Group\nPediatric Infectious Diseases Consultant\nPhilippine General Hospital\n\nReactors:\nProf. Tirso A. Ronquillo\nPresident\, Batangas State University\nPresident\, Philippine Association of\nState Universities and Colleges (PASUC)\n\nFrancie Castaneda-Lacanilao\nOwner\nThe Learning Tree\n\nSr. Christine Pinto\nPresident\nSt. Scholastica’s College Manila\n\nProf. Maria Cristina Damasco-Padolina\nPresident and Chief Academic Officer\nCentro Escolar University\n\n———————————————————–\n\nWebinar #115\nSeptember 2\, 2022\n“MAY COVID-19 ANG KLASMEYT NG ANAK KO: Is it safe for my child to go back to school?”\n\nBy November 2022\, 27 million registered students are expected to head back to face-to-face learning. Currently\, around 24\,000 of the country’s public schools – or just less than half – will implement five days of face-to-face classes. The rest are still in hybrid mode.\n\nParents have had mixed feelings about this. The Philippines has been one of the countries with the longest lockdown of schools in the world. Some are excited for their kids to feel “normal” again – others feel that the benefit of socialization does not outweigh the risk brought by possible exposure and infection to COVID19 – not to mention concerns about long COVID in children\n\nMuch of the confusion is relative to varying advise and protocols coming from different experts particularly around common questions: If a classmate is sick should my child be isolated? How long? If a child has interacted unknowingly with a COVID19 (+) classmate\, what is the next step? Who pays for testing? Are there isolation facilities in the school? If my child continues to have a COVID19 (+) test 14 days after the start of symptoms can the child go back to school?\n\nIn this episode of STOP COVID DEATHS\, we will take a look at questions around exposure of chidlren and how this is to be managed without anxiety and panic. Lead presentor is Dr. Anna Ong-Lim\, a Pediatric Infectious Diseases Consultant at the Philippine General Hospital. Group of panelists representing different types of schools are as follows: (1) Prof. Tirso A. Ronquillo\, PhD – President of Batangas State University and Philippine Association of State Universities and Colleges\, (2) Francie Castaneda-Lacanilao – owner of The Learning Tree\, (3) Sr. Christine Pinto – President of St. Scholastica’s College Manila\, and (4) Prof. Maria Cristina Damasco-Padolina\, PhD – President and Chief Academic Officer of Centro Escolar University. Synthesis and Closing Remarks will be delivered by Dr. Carmencita D. Padilla\, Chancellor of the University of the Philippines Manila.\n\nJoin our on-line credible community and find out what parents need to know about COVID-19 infections from school.\n\nTogether\, we can STOP C.O.V.I.D. DEATHS!
URL:https://alum.up.edu.ph/event/stop-covid-deaths-webinar-115-may-covid-19-ang-klasmeyt-ng-anak-ko-is-it-safe-for-my-child-to-go-back-to-school/
END:VEVENT
END:VCALENDAR