BEGIN:VCALENDAR
VERSION:2.0
PRODID:-//UP Alumni Website - ECPv6.15.16//NONSGML v1.0//EN
CALSCALE:GREGORIAN
METHOD:PUBLISH
X-WR-CALNAME:UP Alumni Website
X-ORIGINAL-URL:https://alum.up.edu.ph
X-WR-CALDESC:Events for UP Alumni Website
REFRESH-INTERVAL;VALUE=DURATION:PT1H
X-Robots-Tag:noindex
X-PUBLISHED-TTL:PT1H
BEGIN:VTIMEZONE
TZID:UTC
BEGIN:STANDARD
TZOFFSETFROM:+0000
TZOFFSETTO:+0000
TZNAME:UTC
DTSTART:20210101T000000
END:STANDARD
END:VTIMEZONE
BEGIN:VEVENT
DTSTART;TZID=UTC:20220903T050000
DTEND;TZID=UTC:20220903T100000
DTSTAMP:20260424T191004
CREATED:20220901T030455Z
LAST-MODIFIED:20220901T031020Z
UID:4117-1662181200-1662199200@alum.up.edu.ph
SUMMARY:UPLB Saturday Bazaar!
DESCRIPTION:Visit the UPLB Saturday Bazaar!\nOpens from 5 am until 10 am\nAugust 27\, Sept 3\, 10\, & 17\nSU Parking lot\n\nDon’t forget to bring your ecobag!\n\nSource: UPLB Office of Alumni Relations Facebook
URL:https://alum.up.edu.ph/event/uplb-saturday-bazaar/
END:VEVENT
END:VCALENDAR