BEGIN:VCALENDAR
VERSION:2.0
PRODID:-//UP Alumni Website - ECPv6.15.16//NONSGML v1.0//EN
CALSCALE:GREGORIAN
METHOD:PUBLISH
X-WR-CALNAME:UP Alumni Website
X-ORIGINAL-URL:https://alum.up.edu.ph
X-WR-CALDESC:Events for UP Alumni Website
REFRESH-INTERVAL;VALUE=DURATION:PT1H
X-Robots-Tag:noindex
X-PUBLISHED-TTL:PT1H
BEGIN:VTIMEZONE
TZID:UTC
BEGIN:STANDARD
TZOFFSETFROM:+0000
TZOFFSETTO:+0000
TZNAME:UTC
DTSTART:20210101T000000
END:STANDARD
END:VTIMEZONE
BEGIN:VEVENT
DTSTART;TZID=UTC:20220908T080000
DTEND;TZID=UTC:20220916T170000
DTSTAMP:20260422T155837
CREATED:20220907T171136Z
LAST-MODIFIED:20220907T171136Z
UID:4319-1662624000-1663347600@alum.up.edu.ph
SUMMARY:CALL FOR NOMINATIONS TO THE GAWAD CHANCELLOR 2022
DESCRIPTION:The University of the Philippines Manila will celebrate the 40th UP Manila Day and the 43rd Anniversary of the Health Sciences Center Autonomy in the last week of October 2022.\n\nThe highlight of the celebration is the recognition of the outstanding achievements and performance of UP Manila constituents in different categories. We are inviting nominations for the following awards:\n\n1. Outstanding Teacher\n2. Outstanding Researcher\n3. Outstanding Faculty in Extension Service\n4. Outstanding Research\, Extension\, and Professional Staff (REPS)\n5. Outstanding Administrative Personnel (Second Level)\n6. Outstanding Administrative Personnel (First Level)\n7. Outstanding Student\n8. Outstanding Student Organization\n9. Outstanding Artist\n10. Outstanding Athlete\n\nThe nominees will be screened by the 2022 Gawad Chancellor Subcommittees for each category which were constituted through AO No. CCDP 2022-148.\n\nThe nomination should be submitted via google drive https://bit.ly/GoogledriveGAWADCHANCELLOR using the prescribed forms and with the required supporting documents no later than 16 September 2022\, Friday\, 5:00 pm.\n\nForms and guidelines for each category can be accessed at https://bit.ly/2022GawadChancellor\n\nThe Subcommittees are expected to submit on or before Friday\, 7 October 2022\, the results of their evaluations to the 2022 UP Manila Foundation Celebration Committee\, through its Chair\, Former Dean\, Dr. Danilo L. Magtanong of the College of Dentistry.
URL:https://alum.up.edu.ph/event/call-for-nominations-to-the-gawad-chancellor-2022/
END:VEVENT
BEGIN:VEVENT
DTSTART;TZID=UTC:20220910T050000
DTEND;TZID=UTC:20220910T100000
DTSTAMP:20260422T155837
CREATED:20220901T031312Z
LAST-MODIFIED:20220901T031312Z
UID:4122-1662786000-1662804000@alum.up.edu.ph
SUMMARY:UPLB Saturday Bazaar!
DESCRIPTION:Visit the UPLB Saturday Bazaar!\nOpens from 5 am until 10 am\nAugust 27\, Sept 3\, 10\, & 17\nSU Parking lot\n\nDon’t forget to bring your ecobag!\n\nSource: UPLB Office of Alumni Relations Facebook
URL:https://alum.up.edu.ph/event/uplb-saturday-bazaar-2/
END:VEVENT
BEGIN:VEVENT
DTSTART;TZID=UTC:20220910T080000
DTEND;TZID=UTC:20220910T120000
DTSTAMP:20260422T155837
CREATED:20220830T213559Z
LAST-MODIFIED:20220904T170415Z
UID:4030-1662796800-1662811200@alum.up.edu.ph
SUMMARY:"Animals in the University: Partners in Research\, Partners in Health"
DESCRIPTION:The Institutional Animal Care and Use Committee\, in partnership with the Office of Student Affairs\, presents “Animals in the University: Partners in Research\, Partners in Health”\n\nA free webinar to showcase different ways we engage our animal friends in a University setting.\n\nSeptember 10\, 2022 (Saturday) | 8 AM to 12 NN\n\nThis event is FREE and OPEN to the public.\n\nRegister here: bit.ly/AnimalsInTheUniversity\n \n#AnimalsInTheUniversity\n\nSource: University of the Philippines Manila Facebok
URL:https://alum.up.edu.ph/event/animals-in-the-university-partners-in-research-partners-in-health/
END:VEVENT
BEGIN:VEVENT
DTSTART;TZID=UTC:20220910T150000
DTEND;TZID=UTC:20220910T170000
DTSTAMP:20260422T155837
CREATED:20220830T215452Z
LAST-MODIFIED:20220830T215452Z
UID:4048-1662822000-1662829200@alum.up.edu.ph
SUMMARY:UP KRC Special Forum: Career Talk with Koreanist Diplomats
DESCRIPTION:Everyone is invited to the forum “Career Talk with Koreanist Diplomats” on September 10\, Saturday\, at 3 p.m. via Facebook and YouTube Live.\n\nThe forum is organized by the UP Korea Research Center (KRC)\, in partnership with UP Arirang\, a Filipino-Korean friendship organization of UP Diliman.\n\nTo join\, register at https://bit.ly/KRCSF.\n\nWatch the livestream on the KRC Facebook page and YouTube channel.
URL:https://alum.up.edu.ph/event/up-krc-special-forum-career-talk-with-koreanist-diplomats/
END:VEVENT
END:VCALENDAR