BEGIN:VCALENDAR
VERSION:2.0
PRODID:-//UP Alumni Website - ECPv6.15.16//NONSGML v1.0//EN
CALSCALE:GREGORIAN
METHOD:PUBLISH
X-WR-CALNAME:UP Alumni Website
X-ORIGINAL-URL:https://alum.up.edu.ph
X-WR-CALDESC:Events for UP Alumni Website
REFRESH-INTERVAL;VALUE=DURATION:PT1H
X-Robots-Tag:noindex
X-PUBLISHED-TTL:PT1H
BEGIN:VTIMEZONE
TZID:UTC
BEGIN:STANDARD
TZOFFSETFROM:+0000
TZOFFSETTO:+0000
TZNAME:UTC
DTSTART:20210101T000000
END:STANDARD
END:VTIMEZONE
BEGIN:VEVENT
DTSTART;TZID=UTC:20220908T080000
DTEND;TZID=UTC:20220916T170000
DTSTAMP:20260423T074644
CREATED:20220907T171136Z
LAST-MODIFIED:20220907T171136Z
UID:4319-1662624000-1663347600@alum.up.edu.ph
SUMMARY:CALL FOR NOMINATIONS TO THE GAWAD CHANCELLOR 2022
DESCRIPTION:The University of the Philippines Manila will celebrate the 40th UP Manila Day and the 43rd Anniversary of the Health Sciences Center Autonomy in the last week of October 2022.\n\nThe highlight of the celebration is the recognition of the outstanding achievements and performance of UP Manila constituents in different categories. We are inviting nominations for the following awards:\n\n1. Outstanding Teacher\n2. Outstanding Researcher\n3. Outstanding Faculty in Extension Service\n4. Outstanding Research\, Extension\, and Professional Staff (REPS)\n5. Outstanding Administrative Personnel (Second Level)\n6. Outstanding Administrative Personnel (First Level)\n7. Outstanding Student\n8. Outstanding Student Organization\n9. Outstanding Artist\n10. Outstanding Athlete\n\nThe nominees will be screened by the 2022 Gawad Chancellor Subcommittees for each category which were constituted through AO No. CCDP 2022-148.\n\nThe nomination should be submitted via google drive https://bit.ly/GoogledriveGAWADCHANCELLOR using the prescribed forms and with the required supporting documents no later than 16 September 2022\, Friday\, 5:00 pm.\n\nForms and guidelines for each category can be accessed at https://bit.ly/2022GawadChancellor\n\nThe Subcommittees are expected to submit on or before Friday\, 7 October 2022\, the results of their evaluations to the 2022 UP Manila Foundation Celebration Committee\, through its Chair\, Former Dean\, Dr. Danilo L. Magtanong of the College of Dentistry.
URL:https://alum.up.edu.ph/event/call-for-nominations-to-the-gawad-chancellor-2022/
END:VEVENT
BEGIN:VEVENT
DTSTART;TZID=UTC:20220911T130000
DTEND;TZID=UTC:20220911T180000
DTSTAMP:20260423T074644
CREATED:20220814T024023Z
LAST-MODIFIED:20220814T024023Z
UID:3702-1662901200-1662919200@alum.up.edu.ph
SUMMARY:Pharmacist-led Medication Safety Practices in the Philippines
DESCRIPTION:In celebration of the World Patient Safety Day 2022\, the Department of Pharmacy of the UP College of Pharmacy\, together with the UP College of Pharmacy Alumni Association\, is inviting you to an online seminar-workshop entitled: Pharmacist-led medication safety practices in the Philippines.\n\nThe event is scheduled on September 11 (Sunday) at 1-6PM with the following registration fees:\nRegular registration: PHP 600.00\nUPCP alumni: PHP 500.00\nUPCP Lifetime Member: Free\n\nOur speakers will share their knowledge and experiences in various pharmacist-led medication safety initiatives in different practice settings which will then be put into practice by our participants in a hands-on workshop. This program is being applied for PRC CPD units for Pharmacists.\n\nYou may click on this link to register: https://bit.ly/UPCP_MedSafetyCPD\n\nFurther details about the program are found in the registration link. We hope to see you there!\n\nSource: UP College of Pharmacy Facebook
URL:https://alum.up.edu.ph/event/pharmacist-led-medication-safety-practices-in-the-philippines/
END:VEVENT
END:VCALENDAR