BEGIN:VCALENDAR
VERSION:2.0
PRODID:-//UP Alumni Website - ECPv6.15.16//NONSGML v1.0//EN
CALSCALE:GREGORIAN
METHOD:PUBLISH
X-WR-CALNAME:UP Alumni Website
X-ORIGINAL-URL:https://alum.up.edu.ph
X-WR-CALDESC:Events for UP Alumni Website
REFRESH-INTERVAL;VALUE=DURATION:PT1H
X-Robots-Tag:noindex
X-PUBLISHED-TTL:PT1H
BEGIN:VTIMEZONE
TZID:UTC
BEGIN:STANDARD
TZOFFSETFROM:+0000
TZOFFSETTO:+0000
TZNAME:UTC
DTSTART:20210101T000000
END:STANDARD
END:VTIMEZONE
BEGIN:VEVENT
DTSTART;TZID=UTC:20220914T140000
DTEND;TZID=UTC:20221017T140000
DTSTAMP:20260423T083310
CREATED:20220905T034713Z
LAST-MODIFIED:20220905T034713Z
UID:4240-1663164000-1666015200@alum.up.edu.ph
SUMMARY:2022 UP Day of Remembrance Tugon at Tindig: Martial Law Memorial Tiktok Challenge (Social Media Platform)
DESCRIPTION:In September 2022\, the UP Diliman Office for Initiatives in Culture and the Arts (UPD-OICA) commemorates the 50th anniversary of the Martial Law imposition in 1972 through the project ML@50: Tugon at Tindig ng Sining. Through various programs such as film series\, webinars\, exhibitions\, and publications\, among others\, the project envisions to look in retrospect at this dark chapter of Philippine history and to acknowledge the threats that our current socio-political condition poses to education and history\, freedom of expression\, and protection of human rights.\n\nTugon at Tindig: Martial Law Memorial Tiktok Challenge (Social Media Platform)\nCollege of Mass Communication\n14 September 2022\, 2:00 p.m. (Launch)\n17 October 2022\, 2:00 p.m. (Announcement of Winners and Awarding)\n\nFor more information\, you may access this link bit.ly/ML50UPDiliman\n\nRead the Event’s Brochure\n\nFor further coordination\, please contact Ms. Christel Manalo at specialprojects_oica.upd@up.edu.ph
URL:https://alum.up.edu.ph/event/2022-up-day-of-remembrance-tugon-at-tindig-martial-law-memorial-tiktok-challenge-social-media-platform/
END:VEVENT
BEGIN:VEVENT
DTSTART;VALUE=DATE:20220915
DTEND;VALUE=DATE:20221001
DTSTAMP:20260423T083310
CREATED:20220905T032107Z
LAST-MODIFIED:20220905T034101Z
UID:4215-1663200000-1664582399@alum.up.edu.ph
SUMMARY:2022 UP Day of Remembrance (Kamao ang Hugis ng Puso: Neil Doloricon Retrospective)
DESCRIPTION:In September 2022\, the UP Diliman Office for Initiatives in Culture and the Arts (UPD-OICA) commemorates the 50th anniversary of the Martial Law imposition in 1972 through the project ML@50: Tugon at Tindig ng Sining. Through various programs such as film series\, webinars\, exhibitions\, and publications\, among others\, the project envisions to look in retrospect at this dark chapter of Philippine history and to acknowledge the threats that our current socio-political condition poses to education and history\, freedom of expression\, and protection of human rights.\n\nKamao ang Hugis ng Puso: Neil Doloricon Retrospective\nCollege of Fine Arts\n15-30 September 2022\nGallery One\, UP Fine Arts Gallery (Exhibit)\nAtrium or Front Lawn (Program)\n\nFor more information\, you may access this link bit.ly/ML50UPDiliman\n\nRead the Event’s Brochure\n\nFor further coordination\, please contact Ms. Christel Manalo at specialprojects_oica.upd@up.edu.ph
URL:https://alum.up.edu.ph/event/2022-up-day-of-remembrance-kamao-ang-hugis-ng-puso-neil-doloricon-retrospective/
END:VEVENT
BEGIN:VEVENT
DTSTART;VALUE=DATE:20220915
DTEND;VALUE=DATE:20221001
DTSTAMP:20260423T083310
CREATED:20220905T040150Z
LAST-MODIFIED:20220905T040150Z
UID:4263-1663200000-1664582399@alum.up.edu.ph
SUMMARY:2022 UP Day of Remembrance (OICA Learning Resource Dissemination and Social Media Campaign Project)
DESCRIPTION:In September 2022\, the UP Diliman Office for Initiatives in Culture and the Arts (UPD-OICA) commemorates the 50th anniversary of the Martial Law imposition in 1972 through the project ML@50: Tugon at Tindig ng Sining. Through various programs such as film series\, webinars\, exhibitions\, and publications\, among others\, the project envisions to look in retrospect at this dark chapter of Philippine history and to acknowledge the threats that our current socio-political condition poses to education and history\, freedom of expression\, and protection of human rights.\n\nOICA Learning Resource Dissemination and Social Media Campaign Project\nUPD-OICA\n15-30 September 2022\nOnline Campaign (UPD-OICA YouTube Channel and Facebook Page)\n\nFor more information\, you may access this link bit.ly/ML50UPDiliman\n\nRead the Event’s Brochure\n\nFor further coordination\, please contact Ms. Christel Manalo at specialprojects_oica.upd@up.edu.ph
URL:https://alum.up.edu.ph/event/2022-up-day-of-remembrance-oica-learning-resource-dissemination-and-social-media-campaign-project/
END:VEVENT
BEGIN:VEVENT
DTSTART;VALUE=DATE:20220921
DTEND;VALUE=DATE:20221010
DTSTAMP:20260423T083310
CREATED:20220905T035133Z
LAST-MODIFIED:20220905T035133Z
UID:4244-1663718400-1665359999@alum.up.edu.ph
SUMMARY:2022 UP Day of Remembrance (Sining Protesta: Imahe at Tema\, Anyo at Pagkilos)
DESCRIPTION:In September 2022\, the UP Diliman Office for Initiatives in Culture and the Arts (UPD-OICA) commemorates the 50th anniversary of the Martial Law imposition in 1972 through the project ML@50: Tugon at Tindig ng Sining. Through various programs such as film series\, webinars\, exhibitions\, and publications\, among others\, the project envisions to look in retrospect at this dark chapter of Philippine history and to acknowledge the threats that our current socio-political condition poses to education and history\, freedom of expression\, and protection of human rights.\n\nSining Protesta: Imahe at Tema\, Anyo at Pagkilos\nBulZagan ng Dangal Museum & UPD-OICA\n21 Setyembre – 9 Oktubre 2022\nOutdoor Exhibition\nUPD Academic OYal\n\nFor more information\, you may access this link bit.ly/ML50UPDiliman\n\nRead the Event’s Brochure\n\nFor further coordination\, please contact Ms. Christel Manalo at specialprojects_oica.upd@up.edu.ph
URL:https://alum.up.edu.ph/event/2022-up-day-of-remembrance-sining-protesta-imahe-at-tema-anyo-at-pagkilos/
END:VEVENT
BEGIN:VEVENT
DTSTART;VALUE=DATE:20220923
DTEND;VALUE=DATE:20221001
DTSTAMP:20260423T083310
CREATED:20220918T235054Z
LAST-MODIFIED:20220918T235054Z
UID:4389-1663891200-1664582399@alum.up.edu.ph
SUMMARY:Himigsikan sa Jingle Magazine: Malayang Tipaan at Kuwentuhan
DESCRIPTION:Ang “Himigsikan sa Jingle Magazine: Malayang Tipaan at Kuwentuhan” ay muling ipalalabas ng UP Diliman Office for Initiatives in Culture and the Arts sa kanilang Facebook page at YouTube channel sa Setyembre 23-30.\n\nIto ay bahagi ng mga aktibidad ng UP Diliman para sa “ML@50: Tugon at Tindig ng Sining” bilang paggunita sa ika-50 anibersaryo ng deklarasyon ng Batas Militar sa Pilipinas ng rehimeng Marcos.
URL:https://alum.up.edu.ph/event/himigsikan-sa-jingle-magazine-malayang-tipaan-at-kuwentuhan/
END:VEVENT
BEGIN:VEVENT
DTSTART;TZID=UTC:20220926T130000
DTEND;TZID=UTC:20220926T150000
DTSTAMP:20260423T083310
CREATED:20220919T000008Z
LAST-MODIFIED:20220919T000008Z
UID:4410-1664197200-1664204400@alum.up.edu.ph
SUMMARY:Balangkas: NSTP Project Management Webinar Series
DESCRIPTION:The National Service Training Program (NSTP) Diliman Office will conduct the “Balangkas: NSTP Project Management Webinar Series” on September 26\, October 3\, and November 7\, from 1 to 3 p.m.\n\nTo join\, register at https://bit.ly/Balangkas or scan the QR code on the poster.\n\nThe webinar will also be streamed live on the NSTP YouTube channel (https://bit.ly/NSTP_UPD_YT).
URL:https://alum.up.edu.ph/event/balangkas-nstp-project-management-webinar-series/
END:VEVENT
BEGIN:VEVENT
DTSTART;TZID=UTC:20220926T140000
DTEND;TZID=UTC:20220926T160000
DTSTAMP:20260423T083310
CREATED:20220918T235330Z
LAST-MODIFIED:20220918T235600Z
UID:4397-1664200800-1664208000@alum.up.edu.ph
SUMMARY:Celebrate Life 2022
DESCRIPTION:In celebration of Suicide Prevention Month (September) and Mental Health Month (October)\, the UP Diliman Office of Counseling and Guidance (OCG) will hold the Celebrate Life 2022 on September 26\, October 3\, 10\, and 17\, at 2 p.m.\n\nCome and join us on September 26. You can register at https://bit.ly/CL2022-Webinar1\n\nFor updates\, visit the OCG Facebook page.
URL:https://alum.up.edu.ph/event/celebrate-life-2022/
END:VEVENT
BEGIN:VEVENT
DTSTART;TZID=UTC:20220926T160000
DTEND;TZID=UTC:20220926T180000
DTSTAMP:20260423T083310
CREATED:20220905T035822Z
LAST-MODIFIED:20220905T035822Z
UID:4254-1664208000-1664215200@alum.up.edu.ph
SUMMARY:2022 UP Day of Remembrance (KAL Bahaginan Research Forum: BANWAG: Sining sa Panahon ng Batas Militar\, Paglikha para sa Bayan at Kinabukasan)
DESCRIPTION:In September 2022\, the UP Diliman Office for Initiatives in Culture and the Arts (UPD-OICA) commemorates the 50th anniversary of the Martial Law imposition in 1972 through the project ML@50: Tugon at Tindig ng Sining. Through various programs such as film series\, webinars\, exhibitions\, and publications\, among others\, the project envisions to look in retrospect at this dark chapter of Philippine history and to acknowledge the threats that our current socio-political condition poses to education and history\, freedom of expression\, and protection of human rights.\n\nKAL Bahaginan Research Forum: BANWAG: Sining sa Panahon ng Batas Militar\, Paglikha para sa Bayan at Kinabukasan\nKolehiyo ng Arte at Literatura\n26-30 Setyembre 2022\, 4:00 n.h.\n\nFor more information\, you may access this link bit.ly/ML50UPDiliman\n\nRead the Event’s Brochure\n\nFor further coordination\, please contact Ms. Christel Manalo at specialprojects_oica.upd@up.edu.ph
URL:https://alum.up.edu.ph/event/2022-up-day-of-remembrance-kal-bahaginan-research-forum-banwag-sining-sa-panahon-ng-batas-militar-paglikha-para-sa-bayan-at-kinabukasan/
END:VEVENT
END:VCALENDAR