BEGIN:VCALENDAR
VERSION:2.0
PRODID:-//UP Alumni Website - ECPv6.15.16//NONSGML v1.0//EN
CALSCALE:GREGORIAN
METHOD:PUBLISH
X-WR-CALNAME:UP Alumni Website
X-ORIGINAL-URL:https://alum.up.edu.ph
X-WR-CALDESC:Events for UP Alumni Website
REFRESH-INTERVAL;VALUE=DURATION:PT1H
X-Robots-Tag:noindex
X-PUBLISHED-TTL:PT1H
BEGIN:VTIMEZONE
TZID:UTC
BEGIN:STANDARD
TZOFFSETFROM:+0000
TZOFFSETTO:+0000
TZNAME:UTC
DTSTART:20210101T000000
END:STANDARD
END:VTIMEZONE
BEGIN:VEVENT
DTSTART;TZID=UTC:20220914T140000
DTEND;TZID=UTC:20221017T140000
DTSTAMP:20260422T095257
CREATED:20220905T034713Z
LAST-MODIFIED:20220905T034713Z
UID:4240-1663164000-1666015200@alum.up.edu.ph
SUMMARY:2022 UP Day of Remembrance Tugon at Tindig: Martial Law Memorial Tiktok Challenge (Social Media Platform)
DESCRIPTION:In September 2022\, the UP Diliman Office for Initiatives in Culture and the Arts (UPD-OICA) commemorates the 50th anniversary of the Martial Law imposition in 1972 through the project ML@50: Tugon at Tindig ng Sining. Through various programs such as film series\, webinars\, exhibitions\, and publications\, among others\, the project envisions to look in retrospect at this dark chapter of Philippine history and to acknowledge the threats that our current socio-political condition poses to education and history\, freedom of expression\, and protection of human rights.\n\nTugon at Tindig: Martial Law Memorial Tiktok Challenge (Social Media Platform)\nCollege of Mass Communication\n14 September 2022\, 2:00 p.m. (Launch)\n17 October 2022\, 2:00 p.m. (Announcement of Winners and Awarding)\n\nFor more information\, you may access this link bit.ly/ML50UPDiliman\n\nRead the Event’s Brochure\n\nFor further coordination\, please contact Ms. Christel Manalo at specialprojects_oica.upd@up.edu.ph
URL:https://alum.up.edu.ph/event/2022-up-day-of-remembrance-tugon-at-tindig-martial-law-memorial-tiktok-challenge-social-media-platform/
END:VEVENT
BEGIN:VEVENT
DTSTART;VALUE=DATE:20220915
DTEND;VALUE=DATE:20221001
DTSTAMP:20260422T095257
CREATED:20220905T032107Z
LAST-MODIFIED:20220905T034101Z
UID:4215-1663200000-1664582399@alum.up.edu.ph
SUMMARY:2022 UP Day of Remembrance (Kamao ang Hugis ng Puso: Neil Doloricon Retrospective)
DESCRIPTION:In September 2022\, the UP Diliman Office for Initiatives in Culture and the Arts (UPD-OICA) commemorates the 50th anniversary of the Martial Law imposition in 1972 through the project ML@50: Tugon at Tindig ng Sining. Through various programs such as film series\, webinars\, exhibitions\, and publications\, among others\, the project envisions to look in retrospect at this dark chapter of Philippine history and to acknowledge the threats that our current socio-political condition poses to education and history\, freedom of expression\, and protection of human rights.\n\nKamao ang Hugis ng Puso: Neil Doloricon Retrospective\nCollege of Fine Arts\n15-30 September 2022\nGallery One\, UP Fine Arts Gallery (Exhibit)\nAtrium or Front Lawn (Program)\n\nFor more information\, you may access this link bit.ly/ML50UPDiliman\n\nRead the Event’s Brochure\n\nFor further coordination\, please contact Ms. Christel Manalo at specialprojects_oica.upd@up.edu.ph
URL:https://alum.up.edu.ph/event/2022-up-day-of-remembrance-kamao-ang-hugis-ng-puso-neil-doloricon-retrospective/
END:VEVENT
BEGIN:VEVENT
DTSTART;VALUE=DATE:20220915
DTEND;VALUE=DATE:20221001
DTSTAMP:20260422T095257
CREATED:20220905T040150Z
LAST-MODIFIED:20220905T040150Z
UID:4263-1663200000-1664582399@alum.up.edu.ph
SUMMARY:2022 UP Day of Remembrance (OICA Learning Resource Dissemination and Social Media Campaign Project)
DESCRIPTION:In September 2022\, the UP Diliman Office for Initiatives in Culture and the Arts (UPD-OICA) commemorates the 50th anniversary of the Martial Law imposition in 1972 through the project ML@50: Tugon at Tindig ng Sining. Through various programs such as film series\, webinars\, exhibitions\, and publications\, among others\, the project envisions to look in retrospect at this dark chapter of Philippine history and to acknowledge the threats that our current socio-political condition poses to education and history\, freedom of expression\, and protection of human rights.\n\nOICA Learning Resource Dissemination and Social Media Campaign Project\nUPD-OICA\n15-30 September 2022\nOnline Campaign (UPD-OICA YouTube Channel and Facebook Page)\n\nFor more information\, you may access this link bit.ly/ML50UPDiliman\n\nRead the Event’s Brochure\n\nFor further coordination\, please contact Ms. Christel Manalo at specialprojects_oica.upd@up.edu.ph
URL:https://alum.up.edu.ph/event/2022-up-day-of-remembrance-oica-learning-resource-dissemination-and-social-media-campaign-project/
END:VEVENT
BEGIN:VEVENT
DTSTART;VALUE=DATE:20220921
DTEND;VALUE=DATE:20221010
DTSTAMP:20260422T095257
CREATED:20220905T035133Z
LAST-MODIFIED:20220905T035133Z
UID:4244-1663718400-1665359999@alum.up.edu.ph
SUMMARY:2022 UP Day of Remembrance (Sining Protesta: Imahe at Tema\, Anyo at Pagkilos)
DESCRIPTION:In September 2022\, the UP Diliman Office for Initiatives in Culture and the Arts (UPD-OICA) commemorates the 50th anniversary of the Martial Law imposition in 1972 through the project ML@50: Tugon at Tindig ng Sining. Through various programs such as film series\, webinars\, exhibitions\, and publications\, among others\, the project envisions to look in retrospect at this dark chapter of Philippine history and to acknowledge the threats that our current socio-political condition poses to education and history\, freedom of expression\, and protection of human rights.\n\nSining Protesta: Imahe at Tema\, Anyo at Pagkilos\nBulZagan ng Dangal Museum & UPD-OICA\n21 Setyembre – 9 Oktubre 2022\nOutdoor Exhibition\nUPD Academic OYal\n\nFor more information\, you may access this link bit.ly/ML50UPDiliman\n\nRead the Event’s Brochure\n\nFor further coordination\, please contact Ms. Christel Manalo at specialprojects_oica.upd@up.edu.ph
URL:https://alum.up.edu.ph/event/2022-up-day-of-remembrance-sining-protesta-imahe-at-tema-anyo-at-pagkilos/
END:VEVENT
BEGIN:VEVENT
DTSTART;VALUE=DATE:20220923
DTEND;VALUE=DATE:20221001
DTSTAMP:20260422T095257
CREATED:20220918T235054Z
LAST-MODIFIED:20220918T235054Z
UID:4389-1663891200-1664582399@alum.up.edu.ph
SUMMARY:Himigsikan sa Jingle Magazine: Malayang Tipaan at Kuwentuhan
DESCRIPTION:Ang “Himigsikan sa Jingle Magazine: Malayang Tipaan at Kuwentuhan” ay muling ipalalabas ng UP Diliman Office for Initiatives in Culture and the Arts sa kanilang Facebook page at YouTube channel sa Setyembre 23-30.\n\nIto ay bahagi ng mga aktibidad ng UP Diliman para sa “ML@50: Tugon at Tindig ng Sining” bilang paggunita sa ika-50 anibersaryo ng deklarasyon ng Batas Militar sa Pilipinas ng rehimeng Marcos.
URL:https://alum.up.edu.ph/event/himigsikan-sa-jingle-magazine-malayang-tipaan-at-kuwentuhan/
END:VEVENT
BEGIN:VEVENT
DTSTART;VALUE=DATE:20220927
DTEND;VALUE=DATE:20221008
DTSTAMP:20260422T095257
CREATED:20220926T170736Z
LAST-MODIFIED:20220926T205625Z
UID:4571-1664236800-1665187199@alum.up.edu.ph
SUMMARY:SINING PROTESTA: Poster Art Contest
DESCRIPTION:Bilang sangay na proyekto ng outdoor exhibition na “Sining Protesta: Imahe at Tema\, Anyo at Pagkilos\,” inaanyayahan sa Poster Art Contest ang pagsusumite ng poster art— tradisyunal man o digital—na nagpapalawak at nagpapalawig ng mga ideya at konsepto na tinalakay sa outdoor exhibition at ng mga artwork na itinampok dito. Bukas ang poster collage contest sa lahat ng aktibong mag-aaral ng UP sa antas na di-gradwado\, Grade 11\, at Grade 12.\n\nAng mga tuntunin ng contest ay nakapost sa OICA website (https://bit.ly/siningprotestaposterartcontest). Ang limang kalahok na mananalo ay makakakuha ng Php 6\,000 bawat isa. Para ipadala ang mga entry (deadline 7 Oktubre 2022)\, pumunta lamang sa bit.ly/SP2022Submission.\n\nPara sa karagdagang tanong\, maaaring magpadala ng email sa bulwaganngdangal.upd@up.edu.ph.
URL:https://alum.up.edu.ph/event/sining-protesta-poster-art-contest/
END:VEVENT
BEGIN:VEVENT
DTSTART;TZID=UTC:20220930T080000
DTEND;TZID=UTC:20220930T100000
DTSTAMP:20260422T095257
CREATED:20220927T182823Z
LAST-MODIFIED:20220927T182823Z
UID:4665-1664524800-1664532000@alum.up.edu.ph
SUMMARY:"Visayas Economy: Transitions\, Trends\, and Outlook in the New Normal"
DESCRIPTION:The Philippine Economic Society (PES)\, in partnership with the University of the Philippines Visayas\, the University of San Carlos\, and Visayas State University\, will be holding the PES Visayas Forum 2022 on 30 September 2022 at 8AM via Zoom. This year’s forum is “Visayas Economy: Transitions\, Trends\, and Outlook in the New Normal.\n\nSource: University of the Philippines Visayas Facebook
URL:https://alum.up.edu.ph/event/visayas-economy-transitions-trends-and-outlook-in-the-new-normal/
END:VEVENT
BEGIN:VEVENT
DTSTART;TZID=UTC:20220930T100000
DTEND;TZID=UTC:20220930T170000
DTSTAMP:20260422T095257
CREATED:20220918T220114Z
LAST-MODIFIED:20220926T171126Z
UID:4365-1664532000-1664557200@alum.up.edu.ph
SUMMARY:ML@50 Kwentong Mulat
DESCRIPTION:Catch the launch of ML@50 Kwentong Mulat Virtual and Onsite Tour on 30 SETYEMBRE 2022\, brought to you by the UP Asian Institute of Tourism as part of the commemoration of the 50th anniversary of the declaration of Martial Law.\n\nThis project aspires to expand the reach and breadth of the walking tour and incorporate the strength of tourism in the narratives of the history of nation-building\, class formation\, and academic freedom.\n\nFor more information\, visit the Facebook page of the UP Asian Institute of Tourism.\n\nSee more events of ML@50: Tugon at Tindig ng Sining: bit.ly/ML50UPDiliman
URL:https://alum.up.edu.ph/event/ml50-kwentong-mulat/
END:VEVENT
BEGIN:VEVENT
DTSTART;TZID=UTC:20220930T120000
DTEND;TZID=UTC:20220930T140000
DTSTAMP:20260422T095257
CREATED:20220905T185537Z
LAST-MODIFIED:20220927T170324Z
UID:4274-1664539200-1664546400@alum.up.edu.ph
SUMMARY:Stop COVID Deaths Webinar #119 "CHILDREN WITH CANCER AND COVID-19"
DESCRIPTION:The University of the Philippines in partnership with\nUP Manila NIH National Telehealth Center and in cooperation with\nUP Philippine General Hospital\nwould like to invite you to join the Fight Against COVID-19! \n  \nRegistration slots are limited to this SPECIAL EDITION of\nthe STOP C.O.V.I.D. DEATHS Webinar Series.\n(Current COVID-19 problems; Other outbreaks; Viruses; Infections; Disasters)\nSo sign up NOW:\nbit.ly/StopCOVIDDeathsWebinar119 \n  \nWebinar #119\nSeptember 30\, 2022 (Friday) 12nn\nCHILDREN WITH CANCER AND COVID-19 \n\nPresenters:\nDR. MAE DOLENDO\nHead\, Children’s Cancer Institute\nSouthern Philippines Medical Center\n\nSHALOM REA BERNALES\nChild Life Officer (VisMin)\nKythe Foundation\, Inc.\n\n———————————————————–\n\nWebinar #119\nSeptember 30\, 2022\nCHILDREN WITH CANCER AND COVID-19 \n\nCOVID- 19 has many unseen impacts on the health of our children. A very special group\, are the children with cancer who are immunocompromised and have faced severe difficulties in getting accessing treatment and support for the many needs.\n\nAccording to the World Health Organization (WHO) in the Philippines\, there are about 4\,700 new cases of childhood cancer every year. Forty percent of these cases are leukemias – a condition that is treatable and compatible with life\, provided there is early diagnosis and chemotherapy is provided consistently at regular intervals. Despite this\, each year 1\,700 children die from leukemia in our country.\n\nWhat happened to all the children with cancer during the pandemic? What has happened to groups that provide support for various needs of these children and their families? The care-givers and parent of children with cancer face many challenges in transporting children to hospitals for treatment\, caring for other children\, and simply making ends meet.\n\nAs a group that is immunocompromised\, it is of critical importance that these children are vaccinated. How are we doing with vaccination of immunocompromised children with cancer?\n\nIn this episode of STOP COVID DEATHS\, we will feature a leading expert on pediatric oncology\, who is internationally recognized for her advocacy work: Dr. Mae Dolendo – head of the Children’s Cancer Unit at the Southern Philippines Medical Center in Davao City. On our panel will be Cebu-based Ms. Shalom Rea Bernales from the award-winning Kythe Foundation\, Inc. – one of the pioneering programs for children with cancer that started as a volunteer organization from the Ateneo University\, that is now a national organization – who will talk about the countless volunteers who have gone out of their way to make life a little easier for these children and their families. Special focus on helping these families prevent the onset of COVID-19 in their households to protect these children. The Synthesis and Closing Remarks will be delivered by Dr. Stella Marie L. Jose\, who is the Deputy Director for Health Operations of UP Philippine General Hospital.\n\nJoin us on your credible online community on Friday to learn more about the children with cancer. See you online!\n\nTogether\, we can STOP C.O.V.I.D. DEATHS!
URL:https://alum.up.edu.ph/event/stop-covid-deaths-webinar-119/
END:VEVENT
BEGIN:VEVENT
DTSTART;TZID=UTC:20220930T140000
DTEND;TZID=UTC:20220930T170000
DTSTAMP:20260422T095257
CREATED:20220919T001019Z
LAST-MODIFIED:20220919T001019Z
UID:4423-1664546400-1664557200@alum.up.edu.ph
SUMMARY:Data Analytics for Business
DESCRIPTION:The webinar “Data Analytics for Business” will be held on September 30\, Friday\, 2-5 p.m.\n\nThis is presented by the UP Diliman Extension Programs in Pampanga and Olongapo\, in partnership with NielsenIQ Philippines.\n\nTo join\, register at https://forms.gle/WpPLoNKLehfEshDN9 or scan the QR code on the poster.
URL:https://alum.up.edu.ph/event/data-analytics-for-business/
END:VEVENT
BEGIN:VEVENT
DTSTART;TZID=UTC:20220930T150000
DTEND;TZID=UTC:20220930T150000
DTSTAMP:20260422T095257
CREATED:20220921T001021Z
LAST-MODIFIED:20220921T001225Z
UID:4497-1664550000-1664550000@alum.up.edu.ph
SUMMARY:Memoria: An Online Exhibit of UP Heroes and Martyrs
DESCRIPTION:UP Manila is joining the UP DAY OF REMEMBRANCE on September 21\, 30\, and October 12. Students and faculty may participate in the activities set to highlight the University’s role as a champion of academic freedom as a beacon for hope and an advocate of human rights during the darkest days of democracy in the country.\n\nSeptember 21 – Ungkat: Usapang Aklat | Mga aklat tungkol sa Batas Militar\nhttps://www.upm.edu.ph/node/3979\nSeptember 30 – Memoria: An Online Exhibit of UP Heroes and Martyrs\nhttps://www.upm.edu.ph/node/3980\nOctober 12 – Danas: Human Library of Martial Law Victims\nhttps://www.upm.edu.ph/node/3981 \n—\n#SDG4📚 #QualityEducation\n#SDG16🕊️ #PeaceJusticeStrongInstitutions\n\nSource: UP Manila Facebook
URL:https://alum.up.edu.ph/event/memoria-an-online-exhibit-of-up-heroes-and-martyrs-30-september-2022/
END:VEVENT
BEGIN:VEVENT
DTSTART;TZID=UTC:20220930T150000
DTEND;TZID=UTC:20220930T170000
DTSTAMP:20260422T095257
CREATED:20220905T035348Z
LAST-MODIFIED:20220905T035348Z
UID:4248-1664550000-1664557200@alum.up.edu.ph
SUMMARY:2022 UP Day of Remembrance (Pagtindig: Mga Tala sa Papel ng Akademikong Larang ng Malikhaing Pagsulat\, Panitikan at Wika Kontra Batas Militar Hanggang Kasalukuyan)
DESCRIPTION:In September 2022\, the UP Diliman Office for Initiatives in Culture and the Arts (UPD-OICA) commemorates the 50th anniversary of the Martial Law imposition in 1972 through the project ML@50: Tugon at Tindig ng Sining. Through various programs such as film series\, webinars\, exhibitions\, and publications\, among others\, the project envisions to look in retrospect at this dark chapter of Philippine history and to acknowledge the threats that our current socio-political condition poses to education and history\, freedom of expression\, and protection of human rights.\n\nPagtindig: Mga Tala sa Papel ng Akademikong Larang ng Malikhaing Pagsulat\, Panitikan at Wika Kontra Batas Militar Hanggang Kasalukuyan\nDepartamento ng Filipino at Panitikan ng Pilipinas\n23\, 30 Setyembre 2022\, 3:00 – 5:00 n.h.\nMga Panayam at Koleksyon (Online)\n\nFor more information\, you may access this link bit.ly/ML50UPDiliman\n\nRead the Event’s Brochure\n\nFor further coordination\, please contact Ms. Christel Manalo at specialprojects_oica.upd@up.edu.ph
URL:https://alum.up.edu.ph/event/2022-up-day-of-remembrance-pagtindig-mga-tala-sa-papel-ng-akademikong-larang-ng-malikhaing-pagsulat-panitikan-at-wika-kontra-batas-militar-hanggang-kasalukuyan-2/
END:VEVENT
BEGIN:VEVENT
DTSTART;TZID=UTC:20220930T153000
DTEND;TZID=UTC:20220930T173000
DTSTAMP:20260422T095257
CREATED:20220919T000905Z
LAST-MODIFIED:20220919T000905Z
UID:4413-1664551800-1664559000@alum.up.edu.ph
SUMMARY:Sein~Umiral\, Entäußerung~Pagbuhos ng Loob: Pagtatagpo ng mga Wikang Aleman at Wikang Filipino
DESCRIPTION:Inaanyayahan ang lahat sa webinar na “Sein~Umiral\, Entäußerung~Pagbuhos ng Loob: Pagtatagpo ng mga Wikang Aleman at Wikang Filipino” sa darating na Setyembre 30\, Biyernes\, 3:30 n.h. sa pamamagitan ng Zoom.\n\nIto ay handog ng Larangan ng Panitikan ng UP Diliman Departamento ng Filipino at Panitikan ng Pilipinas bilang bahagi ng pagdiriwang ng Pandaigdigang Araw ng Pagsasalin.\n\nUpang makilahok\, magrehistro lamang sa https://up-edu.zoom.us/…/regi…/WN_l6g9J_4sTU-aLotwkB8gvg.\n\nMapapanood din ito nang live sa Larangan ng Panitikan Facebook page.
URL:https://alum.up.edu.ph/event/seinumiral-entauserungpagbuhos-ng-loob-pagtatagpo-ng-mga-wikang-aleman-at-wikang-filipino/
END:VEVENT
BEGIN:VEVENT
DTSTART;TZID=UTC:20220930T160000
DTEND;TZID=UTC:20220930T180000
DTSTAMP:20260422T095257
CREATED:20220905T040053Z
LAST-MODIFIED:20220905T040053Z
UID:4261-1664553600-1664560800@alum.up.edu.ph
SUMMARY:2022 UP Day of Remembrance (KAL Bahaginan Research Forum: BANWAG: Sining sa Panahon ng Batas Militar\, Paglikha para sa Bayan at Kinabukasan)
DESCRIPTION:In September 2022\, the UP Diliman Office for Initiatives in Culture and the Arts (UPD-OICA) commemorates the 50th anniversary of the Martial Law imposition in 1972 through the project ML@50: Tugon at Tindig ng Sining. Through various programs such as film series\, webinars\, exhibitions\, and publications\, among others\, the project envisions to look in retrospect at this dark chapter of Philippine history and to acknowledge the threats that our current socio-political condition poses to education and history\, freedom of expression\, and protection of human rights.\n\nKAL Bahaginan Research Forum: BANWAG: Sining sa Panahon ng Batas Militar\, Paglikha para sa Bayan at Kinabukasan\nKolehiyo ng Arte at Literatura\n26-30 Setyembre 2022\, 4:00 n.h.\n\nFor more information\, you may access this link bit.ly/ML50UPDiliman\n\nRead the Event’s Brochure\n\nFor further coordination\, please contact Ms. Christel Manalo at specialprojects_oica.upd@up.edu.ph
URL:https://alum.up.edu.ph/event/2022-up-day-of-remembrance-kal-bahaginan-research-forum-banwag-sining-sa-panahon-ng-batas-militar-paglikha-para-sa-bayan-at-kinabukasan-5/
END:VEVENT
END:VCALENDAR