BEGIN:VCALENDAR
VERSION:2.0
PRODID:-//UP Alumni Website - ECPv6.15.16//NONSGML v1.0//EN
CALSCALE:GREGORIAN
METHOD:PUBLISH
X-WR-CALNAME:UP Alumni Website
X-ORIGINAL-URL:https://alum.up.edu.ph
X-WR-CALDESC:Events for UP Alumni Website
REFRESH-INTERVAL;VALUE=DURATION:PT1H
X-Robots-Tag:noindex
X-PUBLISHED-TTL:PT1H
BEGIN:VTIMEZONE
TZID:UTC
BEGIN:STANDARD
TZOFFSETFROM:+0000
TZOFFSETTO:+0000
TZNAME:UTC
DTSTART:20210101T000000
END:STANDARD
END:VTIMEZONE
BEGIN:VEVENT
DTSTART;TZID=UTC:20220914T140000
DTEND;TZID=UTC:20221017T140000
DTSTAMP:20260422T162026
CREATED:20220905T034713Z
LAST-MODIFIED:20220905T034713Z
UID:4240-1663164000-1666015200@alum.up.edu.ph
SUMMARY:2022 UP Day of Remembrance Tugon at Tindig: Martial Law Memorial Tiktok Challenge (Social Media Platform)
DESCRIPTION:In September 2022\, the UP Diliman Office for Initiatives in Culture and the Arts (UPD-OICA) commemorates the 50th anniversary of the Martial Law imposition in 1972 through the project ML@50: Tugon at Tindig ng Sining. Through various programs such as film series\, webinars\, exhibitions\, and publications\, among others\, the project envisions to look in retrospect at this dark chapter of Philippine history and to acknowledge the threats that our current socio-political condition poses to education and history\, freedom of expression\, and protection of human rights.\n\nTugon at Tindig: Martial Law Memorial Tiktok Challenge (Social Media Platform)\nCollege of Mass Communication\n14 September 2022\, 2:00 p.m. (Launch)\n17 October 2022\, 2:00 p.m. (Announcement of Winners and Awarding)\n\nFor more information\, you may access this link bit.ly/ML50UPDiliman\n\nRead the Event’s Brochure\n\nFor further coordination\, please contact Ms. Christel Manalo at specialprojects_oica.upd@up.edu.ph
URL:https://alum.up.edu.ph/event/2022-up-day-of-remembrance-tugon-at-tindig-martial-law-memorial-tiktok-challenge-social-media-platform/
END:VEVENT
BEGIN:VEVENT
DTSTART;VALUE=DATE:20220921
DTEND;VALUE=DATE:20221010
DTSTAMP:20260422T162026
CREATED:20220905T035133Z
LAST-MODIFIED:20220905T035133Z
UID:4244-1663718400-1665359999@alum.up.edu.ph
SUMMARY:2022 UP Day of Remembrance (Sining Protesta: Imahe at Tema\, Anyo at Pagkilos)
DESCRIPTION:In September 2022\, the UP Diliman Office for Initiatives in Culture and the Arts (UPD-OICA) commemorates the 50th anniversary of the Martial Law imposition in 1972 through the project ML@50: Tugon at Tindig ng Sining. Through various programs such as film series\, webinars\, exhibitions\, and publications\, among others\, the project envisions to look in retrospect at this dark chapter of Philippine history and to acknowledge the threats that our current socio-political condition poses to education and history\, freedom of expression\, and protection of human rights.\n\nSining Protesta: Imahe at Tema\, Anyo at Pagkilos\nBulZagan ng Dangal Museum & UPD-OICA\n21 Setyembre – 9 Oktubre 2022\nOutdoor Exhibition\nUPD Academic OYal\n\nFor more information\, you may access this link bit.ly/ML50UPDiliman\n\nRead the Event’s Brochure\n\nFor further coordination\, please contact Ms. Christel Manalo at specialprojects_oica.upd@up.edu.ph
URL:https://alum.up.edu.ph/event/2022-up-day-of-remembrance-sining-protesta-imahe-at-tema-anyo-at-pagkilos/
END:VEVENT
BEGIN:VEVENT
DTSTART;VALUE=DATE:20221004
DTEND;VALUE=DATE:20221217
DTSTAMP:20260422T162026
CREATED:20220922T235104Z
LAST-MODIFIED:20220922T235104Z
UID:4529-1664841600-1671235199@alum.up.edu.ph
SUMMARY:A MEMORIAL FOR LOLA: An Expression of Self-Identity from Stitching Memories of Home
DESCRIPTION:A MEMORIAL FOR LOLA: An Expression of Self-Identity from Stitching Memories of Home\n\nA solo exhibition of BASIL MALICSI\n\nSINING MAKILING GALLERY\nDL Umali Hall\, UP Los Baños\nGallery hours: 8 AM to 6 PM\, Monday to Friday\nExhibit opens on 4 October 2022 and will run until 16 December 2022\n————————————\nExamining the labor and art of sewing as a meditative ritual that brings forth memories to memorialize loved ones\, Basil Malicsi utilizes the medium of retasos/fabric scraps through his creation of hard and soft sculpture installations.\n\nFeaturing 42 hand-stitched tapestries\, Malicsi takes us into the meditative and spellbinding ritual of sewing by using vibrant colors of yarns and threads to piece together fabric scraps from his studio as a fashion designer. Each collage tapestry was made during the two-year period of the pandemic which helped the artist maintain a healthy mental state during the quarantine period of the pandemic.\n\nEncouraging a dialogue between memorializing\, meditation and identity\, Malicsi creates a 10-ft high\, 16 ft x 16 ft area installation in the form of a labyrinth to recall his childhood memories with his home that he shared with his grandmother through the meditative ritual of sewing. The monumental structure\, along with the objects inside the labyrinth\, stands as a way of honoring his late grandmother and as a symbolic gesture that memories are bigger than our physical\, mental\, and spiritual psyche combined.\n\nInviting the viewer to understand\, visualize\, and feel every part of the space\, the artist enables the work to be tactile by encouraging the viewer to walk around and touch each of the pieces.\n\nSource: UPLB Office for Initiatives in Culture and the Arts Facebook
URL:https://alum.up.edu.ph/event/a-memorial-for-lola-an-expression-of-self-identity-from-stitching-memories-of-home/
END:VEVENT
BEGIN:VEVENT
DTSTART;TZID=UTC:20221009T053000
DTEND;TZID=UTC:20221009T120000
DTSTAMP:20260422T162026
CREATED:20220921T003456Z
LAST-MODIFIED:20220921T003456Z
UID:4503-1665293400-1665316800@alum.up.edu.ph
SUMMARY:UP Validus Amicitia Brotherhood "V4YkF5ST"
DESCRIPTION:UP Validus Amicitia Brotherhood invites everyone to join VAykFest Fun Ride.
URL:https://alum.up.edu.ph/event/up-validus-amicitia-brotherhood-v4ykf5st/
END:VEVENT
BEGIN:VEVENT
DTSTART;TZID=UTC:20221009T084500
DTEND;TZID=UTC:20221009T120000
DTSTAMP:20260422T162026
CREATED:20220927T023207Z
LAST-MODIFIED:20220927T023207Z
UID:4648-1665305100-1665316800@alum.up.edu.ph
SUMMARY:Research Series: Opening Research Frontiers for the Busy Practitioner
DESCRIPTION:In celebration of CAMP’s 60th anniversary\, we are offering 2 series of webinars to take us to new frontiers of scholarship.\n\nThe first series\, “Opening research frontiers for the busy practitioner\,” aims to enable practitioners and clinicians to engage in feasible\, scientifically sound and doable research projects. Get to know our speakers for the 3 sessions which will tackle the basics of writing case reports\, applied quantitative data analysis\, implementation science and grant writing.\n\nRegister for the research series through this link: https://tinyurl.com/CAMPTranscendResearch.\n\nThe deadline for availing of the package rate is October 6\, 2022 at 12:00PM! Additional details on registration may be seen here: https://tinyurl.com/CAMPTranscendResearchReminders\n\nNo CPD units will be issued for the first two sessions (October 8 and 9). You may\, however\, present your certificate of attendance to the PRC as proof of self-directed learning activities.\n\nFor any questions or concerns\, please contact us through email: upm-camp@up.edu.ph or send a message through the CAMP Facebook Page: https://www.facebook.com/UPMCAMPOfficial/\n\n#CAMPTranscend #60YearsofCAMP\n\nSource: UP College of Allied Medical Professions Facebook
URL:https://alum.up.edu.ph/event/research-series-opening-research-frontiers-for-the-busy-practitioner-2/
END:VEVENT
BEGIN:VEVENT
DTSTART;TZID=UTC:20221009T100000
DTEND;TZID=UTC:20221009T130000
DTSTAMP:20260422T162026
CREATED:20220922T235740Z
LAST-MODIFIED:20220922T235740Z
UID:4546-1665309600-1665320400@alum.up.edu.ph
SUMMARY:CEAT Alumni Homecoming & CEATAA General Assembly
DESCRIPTION:For more information\, please visit https://oar.uplb.edu.ph/loyalty-day/ld2022/
URL:https://alum.up.edu.ph/event/ceat-alumni-homecoming-ceataa-general-assembly/
END:VEVENT
BEGIN:VEVENT
DTSTART;TZID=UTC:20221009T120000
DTEND;TZID=UTC:20221009T140000
DTSTAMP:20260422T162026
CREATED:20220923T000113Z
LAST-MODIFIED:20220923T000113Z
UID:4548-1665316800-1665324000@alum.up.edu.ph
SUMMARY:104th UPLB Loyalty Day: Salo-salo
DESCRIPTION:EB Copeland Gym\n\nFor more information\, please visit https://oar.uplb.edu.ph/loyalty-day/ld2022/
URL:https://alum.up.edu.ph/event/104th-uplb-loyalty-day-salo-salo/
END:VEVENT
END:VCALENDAR