BEGIN:VCALENDAR
VERSION:2.0
PRODID:-//UP Alumni Website - ECPv6.15.16//NONSGML v1.0//EN
CALSCALE:GREGORIAN
METHOD:PUBLISH
X-WR-CALNAME:UP Alumni Website
X-ORIGINAL-URL:https://alum.up.edu.ph
X-WR-CALDESC:Events for UP Alumni Website
REFRESH-INTERVAL;VALUE=DURATION:PT1H
X-Robots-Tag:noindex
X-PUBLISHED-TTL:PT1H
BEGIN:VTIMEZONE
TZID:UTC
BEGIN:STANDARD
TZOFFSETFROM:+0000
TZOFFSETTO:+0000
TZNAME:UTC
DTSTART:20210101T000000
END:STANDARD
END:VTIMEZONE
BEGIN:VEVENT
DTSTART;TZID=UTC:20220914T140000
DTEND;TZID=UTC:20221017T140000
DTSTAMP:20260422T102828
CREATED:20220905T034713Z
LAST-MODIFIED:20220905T034713Z
UID:4240-1663164000-1666015200@alum.up.edu.ph
SUMMARY:2022 UP Day of Remembrance Tugon at Tindig: Martial Law Memorial Tiktok Challenge (Social Media Platform)
DESCRIPTION:In September 2022\, the UP Diliman Office for Initiatives in Culture and the Arts (UPD-OICA) commemorates the 50th anniversary of the Martial Law imposition in 1972 through the project ML@50: Tugon at Tindig ng Sining. Through various programs such as film series\, webinars\, exhibitions\, and publications\, among others\, the project envisions to look in retrospect at this dark chapter of Philippine history and to acknowledge the threats that our current socio-political condition poses to education and history\, freedom of expression\, and protection of human rights.\n\nTugon at Tindig: Martial Law Memorial Tiktok Challenge (Social Media Platform)\nCollege of Mass Communication\n14 September 2022\, 2:00 p.m. (Launch)\n17 October 2022\, 2:00 p.m. (Announcement of Winners and Awarding)\n\nFor more information\, you may access this link bit.ly/ML50UPDiliman\n\nRead the Event’s Brochure\n\nFor further coordination\, please contact Ms. Christel Manalo at specialprojects_oica.upd@up.edu.ph
URL:https://alum.up.edu.ph/event/2022-up-day-of-remembrance-tugon-at-tindig-martial-law-memorial-tiktok-challenge-social-media-platform/
END:VEVENT
BEGIN:VEVENT
DTSTART;VALUE=DATE:20221004
DTEND;VALUE=DATE:20221217
DTSTAMP:20260422T102828
CREATED:20220922T235104Z
LAST-MODIFIED:20220922T235104Z
UID:4529-1664841600-1671235199@alum.up.edu.ph
SUMMARY:A MEMORIAL FOR LOLA: An Expression of Self-Identity from Stitching Memories of Home
DESCRIPTION:A MEMORIAL FOR LOLA: An Expression of Self-Identity from Stitching Memories of Home\n\nA solo exhibition of BASIL MALICSI\n\nSINING MAKILING GALLERY\nDL Umali Hall\, UP Los Baños\nGallery hours: 8 AM to 6 PM\, Monday to Friday\nExhibit opens on 4 October 2022 and will run until 16 December 2022\n————————————\nExamining the labor and art of sewing as a meditative ritual that brings forth memories to memorialize loved ones\, Basil Malicsi utilizes the medium of retasos/fabric scraps through his creation of hard and soft sculpture installations.\n\nFeaturing 42 hand-stitched tapestries\, Malicsi takes us into the meditative and spellbinding ritual of sewing by using vibrant colors of yarns and threads to piece together fabric scraps from his studio as a fashion designer. Each collage tapestry was made during the two-year period of the pandemic which helped the artist maintain a healthy mental state during the quarantine period of the pandemic.\n\nEncouraging a dialogue between memorializing\, meditation and identity\, Malicsi creates a 10-ft high\, 16 ft x 16 ft area installation in the form of a labyrinth to recall his childhood memories with his home that he shared with his grandmother through the meditative ritual of sewing. The monumental structure\, along with the objects inside the labyrinth\, stands as a way of honoring his late grandmother and as a symbolic gesture that memories are bigger than our physical\, mental\, and spiritual psyche combined.\n\nInviting the viewer to understand\, visualize\, and feel every part of the space\, the artist enables the work to be tactile by encouraging the viewer to walk around and touch each of the pieces.\n\nSource: UPLB Office for Initiatives in Culture and the Arts Facebook
URL:https://alum.up.edu.ph/event/a-memorial-for-lola-an-expression-of-self-identity-from-stitching-memories-of-home/
END:VEVENT
BEGIN:VEVENT
DTSTART;TZID=UTC:20221010T130000
DTEND;TZID=UTC:20221010T160000
DTSTAMP:20260422T102828
CREATED:20221009T204501Z
LAST-MODIFIED:20221009T204501Z
UID:4797-1665406800-1665417600@alum.up.edu.ph
SUMMARY:Refuge or Refuse?: Afghan Refugees and Japan’s Racialized State Control
DESCRIPTION:The UP Diliman Asian Center\, in partnership with Japan Foundation Manila\, invites everyone to the webinar “Refuge or Refuse?: Afghan Refugees and Japan’s Racialized State Control” on Monday\, October 10\, 1-4 p.m. via Zoom.\n\nKnow more and register at bit.ly/refuge1010.
URL:https://alum.up.edu.ph/event/refuge-or-refuse-afghan-refugees-and-japans-racialized-state-control/
END:VEVENT
BEGIN:VEVENT
DTSTART;TZID=UTC:20221010T140000
DTEND;TZID=UTC:20221010T160000
DTSTAMP:20260422T102828
CREATED:20220918T235757Z
LAST-MODIFIED:20220918T235757Z
UID:4406-1665410400-1665417600@alum.up.edu.ph
SUMMARY:Celebrate Life 2022
DESCRIPTION:In celebration of Suicide Prevention Month (September) and Mental Health Month (October)\, the UP Diliman Office of Counseling and Guidance (OCG) will hold the Celebrate Life 2022 on September 26\, October 3\, 10\, and 17\, at 2 p.m.\n\nFor updates\, visit the OCG Facebook page.
URL:https://alum.up.edu.ph/event/celebrate-life-2022-3/
END:VEVENT
BEGIN:VEVENT
DTSTART;TZID=UTC:20221010T140000
DTEND;TZID=UTC:20221010T160000
DTSTAMP:20260422T102828
CREATED:20220926T211122Z
LAST-MODIFIED:20220926T211122Z
UID:4606-1665410400-1665417600@alum.up.edu.ph
SUMMARY:Bayanihan Common Module Topics Webinar Series
DESCRIPTION:The UP Diliman National Service Training Program (NSTP) Office will conduct the “Bayanihan Common Module Webinar Series” on September 5\, October 10\, and October 17 at 2 p.m. via Zoom.\n\nNSTP instructors and coordinators are encouraged to register at https://up-edu.zoom.us/…/tJIocu2pqDkjEt0Z26pxZtWHw4Wdub….\n\nStudents are asked to watch the livestream on the NSTP YouTube channel (https://bit.ly/NSTP_UPD_YT).\n\nEmail at nstpcurr.upd@up.edu.ph for inquiries
URL:https://alum.up.edu.ph/event/bayanihan-common-module-topics-webinar-series-4/
END:VEVENT
BEGIN:VEVENT
DTSTART;TZID=UTC:20221010T140000
DTEND;TZID=UTC:20221010T160000
DTSTAMP:20260422T102828
CREATED:20221009T204659Z
LAST-MODIFIED:20221009T204659Z
UID:4800-1665410400-1665417600@alum.up.edu.ph
SUMMARY:Kahandaan: Disaster Risk Reduction and Management
DESCRIPTION:The webinar “Kahandaan: Disaster Risk Reduction and Management” will be held on Monday\, October 10\, at 2 p.m. via Zoom and YouTube Live.\n\nThis is the second installment of the “Bayanihan Common Module Topics Webinar Series” of the UP Diliman National Service Training Program (NSTP).\n\nWatch the livestream at the NSTP YouTube channel (https://bit.ly/NSTP_UPD_YT).\n\nGet in touch with Carina Merin at nstpcurr.upd@up.edu.ph for inquiries.
URL:https://alum.up.edu.ph/event/kahandaan-disaster-risk-reduction-and-management/
END:VEVENT
BEGIN:VEVENT
DTSTART;TZID=UTC:20221010T140000
DTEND;TZID=UTC:20221010T160000
DTSTAMP:20260422T102828
CREATED:20221009T204758Z
LAST-MODIFIED:20221009T204758Z
UID:4803-1665410400-1665417600@alum.up.edu.ph
SUMMARY:IB Webinar Series: Elucidating the Role of Mesenchymal Biology During Mouse Urethral Masculinization
DESCRIPTION:Everyone is invited to the webinar “Elucidating the Role of Mesenchymal Biology During Mouse Urethral Masculinization” on Monday\, October 10\, at 2 p.m. via Zoom\, with resource speaker Alvin R. Acebedo\, PhD\, assistant professor from the UP Diliman Institute of Biology.\n\nTo join\, register at https://up-edu.zoom.us/…/tJUudOqopj8qE9N_r….
URL:https://alum.up.edu.ph/event/ib-webinar-series-elucidating-the-role-of-mesenchymal-biology-during-mouse-urethral-masculinization/
END:VEVENT
BEGIN:VEVENT
DTSTART;TZID=UTC:20221010T160000
DTEND;TZID=UTC:20221010T173000
DTSTAMP:20260422T102828
CREATED:20221009T213321Z
LAST-MODIFIED:20221009T213321Z
UID:4819-1665417600-1665423000@alum.up.edu.ph
SUMMARY:Webinar on Musculoskeletal Physiology
DESCRIPTION:A quarterly webinar sponsored by the department on various topics where international and local faculties are invited to highlight the latest in their field of expertise.\n\n10 October 2022 | 4:00 – 5:30 PM\nMeeting ID: 952 4423 4778   |    Passcode: 35532425\n\nSource: University of the Philippines Manila Facebook
URL:https://alum.up.edu.ph/event/webinar-on-musculoskeletal-physiology/
END:VEVENT
END:VCALENDAR