BEGIN:VCALENDAR
VERSION:2.0
PRODID:-//UP Alumni Website - ECPv6.15.16//NONSGML v1.0//EN
CALSCALE:GREGORIAN
METHOD:PUBLISH
X-WR-CALNAME:UP Alumni Website
X-ORIGINAL-URL:https://alum.up.edu.ph
X-WR-CALDESC:Events for UP Alumni Website
REFRESH-INTERVAL;VALUE=DURATION:PT1H
X-Robots-Tag:noindex
X-PUBLISHED-TTL:PT1H
BEGIN:VTIMEZONE
TZID:UTC
BEGIN:STANDARD
TZOFFSETFROM:+0000
TZOFFSETTO:+0000
TZNAME:UTC
DTSTART:20210101T000000
END:STANDARD
END:VTIMEZONE
BEGIN:VEVENT
DTSTART;TZID=UTC:20220914T140000
DTEND;TZID=UTC:20221017T140000
DTSTAMP:20260420T150743
CREATED:20220905T034713Z
LAST-MODIFIED:20220905T034713Z
UID:4240-1663164000-1666015200@alum.up.edu.ph
SUMMARY:2022 UP Day of Remembrance Tugon at Tindig: Martial Law Memorial Tiktok Challenge (Social Media Platform)
DESCRIPTION:In September 2022\, the UP Diliman Office for Initiatives in Culture and the Arts (UPD-OICA) commemorates the 50th anniversary of the Martial Law imposition in 1972 through the project ML@50: Tugon at Tindig ng Sining. Through various programs such as film series\, webinars\, exhibitions\, and publications\, among others\, the project envisions to look in retrospect at this dark chapter of Philippine history and to acknowledge the threats that our current socio-political condition poses to education and history\, freedom of expression\, and protection of human rights.\n\nTugon at Tindig: Martial Law Memorial Tiktok Challenge (Social Media Platform)\nCollege of Mass Communication\n14 September 2022\, 2:00 p.m. (Launch)\n17 October 2022\, 2:00 p.m. (Announcement of Winners and Awarding)\n\nFor more information\, you may access this link bit.ly/ML50UPDiliman\n\nRead the Event’s Brochure\n\nFor further coordination\, please contact Ms. Christel Manalo at specialprojects_oica.upd@up.edu.ph
URL:https://alum.up.edu.ph/event/2022-up-day-of-remembrance-tugon-at-tindig-martial-law-memorial-tiktok-challenge-social-media-platform/
END:VEVENT
BEGIN:VEVENT
DTSTART;VALUE=DATE:20221004
DTEND;VALUE=DATE:20221217
DTSTAMP:20260420T150743
CREATED:20220922T235104Z
LAST-MODIFIED:20220922T235104Z
UID:4529-1664841600-1671235199@alum.up.edu.ph
SUMMARY:A MEMORIAL FOR LOLA: An Expression of Self-Identity from Stitching Memories of Home
DESCRIPTION:A MEMORIAL FOR LOLA: An Expression of Self-Identity from Stitching Memories of Home\n\nA solo exhibition of BASIL MALICSI\n\nSINING MAKILING GALLERY\nDL Umali Hall\, UP Los Baños\nGallery hours: 8 AM to 6 PM\, Monday to Friday\nExhibit opens on 4 October 2022 and will run until 16 December 2022\n————————————\nExamining the labor and art of sewing as a meditative ritual that brings forth memories to memorialize loved ones\, Basil Malicsi utilizes the medium of retasos/fabric scraps through his creation of hard and soft sculpture installations.\n\nFeaturing 42 hand-stitched tapestries\, Malicsi takes us into the meditative and spellbinding ritual of sewing by using vibrant colors of yarns and threads to piece together fabric scraps from his studio as a fashion designer. Each collage tapestry was made during the two-year period of the pandemic which helped the artist maintain a healthy mental state during the quarantine period of the pandemic.\n\nEncouraging a dialogue between memorializing\, meditation and identity\, Malicsi creates a 10-ft high\, 16 ft x 16 ft area installation in the form of a labyrinth to recall his childhood memories with his home that he shared with his grandmother through the meditative ritual of sewing. The monumental structure\, along with the objects inside the labyrinth\, stands as a way of honoring his late grandmother and as a symbolic gesture that memories are bigger than our physical\, mental\, and spiritual psyche combined.\n\nInviting the viewer to understand\, visualize\, and feel every part of the space\, the artist enables the work to be tactile by encouraging the viewer to walk around and touch each of the pieces.\n\nSource: UPLB Office for Initiatives in Culture and the Arts Facebook
URL:https://alum.up.edu.ph/event/a-memorial-for-lola-an-expression-of-self-identity-from-stitching-memories-of-home/
END:VEVENT
BEGIN:VEVENT
DTSTART;VALUE=DATE:20221017
DTEND;VALUE=DATE:20221029
DTSTAMP:20260420T150743
CREATED:20221012T223459Z
LAST-MODIFIED:20221012T223459Z
UID:4939-1665964800-1667001599@alum.up.edu.ph
SUMMARY:UP Visayas Indigenous Peoples Month Celebration Video Exhibit
DESCRIPTION:This October 2022\, the Center for West Visayan Studies – UP Visayas will participate in the celebration of Indigenous Peoples Month.\n\nGani\, we are inviting everyone to participate in the various heartwarming activities with the theme “Advancing Cultural Heritage for a Strong Philippines”.\n\nKitaay kita!\n\nSource: Center for West Visayan Studies – UP Visayas Facebook
URL:https://alum.up.edu.ph/event/up-visayas-indigenous-peoples-month-celebration-video-exhibit/
END:VEVENT
BEGIN:VEVENT
DTSTART;TZID=UTC:20221017T080000
DTEND;TZID=UTC:20221017T170000
DTSTAMP:20260420T150743
CREATED:20221011T224707Z
LAST-MODIFIED:20221011T230612Z
UID:4861-1665993600-1666026000@alum.up.edu.ph
SUMMARY:UP Diliman Psychosocial Services Paghanap ng Ginhawa (Group Sessions)
DESCRIPTION:PAGHINGA\, PAHINGA AT PAGHANAP NG GINHAWA\n\nNarito ang mga programa ng PsycServ para sa mga estudyante\, guro at empleyado ng UP Diliman sa buwan ng Oktubre! Sama-sama nating ipagdiwang ang UP Mental Health Month at alamin paano huminga\, magpahinga at maghanap ng ginhawa sa gitna ng mga pagbabagong hinaharap at haharapin pa.\n\nAbangan ang mga sign-up links para dito na aming ipopost sa susunod na linggo:\nOct. 17 – paghanap ng ginhawa (group sessions)\nOct. 19 – paghinga at pahinga\n\n#UPMHM2022 #UPDPsycServ\n\nSource: UPD PsycServ Facebook
URL:https://alum.up.edu.ph/event/up-diliman-psychosocial-services-paghanap-ng-ginhawa-group-sessions/
END:VEVENT
BEGIN:VEVENT
DTSTART;TZID=UTC:20221017T100000
DTEND;TZID=UTC:20221017T120000
DTSTAMP:20260420T150743
CREATED:20221011T225945Z
LAST-MODIFIED:20221011T225945Z
UID:4878-1666000800-1666008000@alum.up.edu.ph
SUMMARY:Linguistics Graduate Students Research Colloquium
DESCRIPTION:The UP Diliman Department of Linguistics will conduct the “Linguistics Graduate Students Research Colloquium” on October 17\, Monday\, at 10 a.m. via Facebook and YouTube Live.\n\nThis is in celebration of the department’s centennial anniversary.\n\nWatch the livestream at the UP Department of Linguistics Facebook page and http://bit.ly/UPLinguisticsYT.\n\nEmail at linguistics.upd@up.edu.ph for more information.
URL:https://alum.up.edu.ph/event/linguistics-graduate-students-research-colloquium/
END:VEVENT
BEGIN:VEVENT
DTSTART;TZID=UTC:20221017T130000
DTEND;TZID=UTC:20221017T150000
DTSTAMP:20260420T150743
CREATED:20221011T230415Z
LAST-MODIFIED:20221011T230415Z
UID:4885-1666011600-1666018800@alum.up.edu.ph
SUMMARY:IB Webinar Series: Advancing Our Understanding of Disease Biology in Filipinos Using Residual Biological Specimens
DESCRIPTION:The webinar “Advancing Our Understanding of Disease Biology in Filipinos Using Residual Biological Specimens” will happen on October 17\, Monday\, at 1 p.m. via Zoom\, with guest speaker Ian Kim B. Tabios\, MD\, PhD\, an assistant professor from the UP Diliman Institute of Biology.\n\nTo join\, register at https://up-edu.zoom.us/…/tJcpf….
URL:https://alum.up.edu.ph/event/ib-webinar-series-advancing-our-understanding-of-disease-biology-in-filipinos-using-residual-biological-specimens/
END:VEVENT
BEGIN:VEVENT
DTSTART;TZID=UTC:20221017T140000
DTEND;TZID=UTC:20221017T160000
DTSTAMP:20260420T150743
CREATED:20220918T235828Z
LAST-MODIFIED:20220918T235828Z
UID:4408-1666015200-1666022400@alum.up.edu.ph
SUMMARY:Celebrate Life 2022
DESCRIPTION:In celebration of Suicide Prevention Month (September) and Mental Health Month (October)\, the UP Diliman Office of Counseling and Guidance (OCG) will hold the Celebrate Life 2022 on September 26\, October 3\, 10\, and 17\, at 2 p.m.\n\nFor updates\, visit the OCG Facebook page.
URL:https://alum.up.edu.ph/event/celebrate-life-2022-4/
END:VEVENT
BEGIN:VEVENT
DTSTART;TZID=UTC:20221017T140000
DTEND;TZID=UTC:20221017T160000
DTSTAMP:20260420T150743
CREATED:20220926T211151Z
LAST-MODIFIED:20220926T211151Z
UID:4609-1666015200-1666022400@alum.up.edu.ph
SUMMARY:Bayanihan Common Module Topics Webinar Series
DESCRIPTION:The UP Diliman National Service Training Program (NSTP) Office will conduct the “Bayanihan Common Module Webinar Series” on September 5\, October 10\, and October 17 at 2 p.m. via Zoom.\n\nNSTP instructors and coordinators are encouraged to register at https://up-edu.zoom.us/…/tJIocu2pqDkjEt0Z26pxZtWHw4Wdub….\n\nStudents are asked to watch the livestream on the NSTP YouTube channel (https://bit.ly/NSTP_UPD_YT).\n\nEmail at nstpcurr.upd@up.edu.ph for inquiries
URL:https://alum.up.edu.ph/event/bayanihan-common-module-topics-webinar-series-5/
END:VEVENT
BEGIN:VEVENT
DTSTART;TZID=UTC:20221017T140000
DTEND;TZID=UTC:20221017T160000
DTSTAMP:20260420T150743
CREATED:20221011T225736Z
LAST-MODIFIED:20221011T225736Z
UID:4876-1666015200-1666022400@alum.up.edu.ph
SUMMARY:Sexual Orientation\, Gender Identity\, Gender Expression\, and Sex Characteristics: A Primer
DESCRIPTION:In celebration of UP Pride 2022\, the UP Center for Women’s and Gender Studies will launch the “Sexual Orientation\, Gender Identity\, Gender Expression\, and Sex Characteristics: A Primer” on October 17\, Monday\, from 2 to 4 p.m. via Zoom.\n\nRegister at https://tinyurl.com/SOGIESCPrimer.
URL:https://alum.up.edu.ph/event/sexual-orientation-gender-identity-gender-expression-and-sex-characteristics-a-primer/
END:VEVENT
BEGIN:VEVENT
DTSTART;TZID=UTC:20221017T160000
DTEND;TZID=UTC:20221017T183000
DTSTAMP:20260420T150743
CREATED:20221011T224323Z
LAST-MODIFIED:20221011T224323Z
UID:4858-1666022400-1666031400@alum.up.edu.ph
SUMMARY:UPCA’s Urban October 2022 Institutions for Social and Environmental Justice: Assessing the Impacts of Urban Design and Infrastructure
DESCRIPTION:The Urban Design Studio Laboratory (UDSL) of the UP College of Architecture invites you to its annual Urban October Webinar. This year’s theme focuses on Institutions for Social and Environmental Justice: Assessing the Impacts of Urban Design and Infrastructure.\n\nUrban October is a series of global events for the promotion of a sustainable urban future called for by UN-Habitat. Urban October 2022 was launched during the global observance of the “World Habitat Day” on October 3\, and will end during the “World Cities Day” on October 31.\n\nUPCA’s Urban October Webinar will take place on October 17\, 2022 (Monday) from 4:00 PM to 6:30 PM via Zoom. Please follow this link to register: https://bit.ly/UPCA_UrbanOctober2022.\n\nThis event is free of charge and attendees will receive a Certificate of Attendance.\n\nFor inquiries\, kindly contact us through upca.extension.upd@up.edu.ph.\n\n@UNHABITAT #UrbanOctober #WorldHabitatDay #WorldCitiesDay\n\nSource: UP Diliman College of Architecture Facebook
URL:https://alum.up.edu.ph/event/upcas-urban-october-2022-institutions-for-social-and-environmental-justice-assessing-the-impacts-of-urban-design-and-infrastructure/
END:VEVENT
END:VCALENDAR