BEGIN:VCALENDAR
VERSION:2.0
PRODID:-//UP Alumni Website - ECPv6.15.16//NONSGML v1.0//EN
CALSCALE:GREGORIAN
METHOD:PUBLISH
X-WR-CALNAME:UP Alumni Website
X-ORIGINAL-URL:https://alum.up.edu.ph
X-WR-CALDESC:Events for UP Alumni Website
REFRESH-INTERVAL;VALUE=DURATION:PT1H
X-Robots-Tag:noindex
X-PUBLISHED-TTL:PT1H
BEGIN:VTIMEZONE
TZID:UTC
BEGIN:STANDARD
TZOFFSETFROM:+0000
TZOFFSETTO:+0000
TZNAME:UTC
DTSTART:20210101T000000
END:STANDARD
END:VTIMEZONE
BEGIN:VEVENT
DTSTART;VALUE=DATE:20221004
DTEND;VALUE=DATE:20221217
DTSTAMP:20260423T181411
CREATED:20220922T235104Z
LAST-MODIFIED:20220922T235104Z
UID:4529-1664841600-1671235199@alum.up.edu.ph
SUMMARY:A MEMORIAL FOR LOLA: An Expression of Self-Identity from Stitching Memories of Home
DESCRIPTION:A MEMORIAL FOR LOLA: An Expression of Self-Identity from Stitching Memories of Home\n\nA solo exhibition of BASIL MALICSI\n\nSINING MAKILING GALLERY\nDL Umali Hall\, UP Los Baños\nGallery hours: 8 AM to 6 PM\, Monday to Friday\nExhibit opens on 4 October 2022 and will run until 16 December 2022\n————————————\nExamining the labor and art of sewing as a meditative ritual that brings forth memories to memorialize loved ones\, Basil Malicsi utilizes the medium of retasos/fabric scraps through his creation of hard and soft sculpture installations.\n\nFeaturing 42 hand-stitched tapestries\, Malicsi takes us into the meditative and spellbinding ritual of sewing by using vibrant colors of yarns and threads to piece together fabric scraps from his studio as a fashion designer. Each collage tapestry was made during the two-year period of the pandemic which helped the artist maintain a healthy mental state during the quarantine period of the pandemic.\n\nEncouraging a dialogue between memorializing\, meditation and identity\, Malicsi creates a 10-ft high\, 16 ft x 16 ft area installation in the form of a labyrinth to recall his childhood memories with his home that he shared with his grandmother through the meditative ritual of sewing. The monumental structure\, along with the objects inside the labyrinth\, stands as a way of honoring his late grandmother and as a symbolic gesture that memories are bigger than our physical\, mental\, and spiritual psyche combined.\n\nInviting the viewer to understand\, visualize\, and feel every part of the space\, the artist enables the work to be tactile by encouraging the viewer to walk around and touch each of the pieces.\n\nSource: UPLB Office for Initiatives in Culture and the Arts Facebook
URL:https://alum.up.edu.ph/event/a-memorial-for-lola-an-expression-of-self-identity-from-stitching-memories-of-home/
END:VEVENT
BEGIN:VEVENT
DTSTART;VALUE=DATE:20221017
DTEND;VALUE=DATE:20221029
DTSTAMP:20260423T181411
CREATED:20221012T223459Z
LAST-MODIFIED:20221012T223459Z
UID:4939-1665964800-1667001599@alum.up.edu.ph
SUMMARY:UP Visayas Indigenous Peoples Month Celebration Video Exhibit
DESCRIPTION:This October 2022\, the Center for West Visayan Studies – UP Visayas will participate in the celebration of Indigenous Peoples Month.\n\nGani\, we are inviting everyone to participate in the various heartwarming activities with the theme “Advancing Cultural Heritage for a Strong Philippines”.\n\nKitaay kita!\n\nSource: Center for West Visayan Studies – UP Visayas Facebook
URL:https://alum.up.edu.ph/event/up-visayas-indigenous-peoples-month-celebration-video-exhibit/
END:VEVENT
BEGIN:VEVENT
DTSTART;TZID=UTC:20221019T090000
DTEND;TZID=UTC:20221021T163000
DTSTAMP:20260423T181411
CREATED:20220927T003221Z
LAST-MODIFIED:20220927T003221Z
UID:4633-1666170000-1666369800@alum.up.edu.ph
SUMMARY:Basic Statistics with Exploratory Data Analysis
DESCRIPTION:UP School of Statistics\, in collaboration with the University of the Philippines Statistical Center Research Foundation\, Inc. (UPSCRFI)\, is pleased to announce the School’s online training seminars in applied statistics this October 2022.\n\n𝐁𝐚𝐬𝐢𝐜 𝐒𝐭𝐚𝐭𝐢𝐬𝐭𝐢𝐜𝐬 𝐰𝐢𝐭𝐡 𝐄𝐱𝐩𝐥𝐨𝐫𝐚𝐭𝐨𝐫𝐲 𝐃𝐚𝐭𝐚 𝐀𝐧𝐚𝐥𝐲𝐬𝐢𝐬\n19–21 October 2022\n9:00 AM to 12:00 NN; 1:30 PM to 4:30 PM\n\n𝐈𝐧𝐭𝐫𝐨𝐝𝐮𝐜𝐭𝐢𝐨𝐧 𝐭𝐨 𝐑 𝐚𝐧𝐝 𝐃𝐚𝐭𝐚 𝐌𝐚𝐧𝐚𝐠𝐞𝐦𝐞𝐧𝐭 𝐔𝐬𝐢𝐧𝐠 𝐭𝐡𝐞 𝐓𝐢𝐝𝐲𝐯𝐞𝐫𝐬𝐞 𝐄𝐜𝐨𝐬𝐲𝐬𝐭𝐞𝐦\n26–28 October 2022\n9:00 AM to 12:00 NN; 1:30 PM to 4:30 PM\n\nThe training seminar fee for each module per participant is Php 5\,000. Discounted rates are available for individuals who will register for the two modules\, and for groups of at least 10 participants. Interested individuals and groups may register until 12 October 2022.\n\nRegister here: https://bit.ly/UPSSTrainings2022OctoberRegister\nSee more details: https://bit.ly/UPSSTrainings2022October\n\n—\n\nThe two modules aim to equip participants with the foundation in understanding Statistics\, and with the basics in using R\, one of the most popular platforms in doing statistical analysis.\n\nFaculty members of the UP School of Statistics with wide-ranging consulting and research experience will serve as resource persons. Certificate of completion will be awarded to participants upon successful completion of a module.\n\nFurther details about the training seminars may be found here: https://bit.ly/UPSSTrainings2022October.\n\nThank you very much and we look forward to seeing you in one of our training seminars!
URL:https://alum.up.edu.ph/event/basic-statistics-with-exploratory-data-analysis/
END:VEVENT
BEGIN:VEVENT
DTSTART;TZID=UTC:20221021T083000
DTEND;TZID=UTC:20221021T120000
DTSTAMP:20260423T181411
CREATED:20221005T033450Z
LAST-MODIFIED:20221005T033450Z
UID:4780-1666341000-1666353600@alum.up.edu.ph
SUMMARY:“Community Medicine: The Essence of Primary Health Care”
DESCRIPTION:The Philippine Academic Society of Social and Community Medicine\, Inc. (PASCOM) invites you to its 2022 Annual Conference with the theme “Community Medicine: The Essence of Primary Health Care”\n\n📅 October 14\, 15\, 21\, and 22 (Fridays and Saturdays)\n🕗 8:30 AM – 12:30 NN\n\nThis online activity is co-organized with the Community-Oriented Medical Education (COME) Unit of the University of the Philippines Manila – College of Medicine (UPCM).\n\nProgram of activities as well as invitation may be accessed at this link – https://bit.ly/PASCOM2022conf\n\nPlease see poster for details.
URL:https://alum.up.edu.ph/event/community-medicine-the-essence-of-primary-health-care-3/
END:VEVENT
BEGIN:VEVENT
DTSTART;TZID=UTC:20221021T120000
DTEND;TZID=UTC:20221021T140000
DTSTAMP:20260423T181411
CREATED:20220926T211559Z
LAST-MODIFIED:20221018T233916Z
UID:4618-1666353600-1666360800@alum.up.edu.ph
SUMMARY:Stop COVID Deaths Webinar #122 "NAGMOMOTOR: LIGTAS KA BA?"
DESCRIPTION:The University of the Philippines in partnership with\nUP Manila NIH National Telehealth Center and in cooperation with\nUP Philippine General Hospital\nwould like to invite you to join the Fight Against COVID-19!\n\nRegistration slots are limited to this SPECIAL EDITION of\nthe STOP C.O.V.I.D. DEATHS Webinar Series.\n(Current COVID-19 problems; Other outbreaks; Viruses; Infections; Disasters)\nSo sign up NOW:\nbit.ly/StopCOVIDDeathsWebinar122\n\nWebinar #122\nOctober 21\, 2022 (Friday) 12nn\n“NAGMOMOTOR: LIGTAS KA BA?”\n\nPresenter:\nDr. Teodoro. J. Herbosa\nChair\, Department of Emergency Medicine\nUP Philippine General Hospital\n\nReactors:\nDr. John Juliard L. Go\nNational Professional Officer\nWorld Health Organization- Philippines\n\nMr. Antonio Pagulayan\nOIC Traffic Education Division\nMetropolitan Manila Development Authority\n\nSynthesis and Closing Remarks:\nDr. Dionne Sacdalan\nPGH Coordinator for Training\nUP Philippine General Hospital\n\n———————————————————–\n\nWebinar #122\nOctober 21\, 2022\n“NAGMOMOTOR: LIGTAS KA BA?”\n\nDriving through our major highways\, or even on the smaller side streets\, there are motorcycles everywhere: left\, right\, in front\, behind. This phenomenon is true not only in the big cities but in the smaller cities as well. Our streets are crowded with motorcycles. Admittedly\, it is a faster way to get around. With the skyrocketing prices of fuel\, it is a solution for those who can no longer afford to drive their cars. But how safe are these two-wheelers?\n\nWHO reports road traffic injuries are the leading cause of death for children and young adults aged 5-29 years. Approximately 1.3 million people die each year as a result of road traffic crashes. More than half of all road traffic deaths are among vulnerable road users: pedestrians\, cyclists\, and motorcyclists. Nearly 30% of all road crash deaths involve powered two- and three-wheeled vehicles\, such as motorcycles\, mopeds\, scooters and electric bikes (e-bikes)\, and the numbers are rising.\n\nOn October 11\, the World Health Organization and partners launched “Powered two-and three-wheeler safety: a road safety manual for decision-makers and practitioners” that includes guidelines on developing safer roads\, ensuring safer mobility for all road users\, vehicle safety standards and actions to improve emergency responses to crashes.\n\n“Globally\, key risk factors for motorcycle traffic injuries include drivers not wearing helmets\, speeding\, alcohol impairment\, mixed traffic conditions\, a lack of protection from the vehicle in a crash and a lack of safe infrastructure for powered two and three wheeled vehicles such as poor road surfaces and roadside hazards.”\n\nHow safe are motorcyclists in the Philippines? In this episode of STOP COVID DEATHS\, trauma surgeon\, Dr. Teodoro J. Herbosa\, Chair of the Department of Emergency Medicine at the UP Philippine General Hospital\, will share local data on motorcycle crashes based on reports from Philippine hospitals. He will discuss various injuries from two-wheeler crashes and recommendations to minimize risks for road traffic injuries. Dr. John Juliard L. Go\, National Professional Officer of the World Health Organization (WHO)- Philippines\, will talk about the work of WHO in supporting countries in making their roads safer\, while Mr. Antonio Pagulayan\, OIC of the Traffic Education Division of the Metropolitan Manila Development Authority (MMDA) will discuss challenges and solutions for road safety. The Synthesis and Closing Remarks will be delivered by PGH Coordinator for Training at UP Philippine General Hospital\, Dr. Dionne Sacdalan.\n\nJoin us in this exciting episode of STOP COVID DEATHS\, tackling road injuries – what we should know\, what we can do and how we can help stop unnecessary deaths from unsafe roads. See you online! Together\, we can STOP C.O.V.I.D. DEATHS!
URL:https://alum.up.edu.ph/event/stop-covid-deaths-webinar-122/
END:VEVENT
BEGIN:VEVENT
DTSTART;TZID=UTC:20221021T133000
DTEND;TZID=UTC:20221021T174500
DTSTAMP:20260423T181411
CREATED:20220926T211336Z
LAST-MODIFIED:20220926T211336Z
UID:4611-1666359000-1666374300@alum.up.edu.ph
SUMMARY:IV Jornadas de ELE en Manila
DESCRIPTION:The UP Diliman Department of European Languages invites everyone to the conference “IV Jornadas de ELE en Manila\,” with the theme “El vocabulario en tu clase de ELE.”\n\nThis will happen on October 21-22\, from 1:30 to 5:45 p.m. via Zoom.\n\nRegister at https://bit.ly/4jornadasELEmanila.
URL:https://alum.up.edu.ph/event/iv-jornadas-de-ele-en-manila/
END:VEVENT
BEGIN:VEVENT
DTSTART;TZID=UTC:20221021T140000
DTEND;TZID=UTC:20221021T203000
DTSTAMP:20260423T181411
CREATED:20221013T232625Z
LAST-MODIFIED:20221013T232625Z
UID:4958-1666360800-1666384200@alum.up.edu.ph
SUMMARY:CASadyahan: CAS 9 ka Dekada
DESCRIPTION:Dance and groove with us as CAS celebrates 9 fruitful decades on October 21\, 2022\, Friday\, at the UPV Auditorium\, Iloilo City Campus.\n\nMatinee: 2:00 PM – 4:00 PM\nGala: 6:30 PM – 8:30 PM\n\nSeats are LIMITED.\nReserve your seat now.\n\nContact CAS at (033) 315-9636.\n\nSource: University of the Philippines Visayas
URL:https://alum.up.edu.ph/event/casadyahan-cas-9-ka-dekada/
END:VEVENT
END:VCALENDAR