BEGIN:VCALENDAR
VERSION:2.0
PRODID:-//UP Alumni Website - ECPv6.15.16//NONSGML v1.0//EN
CALSCALE:GREGORIAN
METHOD:PUBLISH
X-WR-CALNAME:UP Alumni Website
X-ORIGINAL-URL:https://alum.up.edu.ph
X-WR-CALDESC:Events for UP Alumni Website
REFRESH-INTERVAL;VALUE=DURATION:PT1H
X-Robots-Tag:noindex
X-PUBLISHED-TTL:PT1H
BEGIN:VTIMEZONE
TZID:UTC
BEGIN:STANDARD
TZOFFSETFROM:+0000
TZOFFSETTO:+0000
TZNAME:UTC
DTSTART:20210101T000000
END:STANDARD
END:VTIMEZONE
BEGIN:VEVENT
DTSTART;VALUE=DATE:20221004
DTEND;VALUE=DATE:20221217
DTSTAMP:20260422T144805
CREATED:20220922T235104Z
LAST-MODIFIED:20220922T235104Z
UID:4529-1664841600-1671235199@alum.up.edu.ph
SUMMARY:A MEMORIAL FOR LOLA: An Expression of Self-Identity from Stitching Memories of Home
DESCRIPTION:A MEMORIAL FOR LOLA: An Expression of Self-Identity from Stitching Memories of Home\n\nA solo exhibition of BASIL MALICSI\n\nSINING MAKILING GALLERY\nDL Umali Hall\, UP Los Baños\nGallery hours: 8 AM to 6 PM\, Monday to Friday\nExhibit opens on 4 October 2022 and will run until 16 December 2022\n————————————\nExamining the labor and art of sewing as a meditative ritual that brings forth memories to memorialize loved ones\, Basil Malicsi utilizes the medium of retasos/fabric scraps through his creation of hard and soft sculpture installations.\n\nFeaturing 42 hand-stitched tapestries\, Malicsi takes us into the meditative and spellbinding ritual of sewing by using vibrant colors of yarns and threads to piece together fabric scraps from his studio as a fashion designer. Each collage tapestry was made during the two-year period of the pandemic which helped the artist maintain a healthy mental state during the quarantine period of the pandemic.\n\nEncouraging a dialogue between memorializing\, meditation and identity\, Malicsi creates a 10-ft high\, 16 ft x 16 ft area installation in the form of a labyrinth to recall his childhood memories with his home that he shared with his grandmother through the meditative ritual of sewing. The monumental structure\, along with the objects inside the labyrinth\, stands as a way of honoring his late grandmother and as a symbolic gesture that memories are bigger than our physical\, mental\, and spiritual psyche combined.\n\nInviting the viewer to understand\, visualize\, and feel every part of the space\, the artist enables the work to be tactile by encouraging the viewer to walk around and touch each of the pieces.\n\nSource: UPLB Office for Initiatives in Culture and the Arts Facebook
URL:https://alum.up.edu.ph/event/a-memorial-for-lola-an-expression-of-self-identity-from-stitching-memories-of-home/
END:VEVENT
BEGIN:VEVENT
DTSTART;VALUE=DATE:20221017
DTEND;VALUE=DATE:20221029
DTSTAMP:20260422T144805
CREATED:20221012T223459Z
LAST-MODIFIED:20221012T223459Z
UID:4939-1665964800-1667001599@alum.up.edu.ph
SUMMARY:UP Visayas Indigenous Peoples Month Celebration Video Exhibit
DESCRIPTION:This October 2022\, the Center for West Visayan Studies – UP Visayas will participate in the celebration of Indigenous Peoples Month.\n\nGani\, we are inviting everyone to participate in the various heartwarming activities with the theme “Advancing Cultural Heritage for a Strong Philippines”.\n\nKitaay kita!\n\nSource: Center for West Visayan Studies – UP Visayas Facebook
URL:https://alum.up.edu.ph/event/up-visayas-indigenous-peoples-month-celebration-video-exhibit/
END:VEVENT
BEGIN:VEVENT
DTSTART;TZID=UTC:20221025T080000
DTEND;TZID=UTC:20221025T170000
DTSTAMP:20260422T144805
CREATED:20221025T013959Z
LAST-MODIFIED:20221025T013959Z
UID:5146-1666684800-1666717200@alum.up.edu.ph
SUMMARY:LEVEL UP on Building Collaborative and Inclusive Working Relationships for Line and Emerging Managers
DESCRIPTION:Inaanyayahan ng UP Diliman (UPD) Human Resource Development Office ang mga kawani ng UPD na makilahok sa inihanda nitong apat na learning and development programs ngayong Nobyembre.\n\nAng apat na programang ito ay ang “Office of the Vice Chancellor for Administration Consultation Series: Virtual Dialogue on Policies and Processes in Transition to Post-pandemic Administrative Transactions” (Nobyembre 4\, 10 n.u.-4 n.h.)\, “Pride Webinar Series: Basic Financial Health” (Nobyembre 9\, 1-4 p.m.)\, “STEP UP on Human Resources for General Administrative Services and Clerical Work (Nobyembre 7-Disyembre 16)\, at ang LEVEL UP on Building Collaborative and Inclusive Working Relationships for Line and Emerging Managers” (Nobyembre 7-Disyembre 16).\n\nTingnan ang mga larawan para sa buong detalye.
URL:https://alum.up.edu.ph/event/level-up-on-building-collaborative-and-inclusive-working-relationships-for-line-and-emerging-managers/
END:VEVENT
BEGIN:VEVENT
DTSTART;TZID=UTC:20221025T090000
DTEND;TZID=UTC:20221025T160000
DTSTAMP:20260422T144805
CREATED:20221011T230902Z
LAST-MODIFIED:20221011T230902Z
UID:4891-1666688400-1666713600@alum.up.edu.ph
SUMMARY:UP Ikot Toki: Daniel Coquilla’s 30th One-Man Show Exhibit
DESCRIPTION:The opening of Daniel Coquilla’s 30th one-man show exhibit “UP Ikot Toki” will happen on October 25 at the Gallery Two of the UP Fine Arts Gallery.\n\nThe exhibit will run until November 18.\n\nEmail at cfagallery.upd@up.edu.ph to book an appointment.\n\nThe gallery is open for those with appointments\, from Wednesdays to Fridays\, from 9 a.m. to 4 p.m.
URL:https://alum.up.edu.ph/event/up-ikot-toki-daniel-coquillas-30th-one-man-show-exhibit/
END:VEVENT
BEGIN:VEVENT
DTSTART;TZID=UTC:20221025T130000
DTEND;TZID=UTC:20221025T160000
DTSTAMP:20260422T144805
CREATED:20221024T195110Z
LAST-MODIFIED:20221024T195110Z
UID:5078-1666702800-1666713600@alum.up.edu.ph
SUMMARY:Paghanap ng Ginhawa Group Sessions
DESCRIPTION:The UP Diliman (UPD) Psychosocial Services (PsycServ) invites the UPD constituents to join the “Paghanap ng Ginhawa Group Sessions” on October 24 and 25.\n\nThis is in celebration of the UP Mental Health Month 2022 with the theme “Paghinga\, Pahinga\, at Paghanap ng Ginhawa.”\n\nRegister at bit.ly/PsycServGROUP2022 or scan the QR code on the posters.\n\nFor updates\, visit the PsycServ Facebook page.
URL:https://alum.up.edu.ph/event/paghanap-ng-ginhawa-group-sessions/
END:VEVENT
BEGIN:VEVENT
DTSTART;TZID=UTC:20221025T130000
DTEND;TZID=UTC:20221025T160000
DTSTAMP:20260422T144805
CREATED:20221024T210431Z
LAST-MODIFIED:20221024T210431Z
UID:5098-1666702800-1666713600@alum.up.edu.ph
SUMMARY:The Future of Teaching and Learning in UP: An Unconference
DESCRIPTION:The UP Center for Integrative and Development Studies invites all UP faculty members to submit abstracts for “The Future of Teaching and Learning in UP: An Unconference\,” which will be held on October 28\, Friday\, 1-4 p.m.\, via Zoom.\n\nInterested faculty members may submit abstracts at bit.ly/UPHEEDForm until October 21.\n\nTo join the unconference\, register at bit.ly/UPHEEDRegistration.\n\nSee photo for more details.
URL:https://alum.up.edu.ph/event/the-future-of-teaching-and-learning-in-up-an-unconference/
END:VEVENT
END:VCALENDAR