BEGIN:VCALENDAR
VERSION:2.0
PRODID:-//UP Alumni Website - ECPv6.15.16//NONSGML v1.0//EN
CALSCALE:GREGORIAN
METHOD:PUBLISH
X-WR-CALNAME:UP Alumni Website
X-ORIGINAL-URL:https://alum.up.edu.ph
X-WR-CALDESC:Events for UP Alumni Website
REFRESH-INTERVAL;VALUE=DURATION:PT1H
X-Robots-Tag:noindex
X-PUBLISHED-TTL:PT1H
BEGIN:VTIMEZONE
TZID:UTC
BEGIN:STANDARD
TZOFFSETFROM:+0000
TZOFFSETTO:+0000
TZNAME:UTC
DTSTART:20210101T000000
END:STANDARD
END:VTIMEZONE
BEGIN:VEVENT
DTSTART;VALUE=DATE:20221004
DTEND;VALUE=DATE:20221217
DTSTAMP:20260424T063524
CREATED:20220922T235104Z
LAST-MODIFIED:20220922T235104Z
UID:4529-1664841600-1671235199@alum.up.edu.ph
SUMMARY:A MEMORIAL FOR LOLA: An Expression of Self-Identity from Stitching Memories of Home
DESCRIPTION:A MEMORIAL FOR LOLA: An Expression of Self-Identity from Stitching Memories of Home\n\nA solo exhibition of BASIL MALICSI\n\nSINING MAKILING GALLERY\nDL Umali Hall\, UP Los Baños\nGallery hours: 8 AM to 6 PM\, Monday to Friday\nExhibit opens on 4 October 2022 and will run until 16 December 2022\n————————————\nExamining the labor and art of sewing as a meditative ritual that brings forth memories to memorialize loved ones\, Basil Malicsi utilizes the medium of retasos/fabric scraps through his creation of hard and soft sculpture installations.\n\nFeaturing 42 hand-stitched tapestries\, Malicsi takes us into the meditative and spellbinding ritual of sewing by using vibrant colors of yarns and threads to piece together fabric scraps from his studio as a fashion designer. Each collage tapestry was made during the two-year period of the pandemic which helped the artist maintain a healthy mental state during the quarantine period of the pandemic.\n\nEncouraging a dialogue between memorializing\, meditation and identity\, Malicsi creates a 10-ft high\, 16 ft x 16 ft area installation in the form of a labyrinth to recall his childhood memories with his home that he shared with his grandmother through the meditative ritual of sewing. The monumental structure\, along with the objects inside the labyrinth\, stands as a way of honoring his late grandmother and as a symbolic gesture that memories are bigger than our physical\, mental\, and spiritual psyche combined.\n\nInviting the viewer to understand\, visualize\, and feel every part of the space\, the artist enables the work to be tactile by encouraging the viewer to walk around and touch each of the pieces.\n\nSource: UPLB Office for Initiatives in Culture and the Arts Facebook
URL:https://alum.up.edu.ph/event/a-memorial-for-lola-an-expression-of-self-identity-from-stitching-memories-of-home/
END:VEVENT
BEGIN:VEVENT
DTSTART;TZID=UTC:20221101T080000
DTEND;TZID=UTC:20221231T170000
DTSTAMP:20260424T063524
CREATED:20221024T211627Z
LAST-MODIFIED:20221024T212524Z
UID:5101-1667289600-1672506000@alum.up.edu.ph
SUMMARY:Balikwas: Tanaw. Tugon. Tindig.
DESCRIPTION:Inihahandog ng Dulaang UP (DUP) ang dalawang bagong dula at pagtatanghal\, “The Reconciliation Dinner” at ang “Kung Paano Nanalo sa Karera si Rosang Taba.”\n\nAng “The Reconciliation Dinner” na mula sa direksyon ni Dexter M. Santos ay itatanghal mula Nobyembre hanggang Disyembre at ang “Kung Paano Nanalo sa Karera si Rosang Taba” na mula sa direksyon ni José Estrella ay mula Pebrero hanggang Marso 2023.\n\nAng mga dulang ito ay bahagi ng ika-45 Theatre Season ng DUP na may temang “Balikwas: Tanaw. Tugon. Tindig.”\n\nMag-email lamang sa dulaangup.upd@up.edu.ph o tumawag sa 8981-9500 lokal 2449 para sa tickets\, showbuying\, at sponsorship.
URL:https://alum.up.edu.ph/event/balikwas-tanaw-tugon-tindig/
END:VEVENT
BEGIN:VEVENT
DTSTART;TZID=UTC:20221104T090000
DTEND;TZID=UTC:20221118T160000
DTSTAMP:20260424T063524
CREATED:20221106T180033Z
LAST-MODIFIED:20221106T180033Z
UID:5257-1667552400-1668787200@alum.up.edu.ph
SUMMARY:Tubig at Kalikasan 2: 8th Solo Exhibit of Photographs by Johnny Reynoso
DESCRIPTION:Johnny Reynoso\, a retired professor of the UP Diliman College of Fine Arts\, will hold a solo exhibit titled “Tubig at Kalikasan 2” at the UP Fine Arts Gallery from November 4 to 18.\n\nEmail cfagallery.upd@up.edu.ph to book an appointment.\n\nThe gallery also announced that it has extended its viewing hours starting and will be opened for those with appointments from Tuesdays to Saturdays\, 9 a.m.-4 p.m.
URL:https://alum.up.edu.ph/event/tubig-at-kalikasan-2-8th-solo-exhibit-of-photographs-by-johnny-reynoso/
END:VEVENT
BEGIN:VEVENT
DTSTART;VALUE=DATE:20221105
DTEND;VALUE=DATE:20230107
DTSTAMP:20260424T063524
CREATED:20221011T231207Z
LAST-MODIFIED:20221011T231207Z
UID:4894-1667606400-1673049599@alum.up.edu.ph
SUMMARY:"Teaching Nursing Informatics 3.0"
DESCRIPTION:The College of Nursing would like to invite nurses and nurse educators to join the “Teaching Nursing Informatics 3.0”\, which is part of our Designing Flexible Learning Program. It is an 8-week online course that will commence on November 5\, 2022. Please see poster for more details.\n\nTo register\, you may scan the QR code or access the link below: https://forms.gle/A94VYFw2oyz8ZjBN9.\n\nThank you and we hope to see you there!\n\nSource: UP College of Nursing Facebook
URL:https://alum.up.edu.ph/event/teaching-nursing-informatics-3-0/
END:VEVENT
BEGIN:VEVENT
DTSTART;TZID=UTC:20221107T100000
DTEND;TZID=UTC:20221216T160000
DTSTAMP:20260424T063524
CREATED:20221024T215930Z
LAST-MODIFIED:20221024T223020Z
UID:5117-1667815200-1671206400@alum.up.edu.ph
SUMMARY:STEP UP on Human Resources for General Administrative Services and Clerical Work
DESCRIPTION:Inaanyayahan ng UP Diliman (UPD) Human Resource Development Office ang mga kawani ng UPD na makilahok sa inihanda nitong apat na learning and development programs ngayong Nobyembre.\n\nAng apat na programang ito ay ang “Office of the Vice Chancellor for Administration Consultation Series: Virtual Dialogue on Policies and Processes in Transition to Post-pandemic Administrative Transactions” (Nobyembre 4\, 10 n.u.-4 n.h.)\, “Pride Webinar Series: Basic Financial Health” (Nobyembre 9\, 1-4 p.m.)\, “STEP UP on Human Resources for General Administrative Services and Clerical Work (Nobyembre 7-Disyembre 16)\, at ang LEVEL UP on Building Collaborative and Inclusive Working Relationships for Line and Emerging Managers” (Nobyembre 7-Disyembre 16).\n\nTingnan ang mga larawan para sa buong detalye.
URL:https://alum.up.edu.ph/event/step-up-on-human-resources-for-general-administrative-services-and-clerical-work/
END:VEVENT
BEGIN:VEVENT
DTSTART;TZID=UTC:20221114T090000
DTEND;TZID=UTC:20221114T153000
DTSTAMP:20260424T063524
CREATED:20221110T185242Z
LAST-MODIFIED:20221110T185242Z
UID:5402-1668416400-1668439800@alum.up.edu.ph
SUMMARY:Track 1.5 Dialogue on Marine Scientific Research (MSR): Comparing and Reviewing Approval Process and Framework
DESCRIPTION:The last installment of the three-part series “Track 1.5 Dialogue on Marine Scientific Research (MSR): Comparing and Reviewing Approval Process and Framework” will be held on November 14\, Monday\, from 9 a.m. to 3 p.m.\n\nThe event is organized by The UP Diliman Marine Science Institute\, Foundation for the National Interest\, the Marine Environment and Resources Foundation\, and the United States Embassy in the Philippines.
URL:https://alum.up.edu.ph/event/track-1-5-dialogue-on-marine-scientific-research-msr-comparing-and-reviewing-approval-process-and-framework/
END:VEVENT
BEGIN:VEVENT
DTSTART;TZID=UTC:20221114T090000
DTEND;TZID=UTC:20221114T170000
DTSTAMP:20260424T063524
CREATED:20221024T223113Z
LAST-MODIFIED:20221024T223113Z
UID:5143-1668416400-1668445200@alum.up.edu.ph
SUMMARY:HE Centennial National Conference: Redesigning the Material and Relational Aspects of Life through Home Economics
DESCRIPTION:The UP Diliman College of Home Economics will hold the HE Centennial National Conference\, with the theme “Redesigning the Material and Relational Aspects of Life through Home Economics\,” on November 14-15\, from 9 a.m. to 5 p.m. via Zoom.\n\nRegister at https://tinyurl.com/HEConferenceRegistration.\n\nFor more information\, visit tinyurl.com/HECentennialNationalConference.
URL:https://alum.up.edu.ph/event/he-centennial-national-conference-redesigning-the-material-and-relational-aspects-of-life-through-home-economics/
END:VEVENT
BEGIN:VEVENT
DTSTART;TZID=UTC:20221114T093000
DTEND;TZID=UTC:20221114T123000
DTSTAMP:20260424T063524
CREATED:20221110T185403Z
LAST-MODIFIED:20221110T185403Z
UID:5406-1668418200-1668429000@alum.up.edu.ph
SUMMARY:SarUP! The Diliman Food Stroll
DESCRIPTION:The UP Diliman community is invited to join the “SarUP! The Diliman Food Stroll” on November 14\, Monday\, from 9:30 a.m. to 12:30 p.m.\n\nThe food stroll will be conducted through a combination of walking and UP Ikot tour. It is a project of the third-year BS Tourism students\, in collaboration with the UP Diliman (UPD) Asian Institute of Tourism and UPD Office of the Vice Chancellor for Student Affairs.\n\nRegister at bit.ly/SarUP!RegistrationForm until Saturday\, November 5\, 11:59 p.m.
URL:https://alum.up.edu.ph/event/sarup-the-diliman-food-stroll/
END:VEVENT
BEGIN:VEVENT
DTSTART;TZID=UTC:20221114T130000
DTEND;TZID=UTC:20221119T160000
DTSTAMP:20260424T063524
CREATED:20220926T211810Z
LAST-MODIFIED:20220926T211827Z
UID:4624-1668430800-1668873600@alum.up.edu.ph
SUMMARY:Workers’ Institute on Labor Laws Class 184
DESCRIPTION:The UP Diliman School of Labor and Industrial Relations invites participants to the webinar “Workers’ Institute on Labor Laws Class 184” on November 14-19\, 1-4 p.m. via Zoom.\n\nRegister at https://forms.gle/QqVFzTxcrEnCAGbe6.\n\nFor reservation and inquiries\, email at solair@upd.edu.ph.
URL:https://alum.up.edu.ph/event/workers-institute-on-labor-laws-class-184/
END:VEVENT
BEGIN:VEVENT
DTSTART;TZID=UTC:20221114T150000
DTEND;TZID=UTC:20221114T163000
DTSTAMP:20260424T063524
CREATED:20221106T233955Z
LAST-MODIFIED:20221106T234002Z
UID:5307-1668438000-1668443400@alum.up.edu.ph
SUMMARY:Bioinformatics Lecture Series
DESCRIPTION:PGC Mindanao presents the much-awaited “𝗕𝗶𝗼𝗶𝗻𝗳𝗼𝗿𝗺𝗮𝘁𝗶𝗰𝘀 𝗟𝗲𝗰𝘁𝘂𝗿𝗲 𝗦𝗲𝗿𝗶𝗲𝘀”🧬 this November 2022. 🖧\n\nGet ready for the 𝗳𝗼𝘂𝗿 (𝟰) 𝗹𝗲𝗰𝘁𝘂𝗿𝗲𝘀 by our invited bioinformatics experts from all over the world! Once again\, this lecture series is free and open to all! 🥶\n\nMark your calendars -𝗲𝘃𝗲𝗿𝘆 𝗠𝗼𝗻𝗱𝗮𝘆 𝘁𝗵𝗶𝘀 𝗡𝗼𝘃𝗲𝗺𝗯𝗲𝗿.💥📅\n\nRegister here to get your slot: https://bit.ly/3sYBLWQ\n\nSource: Philippine Genome Center Mindanao Facebook
URL:https://alum.up.edu.ph/event/bioinformatics-lecture-series-bioethics-genomics-and-bioinformatics-three-intertwined-paths/
END:VEVENT
BEGIN:VEVENT
DTSTART;TZID=UTC:20221114T170000
DTEND;TZID=UTC:20221114T190000
DTSTAMP:20260424T063524
CREATED:20221113T214629Z
LAST-MODIFIED:20221113T214638Z
UID:5478-1668445200-1668452400@alum.up.edu.ph
SUMMARY:Bit Series: Programming with Python
DESCRIPTION:Everyone is invited to the workshop “Bit Series: Programming with Python” of the Institute of Electrical and Electronics Engineers UP Diliman Student Branch on November 14\, 16\, and 18.\n\nRegister at https://forms.gle/rz3ApkKWJ24D7uMb8.\n\nEmail operations.ieeeupdsb@gmail.com for inquiries.
URL:https://alum.up.edu.ph/event/bit-series-programming-with-python/
END:VEVENT
END:VCALENDAR