BEGIN:VCALENDAR
VERSION:2.0
PRODID:-//UP Alumni Website - ECPv6.15.16//NONSGML v1.0//EN
CALSCALE:GREGORIAN
METHOD:PUBLISH
X-WR-CALNAME:UP Alumni Website
X-ORIGINAL-URL:https://alum.up.edu.ph
X-WR-CALDESC:Events for UP Alumni Website
REFRESH-INTERVAL;VALUE=DURATION:PT1H
X-Robots-Tag:noindex
X-PUBLISHED-TTL:PT1H
BEGIN:VTIMEZONE
TZID:UTC
BEGIN:STANDARD
TZOFFSETFROM:+0000
TZOFFSETTO:+0000
TZNAME:UTC
DTSTART:20210101T000000
END:STANDARD
END:VTIMEZONE
BEGIN:VEVENT
DTSTART;VALUE=DATE:20221004
DTEND;VALUE=DATE:20221217
DTSTAMP:20260421T142203
CREATED:20220922T235104Z
LAST-MODIFIED:20220922T235104Z
UID:4529-1664841600-1671235199@alum.up.edu.ph
SUMMARY:A MEMORIAL FOR LOLA: An Expression of Self-Identity from Stitching Memories of Home
DESCRIPTION:A MEMORIAL FOR LOLA: An Expression of Self-Identity from Stitching Memories of Home\n\nA solo exhibition of BASIL MALICSI\n\nSINING MAKILING GALLERY\nDL Umali Hall\, UP Los Baños\nGallery hours: 8 AM to 6 PM\, Monday to Friday\nExhibit opens on 4 October 2022 and will run until 16 December 2022\n————————————\nExamining the labor and art of sewing as a meditative ritual that brings forth memories to memorialize loved ones\, Basil Malicsi utilizes the medium of retasos/fabric scraps through his creation of hard and soft sculpture installations.\n\nFeaturing 42 hand-stitched tapestries\, Malicsi takes us into the meditative and spellbinding ritual of sewing by using vibrant colors of yarns and threads to piece together fabric scraps from his studio as a fashion designer. Each collage tapestry was made during the two-year period of the pandemic which helped the artist maintain a healthy mental state during the quarantine period of the pandemic.\n\nEncouraging a dialogue between memorializing\, meditation and identity\, Malicsi creates a 10-ft high\, 16 ft x 16 ft area installation in the form of a labyrinth to recall his childhood memories with his home that he shared with his grandmother through the meditative ritual of sewing. The monumental structure\, along with the objects inside the labyrinth\, stands as a way of honoring his late grandmother and as a symbolic gesture that memories are bigger than our physical\, mental\, and spiritual psyche combined.\n\nInviting the viewer to understand\, visualize\, and feel every part of the space\, the artist enables the work to be tactile by encouraging the viewer to walk around and touch each of the pieces.\n\nSource: UPLB Office for Initiatives in Culture and the Arts Facebook
URL:https://alum.up.edu.ph/event/a-memorial-for-lola-an-expression-of-self-identity-from-stitching-memories-of-home/
END:VEVENT
BEGIN:VEVENT
DTSTART;TZID=UTC:20221101T080000
DTEND;TZID=UTC:20221231T170000
DTSTAMP:20260421T142203
CREATED:20221024T211627Z
LAST-MODIFIED:20221024T212524Z
UID:5101-1667289600-1672506000@alum.up.edu.ph
SUMMARY:Balikwas: Tanaw. Tugon. Tindig.
DESCRIPTION:Inihahandog ng Dulaang UP (DUP) ang dalawang bagong dula at pagtatanghal\, “The Reconciliation Dinner” at ang “Kung Paano Nanalo sa Karera si Rosang Taba.”\n\nAng “The Reconciliation Dinner” na mula sa direksyon ni Dexter M. Santos ay itatanghal mula Nobyembre hanggang Disyembre at ang “Kung Paano Nanalo sa Karera si Rosang Taba” na mula sa direksyon ni José Estrella ay mula Pebrero hanggang Marso 2023.\n\nAng mga dulang ito ay bahagi ng ika-45 Theatre Season ng DUP na may temang “Balikwas: Tanaw. Tugon. Tindig.”\n\nMag-email lamang sa dulaangup.upd@up.edu.ph o tumawag sa 8981-9500 lokal 2449 para sa tickets\, showbuying\, at sponsorship.
URL:https://alum.up.edu.ph/event/balikwas-tanaw-tugon-tindig/
END:VEVENT
BEGIN:VEVENT
DTSTART;VALUE=DATE:20221105
DTEND;VALUE=DATE:20230107
DTSTAMP:20260421T142203
CREATED:20221011T231207Z
LAST-MODIFIED:20221011T231207Z
UID:4894-1667606400-1673049599@alum.up.edu.ph
SUMMARY:"Teaching Nursing Informatics 3.0"
DESCRIPTION:The College of Nursing would like to invite nurses and nurse educators to join the “Teaching Nursing Informatics 3.0”\, which is part of our Designing Flexible Learning Program. It is an 8-week online course that will commence on November 5\, 2022. Please see poster for more details.\n\nTo register\, you may scan the QR code or access the link below: https://forms.gle/A94VYFw2oyz8ZjBN9.\n\nThank you and we hope to see you there!\n\nSource: UP College of Nursing Facebook
URL:https://alum.up.edu.ph/event/teaching-nursing-informatics-3-0/
END:VEVENT
BEGIN:VEVENT
DTSTART;TZID=UTC:20221107T100000
DTEND;TZID=UTC:20221216T160000
DTSTAMP:20260421T142203
CREATED:20221024T215930Z
LAST-MODIFIED:20221024T223020Z
UID:5117-1667815200-1671206400@alum.up.edu.ph
SUMMARY:STEP UP on Human Resources for General Administrative Services and Clerical Work
DESCRIPTION:Inaanyayahan ng UP Diliman (UPD) Human Resource Development Office ang mga kawani ng UPD na makilahok sa inihanda nitong apat na learning and development programs ngayong Nobyembre.\n\nAng apat na programang ito ay ang “Office of the Vice Chancellor for Administration Consultation Series: Virtual Dialogue on Policies and Processes in Transition to Post-pandemic Administrative Transactions” (Nobyembre 4\, 10 n.u.-4 n.h.)\, “Pride Webinar Series: Basic Financial Health” (Nobyembre 9\, 1-4 p.m.)\, “STEP UP on Human Resources for General Administrative Services and Clerical Work (Nobyembre 7-Disyembre 16)\, at ang LEVEL UP on Building Collaborative and Inclusive Working Relationships for Line and Emerging Managers” (Nobyembre 7-Disyembre 16).\n\nTingnan ang mga larawan para sa buong detalye.
URL:https://alum.up.edu.ph/event/step-up-on-human-resources-for-general-administrative-services-and-clerical-work/
END:VEVENT
BEGIN:VEVENT
DTSTART;TZID=UTC:20221119T090000
DTEND;TZID=UTC:20221209T160000
DTSTAMP:20260421T142203
CREATED:20221121T235225Z
LAST-MODIFIED:20221121T235225Z
UID:5755-1668848400-1670601600@alum.up.edu.ph
SUMMARY:Fotomoto 22: Home exhibition
DESCRIPTION:LOOK | Inst. Sam Sanchez is one of the exhibiting artists of the Fotomoto 22: Home exhibition at Parola UP Fine Arts Gallery from 19 November to 09 December 2022.\n\nHis photo entries “Working from home” and “After ‘Pablo’ New Bataan\, Davao de Oro” was selected to be displayed at the said exhibition. The exhibit is open from Tuesdays to Saturdays\, 9 AM – 4 PM. For individuals who want to visit\, book your reservation through their email cfagallery.upd.@up.edu.ph.\n\nThe Fotomoto 22: Home Exhibit was founded by Fotomoto\, a photographers’ collective based in Metro Manila whose goal is to promote Philippine photography as a manifestation of shared experiences and diverse perspectives. Further\, the group aims to foster conversation about photography’s role in our culture and exhibit ways to use the medium as an art form that expresses complex identities.\n\nLearn more about FotomotoPH 👉 https://fotomoto.ph/pages/about-fotomotoph\nVisit and follow their Instagram account 👉 https://www.instagram.com/fotomoto.ph\nView and purchase Sir Sam’s Fotomoto 22: Home entries 👉https://fotomoto.ph/collections/sam-sanchez\n\nDon’t miss out!\n\nSource: University of the Philippines Mindanao
URL:https://alum.up.edu.ph/event/fotomoto-22-home-exhibition/
END:VEVENT
BEGIN:VEVENT
DTSTART;TZID=UTC:20221121T080000
DTEND;TZID=UTC:20221125T170000
DTSTAMP:20260421T142203
CREATED:20221026T184730Z
LAST-MODIFIED:20221026T184730Z
UID:5183-1669017600-1669395600@alum.up.edu.ph
SUMMARY:Executive Course in Hospital Administration
DESCRIPTION:First-come\, first-served. This is our last short course offering on hospital administration for 2022. Registration link is https://bit.ly/ECHA_Nov22.\n\nSource: College of Public Health\, University of the Philippines Facebook
URL:https://alum.up.edu.ph/event/executive-course-in-hospital-administration/
END:VEVENT
BEGIN:VEVENT
DTSTART;TZID=UTC:20221121T080000
DTEND;TZID=UTC:20221206T120000
DTSTAMP:20260421T142203
CREATED:20221121T182248Z
LAST-MODIFIED:20221121T183010Z
UID:5669-1669017600-1670328000@alum.up.edu.ph
SUMMARY:Emission Inventory for Smaller Cities
DESCRIPTION:The fifth installment of the training program “Emission Inventory for Smaller Cities” will be held from November 21 to December 6 via Zoom.\n\nThis is organized by the UP Diliman National Center for Transportation Studies\, in cooperation with Clean Air Asia.\n\nInterested participants may submit their applications at https://bit.ly/EISC5_ApplicationForm until November 20.\n\nFor inquiries\, email at upncts.training.upd@up.edu.ph.
URL:https://alum.up.edu.ph/event/emission-inventory-for-smaller-cities/
END:VEVENT
BEGIN:VEVENT
DTSTART;TZID=UTC:20221122T080000
DTEND;TZID=UTC:20221122T100000
DTSTAMP:20260421T142203
CREATED:20221026T201211Z
LAST-MODIFIED:20221026T201211Z
UID:5194-1669104000-1669111200@alum.up.edu.ph
SUMMARY:UP-PGH Department of Psychiatry and Behavioral Medicine 15th Post-Graduate Course: Psychotherapy Essentials
DESCRIPTION:The UP-PGH Department of Psychiatry and Behavioral Medicine will be offering its 15th Post-Graduate Course: 𝙋𝙨𝙮𝙘𝙝𝙤𝙩𝙝𝙚𝙧𝙖𝙥𝙮 𝙀𝙨𝙨𝙚𝙣𝙩𝙞𝙖𝙡𝙨 on November 21-24\, 2022 via Zoom. 🧑‍💻\n\nThe post-graduate course will be FREE of charge.\n\nRegistration details to follow\n\nIt will be headed by 7 internationally renowned speakers in the field of psychotherapy. 🧠\n\nHere is the program line-up:\nNovember 21\, 2022\n8AM: Supportive Psychotherapy – Dr. Erin Crocker\n9AM: Overview of Psychodynamic Psychotherapy – Dr. Alma Jimenez\n\nNovember 22\, 2022\n8AM: Psychodynamic Considerations when Prescribing Psychotropic Medications – Dr. Cesar Alfonso\n9AM: Neurobiology of Psychotherapy – Dr. Gregory Quirk\n\nNovember 23\, 2022\n8AM: Cognitive Psychotherapy in Schizophrenia – Dr. Timothy Sullivan\n9AM: Safety Planning – Dr. Gia Maramba\n\nNovember 24\, 2022\n8AM: Religion\, Spirituality and Mental Health – Dr. Harold Koenig\n\nSource: UP-PGH Department of Psychiatry & Behavioral Medicine Facebook
URL:https://alum.up.edu.ph/event/up-pgh-department-of-psychiatry-and-behavioral-medicine-15th-post-graduate-course-psychotherapy-essentials-2/
END:VEVENT
BEGIN:VEVENT
DTSTART;TZID=UTC:20221122T080000
DTEND;TZID=UTC:20221122T170000
DTSTAMP:20260421T142203
CREATED:20221121T181502Z
LAST-MODIFIED:20221121T181502Z
UID:5659-1669104000-1669136400@alum.up.edu.ph
SUMMARY:Paglulunsad at Paglalayag
DESCRIPTION:In celebration of its 100th anniversary\, the UP Diliman Department of Linguistics will hold the program “Paglulunsad at Paglalayag” on November 22\, Tuesday\, 2:30 p.m.\, at the Palma Hall 2nd floor lobby.\n\nThe event is also in solidarity with the commemoration of the International Decade of Indigenous Languages.\n\nFor those who are interested to attend on-site\, email at linguistics.upd@up.edu.ph.
URL:https://alum.up.edu.ph/event/paglulunsad-at-paglalayag/
END:VEVENT
END:VCALENDAR