BEGIN:VCALENDAR
VERSION:2.0
PRODID:-//UP Alumni Website - ECPv6.15.16//NONSGML v1.0//EN
CALSCALE:GREGORIAN
METHOD:PUBLISH
X-WR-CALNAME:UP Alumni Website
X-ORIGINAL-URL:https://alum.up.edu.ph
X-WR-CALDESC:Events for UP Alumni Website
REFRESH-INTERVAL;VALUE=DURATION:PT1H
X-Robots-Tag:noindex
X-PUBLISHED-TTL:PT1H
BEGIN:VTIMEZONE
TZID:UTC
BEGIN:STANDARD
TZOFFSETFROM:+0000
TZOFFSETTO:+0000
TZNAME:UTC
DTSTART:20210101T000000
END:STANDARD
END:VTIMEZONE
BEGIN:VEVENT
DTSTART;VALUE=DATE:20221004
DTEND;VALUE=DATE:20221217
DTSTAMP:20260422T163211
CREATED:20220922T235104Z
LAST-MODIFIED:20220922T235104Z
UID:4529-1664841600-1671235199@alum.up.edu.ph
SUMMARY:A MEMORIAL FOR LOLA: An Expression of Self-Identity from Stitching Memories of Home
DESCRIPTION:A MEMORIAL FOR LOLA: An Expression of Self-Identity from Stitching Memories of Home\n\nA solo exhibition of BASIL MALICSI\n\nSINING MAKILING GALLERY\nDL Umali Hall\, UP Los Baños\nGallery hours: 8 AM to 6 PM\, Monday to Friday\nExhibit opens on 4 October 2022 and will run until 16 December 2022\n————————————\nExamining the labor and art of sewing as a meditative ritual that brings forth memories to memorialize loved ones\, Basil Malicsi utilizes the medium of retasos/fabric scraps through his creation of hard and soft sculpture installations.\n\nFeaturing 42 hand-stitched tapestries\, Malicsi takes us into the meditative and spellbinding ritual of sewing by using vibrant colors of yarns and threads to piece together fabric scraps from his studio as a fashion designer. Each collage tapestry was made during the two-year period of the pandemic which helped the artist maintain a healthy mental state during the quarantine period of the pandemic.\n\nEncouraging a dialogue between memorializing\, meditation and identity\, Malicsi creates a 10-ft high\, 16 ft x 16 ft area installation in the form of a labyrinth to recall his childhood memories with his home that he shared with his grandmother through the meditative ritual of sewing. The monumental structure\, along with the objects inside the labyrinth\, stands as a way of honoring his late grandmother and as a symbolic gesture that memories are bigger than our physical\, mental\, and spiritual psyche combined.\n\nInviting the viewer to understand\, visualize\, and feel every part of the space\, the artist enables the work to be tactile by encouraging the viewer to walk around and touch each of the pieces.\n\nSource: UPLB Office for Initiatives in Culture and the Arts Facebook
URL:https://alum.up.edu.ph/event/a-memorial-for-lola-an-expression-of-self-identity-from-stitching-memories-of-home/
END:VEVENT
BEGIN:VEVENT
DTSTART;TZID=UTC:20221101T080000
DTEND;TZID=UTC:20221231T170000
DTSTAMP:20260422T163211
CREATED:20221024T211627Z
LAST-MODIFIED:20221024T212524Z
UID:5101-1667289600-1672506000@alum.up.edu.ph
SUMMARY:Balikwas: Tanaw. Tugon. Tindig.
DESCRIPTION:Inihahandog ng Dulaang UP (DUP) ang dalawang bagong dula at pagtatanghal\, “The Reconciliation Dinner” at ang “Kung Paano Nanalo sa Karera si Rosang Taba.”\n\nAng “The Reconciliation Dinner” na mula sa direksyon ni Dexter M. Santos ay itatanghal mula Nobyembre hanggang Disyembre at ang “Kung Paano Nanalo sa Karera si Rosang Taba” na mula sa direksyon ni José Estrella ay mula Pebrero hanggang Marso 2023.\n\nAng mga dulang ito ay bahagi ng ika-45 Theatre Season ng DUP na may temang “Balikwas: Tanaw. Tugon. Tindig.”\n\nMag-email lamang sa dulaangup.upd@up.edu.ph o tumawag sa 8981-9500 lokal 2449 para sa tickets\, showbuying\, at sponsorship.
URL:https://alum.up.edu.ph/event/balikwas-tanaw-tugon-tindig/
END:VEVENT
BEGIN:VEVENT
DTSTART;VALUE=DATE:20221105
DTEND;VALUE=DATE:20230107
DTSTAMP:20260422T163211
CREATED:20221011T231207Z
LAST-MODIFIED:20221011T231207Z
UID:4894-1667606400-1673049599@alum.up.edu.ph
SUMMARY:"Teaching Nursing Informatics 3.0"
DESCRIPTION:The College of Nursing would like to invite nurses and nurse educators to join the “Teaching Nursing Informatics 3.0”\, which is part of our Designing Flexible Learning Program. It is an 8-week online course that will commence on November 5\, 2022. Please see poster for more details.\n\nTo register\, you may scan the QR code or access the link below: https://forms.gle/A94VYFw2oyz8ZjBN9.\n\nThank you and we hope to see you there!\n\nSource: UP College of Nursing Facebook
URL:https://alum.up.edu.ph/event/teaching-nursing-informatics-3-0/
END:VEVENT
BEGIN:VEVENT
DTSTART;TZID=UTC:20221107T100000
DTEND;TZID=UTC:20221216T160000
DTSTAMP:20260422T163211
CREATED:20221024T215930Z
LAST-MODIFIED:20221024T223020Z
UID:5117-1667815200-1671206400@alum.up.edu.ph
SUMMARY:STEP UP on Human Resources for General Administrative Services and Clerical Work
DESCRIPTION:Inaanyayahan ng UP Diliman (UPD) Human Resource Development Office ang mga kawani ng UPD na makilahok sa inihanda nitong apat na learning and development programs ngayong Nobyembre.\n\nAng apat na programang ito ay ang “Office of the Vice Chancellor for Administration Consultation Series: Virtual Dialogue on Policies and Processes in Transition to Post-pandemic Administrative Transactions” (Nobyembre 4\, 10 n.u.-4 n.h.)\, “Pride Webinar Series: Basic Financial Health” (Nobyembre 9\, 1-4 p.m.)\, “STEP UP on Human Resources for General Administrative Services and Clerical Work (Nobyembre 7-Disyembre 16)\, at ang LEVEL UP on Building Collaborative and Inclusive Working Relationships for Line and Emerging Managers” (Nobyembre 7-Disyembre 16).\n\nTingnan ang mga larawan para sa buong detalye.
URL:https://alum.up.edu.ph/event/step-up-on-human-resources-for-general-administrative-services-and-clerical-work/
END:VEVENT
BEGIN:VEVENT
DTSTART;TZID=UTC:20221119T090000
DTEND;TZID=UTC:20221209T160000
DTSTAMP:20260422T163211
CREATED:20221121T235225Z
LAST-MODIFIED:20221121T235225Z
UID:5755-1668848400-1670601600@alum.up.edu.ph
SUMMARY:Fotomoto 22: Home exhibition
DESCRIPTION:LOOK | Inst. Sam Sanchez is one of the exhibiting artists of the Fotomoto 22: Home exhibition at Parola UP Fine Arts Gallery from 19 November to 09 December 2022.\n\nHis photo entries “Working from home” and “After ‘Pablo’ New Bataan\, Davao de Oro” was selected to be displayed at the said exhibition. The exhibit is open from Tuesdays to Saturdays\, 9 AM – 4 PM. For individuals who want to visit\, book your reservation through their email cfagallery.upd.@up.edu.ph.\n\nThe Fotomoto 22: Home Exhibit was founded by Fotomoto\, a photographers’ collective based in Metro Manila whose goal is to promote Philippine photography as a manifestation of shared experiences and diverse perspectives. Further\, the group aims to foster conversation about photography’s role in our culture and exhibit ways to use the medium as an art form that expresses complex identities.\n\nLearn more about FotomotoPH 👉 https://fotomoto.ph/pages/about-fotomotoph\nVisit and follow their Instagram account 👉 https://www.instagram.com/fotomoto.ph\nView and purchase Sir Sam’s Fotomoto 22: Home entries 👉https://fotomoto.ph/collections/sam-sanchez\n\nDon’t miss out!\n\nSource: University of the Philippines Mindanao
URL:https://alum.up.edu.ph/event/fotomoto-22-home-exhibition/
END:VEVENT
BEGIN:VEVENT
DTSTART;TZID=UTC:20221121T080000
DTEND;TZID=UTC:20221206T120000
DTSTAMP:20260422T163211
CREATED:20221121T182248Z
LAST-MODIFIED:20221121T183010Z
UID:5669-1669017600-1670328000@alum.up.edu.ph
SUMMARY:Emission Inventory for Smaller Cities
DESCRIPTION:The fifth installment of the training program “Emission Inventory for Smaller Cities” will be held from November 21 to December 6 via Zoom.\n\nThis is organized by the UP Diliman National Center for Transportation Studies\, in cooperation with Clean Air Asia.\n\nInterested participants may submit their applications at https://bit.ly/EISC5_ApplicationForm until November 20.\n\nFor inquiries\, email at upncts.training.upd@up.edu.ph.
URL:https://alum.up.edu.ph/event/emission-inventory-for-smaller-cities/
END:VEVENT
BEGIN:VEVENT
DTSTART;VALUE=DATE:20221125
DTEND;VALUE=DATE:20221213
DTSTAMP:20260422T163211
CREATED:20221125T000719Z
LAST-MODIFIED:20221125T000719Z
UID:5915-1669334400-1670889599@alum.up.edu.ph
SUMMARY:UP Manila Center for Gender and Women Studies 18-Day Campaign to End Violence Against Women and Children
DESCRIPTION:The UP Manila Center for Gender and Women Studies will participate in the 18-Day Campaign to End Violence Against Women and Children from 25 November – 12 December 2022.\n\nIn support of the United Nations’ Sustainable Development Goal #SDG5 on Gender Equality and Inclusiveness\, the 18-Day Campaign to End VAW supports the goal of protecting the human rights of women and girls by upholding its commitment to address all forms of gender-based violence as enshrined in the 1987 Constitution.\n\nThe Center for Gender and Women Studies\, Crèche: UP Manila Early Childhood Care and Development Center\, and the Office of Anti-Sexual Harassment would like to invite everyone to the Opening Program.\n\nRegistration details: https://bit.ly/3EzYM7U\n\nDate: November 25\, 2022\, Friday\nTime: 2:00 PM – 4:00 PM\n\nYou may show your support for the campaign by using the following publication materials:\n1. EVAWC Poster\n2. EVAWC Zoom Background\n3. EVAWC Facebook Profile Frame\n4. EVAWC Facebook Banner\n\nSource: University of the Philippines Manila
URL:https://alum.up.edu.ph/event/up-manila-center-for-gender-and-women-studies-18-day-campaign-to-end-violence-against-women-and-children/
END:VEVENT
BEGIN:VEVENT
DTSTART;TZID=UTC:20221125T080000
DTEND;TZID=UTC:20221205T170000
DTSTAMP:20260422T163211
CREATED:20221123T000103Z
LAST-MODIFIED:20221123T000103Z
UID:5826-1669363200-1670259600@alum.up.edu.ph
SUMMARY:“Hangar\, A Sense of Place: A Transmedia Presentation of Hangar Vegetable Market\, Baguio”
DESCRIPTION:Spaces are what we make of them.\n\nWe would like to invite you to the opening of “Hangar\, A Sense of Place: A Transmedia Presentation of Hangar Vegetable Market\, Baguio” on November 25\, 2022\, 1PM at FA Room 101\, College of Arts and Communication\, University of the Philippines Baguio. The exhibit is the researcher’s creative project on Geohumanities.\n\nThe exhibit will run from November 25 to December 5\, 2022.\n\nBenjamin Meamo III is an instructor in communication at the Department of Communication\, College of Arts and Communication\, University of the Philippines Baguio.\n\nSource: UPB College of Arts and Communication Facebook
URL:https://alum.up.edu.ph/event/hangar-a-sense-of-place-a-transmedia-presentation-of-hangar-vegetable-market-baguio/
END:VEVENT
BEGIN:VEVENT
DTSTART;TZID=UTC:20221128T080000
DTEND;TZID=UTC:20221129T170000
DTSTAMP:20260422T163211
CREATED:20221121T190148Z
LAST-MODIFIED:20221124T220458Z
UID:5714-1669622400-1669741200@alum.up.edu.ph
SUMMARY:Agham + Sining: A Showcase of the University’s Technology\, Research\, and Creative Work
DESCRIPTION:Everyone is invited to the “Agham + Sining: UP Innovation and Knowledge Festival 2022” on November 28-29 at the UP Bonifacio Global City (BGC) campus.\n\nThe two-day event is organized by the UP System Office of the Vice President for Academic Affairs (OVPAA)\, in collaboration with the UP System Technology Transfer and Business Development Office\, Office of the Vice President for Public Affairs\, Media and Public Relations Office\, UP-BGC\, and TVUP.\n\nScan the QR code on the poster for the event location.\n\nSee photos for more details.\n\nFor updates\, visit the OVPAA Facebook page.
URL:https://alum.up.edu.ph/event/agham-sining-a-showcase-of-the-universitys-technology-research-and-creative-work/
END:VEVENT
BEGIN:VEVENT
DTSTART;TZID=UTC:20221128T090000
DTEND;TZID=UTC:20221128T160000
DTSTAMP:20260422T163211
CREATED:20221123T001030Z
LAST-MODIFIED:20221123T001030Z
UID:5829-1669626000-1669651200@alum.up.edu.ph
SUMMARY:UP Baguio LRC LaTeX Training: A complete Guide to Math Typeset
DESCRIPTION:𝐔𝐏𝐁 𝐋𝐑𝐂 𝐓𝐑𝐀𝐈𝐍𝐈𝐍𝐆\n\nThe Learning Resource Center UP Baguio invites you to join our 1st Training for the 1st Semester of AY 2022-2023 on November 28\, 2022 (Monday) entitled ‘𝙇𝙖𝙏𝙚𝙓 𝙏𝙧𝙖𝙞𝙣𝙞𝙣𝙜: 𝘼 𝘾𝙤𝙢𝙥𝙡𝙚𝙩𝙚 𝙂𝙪𝙞𝙙𝙚 𝙩𝙤 𝙈𝙖𝙩𝙝 𝙏𝙮𝙥𝙚𝙨𝙚𝙩’ to be facilitated by Mr. Junius Wilhem G. Bueno\, MSc\, a Teaching Fellow from the UP Baguio Department of Mathematics and Computer Science and this will be conducted via HyFlex (F2F and online).\n\nTo register\, click the link or scan the QR code below:\nhttps://tinyurl.com/47nf4bbm\n\nFor further inquiries\, you may contact us at: UP Mail: lrc.upbaguio@up.edu.ph\nFacebook: Learning Resource Center UP Baguio\nTwitter: www.twitter.com/lrc_upbaguio\n\nSource: Learning Resource Center UP Baguio Facebook
URL:https://alum.up.edu.ph/event/up-baguio-lrc-latex-training-a-complete-guide-to-math-typeset/
END:VEVENT
BEGIN:VEVENT
DTSTART;TZID=UTC:20221128T090000
DTEND;TZID=UTC:20221129T103000
DTSTAMP:20260422T163211
CREATED:20221121T201023Z
LAST-MODIFIED:20221121T201023Z
UID:5722-1669626000-1669717800@alum.up.edu.ph
SUMMARY:Teaching Effectiveness Course 2: Reflections on Graduate School Teaching
DESCRIPTION:All UP Diliman (UPD) graduate faculty members are invited to participate in the workshop “Teaching Effectiveness Course 2: Reflections on Graduate School Teaching” on November 28 (10:00-11:30 p.m. and 1-3 p.m.) and November 29 (9:00-10:30 a.m.) via Zoom.\n\nThe workshop is organized by the UPD Office for the Advancement of Teaching.\n\nRegister at bit.ly/TECGrad22 until November 21\, Monday.
URL:https://alum.up.edu.ph/event/teaching-effectiveness-course-2-reflections-on-graduate-school-teaching/
END:VEVENT
BEGIN:VEVENT
DTSTART;TZID=UTC:20221128T100000
DTEND;TZID=UTC:20221128T120000
DTSTAMP:20260422T163211
CREATED:20221122T203537Z
LAST-MODIFIED:20221122T203537Z
UID:5801-1669629600-1669636800@alum.up.edu.ph
SUMMARY:TALASTASAN LECTURES 2022 "MEDIA AND MODALITIES"
DESCRIPTION:WATCH AND LISTEN:\n\nThe College of Arts and Communication (CAC) presents the TALASTASAN LECTURES 2022 titled “MEDIA AND MODALITIES” on November 28\, 2022\, 10: a.m.\, via Zoom.\n\nCAC faculty who recently earned their advanced degrees will present their research projects:\n\n– Prof. Jermaine Beltran – “The Backstory: A Phenomenological Study on the Narratives of selected Baguio-based Journalists on their Coverage of Typhoons”\n\n– Prof. Doris Wilson – “The Medium is an Interface: How Image-as-Interface Surfaces the Layers in Photographs of the Igorot European Exposition (1887-1913)”\n\n– Prof. Orville Tatcho -“What is the Relevance of Communication Studies? A Proposed Research Agenda”\n\nThis lecture series is part of the celebration of UP Baguio’s 20th Anniversary as a Constituent University of the UP System.\n\nHere’s the registration link for this event: https://up-edu.zoom.us/…/regi…/WN_L09F21NCQ7WMSNgwA-Q7UQ\n\nThis year’s TALASTASAN 2022 will be streamed at the UP Baguio Facebook page.\n\nUP Baguio – Information Page\n\nSource: University of the Philippines Baguio Facebook
URL:https://alum.up.edu.ph/event/talastasan-lectures-2022-media-and-modalities/
END:VEVENT
BEGIN:VEVENT
DTSTART;TZID=UTC:20221128T100000
DTEND;TZID=UTC:20221128T120000
DTSTAMP:20260422T163211
CREATED:20221124T220137Z
LAST-MODIFIED:20221124T220137Z
UID:5868-1669629600-1669636800@alum.up.edu.ph
SUMMARY:Indigenous Research Methodologies: How Can We Apply Them in (East) Asian Contexts?
DESCRIPTION:The lecture “Indigenous Research Methodologies: How Can We Apply Them in (East) Asian Contexts?” will happen on November 28\, Monday\, at 10 a.m.\, with guest speaker Madoka Hammine\, an associate professor from Meio University.\n\nThis is presented by the UP Diliman Department of Linguistics\, in cooperation with The Katig Collective\, as part of the Linguistics Special Lecture Series 2022.\n\nWatch the livestream at the UP Department of Linguistics Facebook page and http://bit.ly/UPLinguisticsYT.\n\nSee post for more details.
URL:https://alum.up.edu.ph/event/indigenous-research-methodologies-how-can-we-apply-them-in-east-asian-contexts/
END:VEVENT
BEGIN:VEVENT
DTSTART;TZID=UTC:20221128T130000
DTEND;TZID=UTC:20221128T170000
DTSTAMP:20260422T163211
CREATED:20221121T185805Z
LAST-MODIFIED:20221121T185805Z
UID:5710-1669640400-1669654800@alum.up.edu.ph
SUMMARY:Introduction to SARS-CoV-2 Evolutionary Genomics
DESCRIPTION:The training workshop “Introduction to SARS-CoV-2 Evolutionary Genomics” will be held on November 28\, December 2\, and December 5 at the Lecture Hall 2\, 2F Training Rm.\, PGC Building\, A. Ma. Regidor St.\, UP Diliman.\n\nTo join\, register at https://docs.google.com/…/1FAIpQLSe9XJNZY9TmAX…/viewform until November 21.\n\nSee photos for more details.
URL:https://alum.up.edu.ph/event/introduction-to-sars-cov-2-evolutionary-genomics/
END:VEVENT
BEGIN:VEVENT
DTSTART;TZID=UTC:20221128T133000
DTEND;TZID=UTC:20221128T163000
DTSTAMP:20260422T163211
CREATED:20221121T184726Z
LAST-MODIFIED:20221121T184757Z
UID:5702-1669642200-1669653000@alum.up.edu.ph
SUMMARY:Redesigning Online Services and Streamlining Processes Using IT Applications in Libraries
DESCRIPTION:The 2nd IT Colloquium for Libraries\, with the theme “Redesigning Online Services and Streamlining Processes Using IT Applications in Libraries\,” will be held on November 28\, Monday\, 1:30-4:30 p.m.\n\nThe colloquium is in celebration of the Library and Information Services Month. It is organized by the UP Diliman University Library Staff Training and Development Committee and the Information Technology Division.\n\nRegister by visiting http://tiny.cc/ULSTDC.\n\nSee photos for more details.
URL:https://alum.up.edu.ph/event/redesigning-online-services-and-streamlining-processes-using-it-applications-in-libraries/
END:VEVENT
BEGIN:VEVENT
DTSTART;TZID=UTC:20221128T133000
DTEND;TZID=UTC:20221128T163000
DTSTAMP:20260422T163211
CREATED:20221121T185125Z
LAST-MODIFIED:20221121T185125Z
UID:5707-1669642200-1669653000@alum.up.edu.ph
SUMMARY:IT Colloquium for Libraries 2022: Redesigning Online Services and Streamlining Processes using IT Applications in Libraries
DESCRIPTION:The colloquium “The New Normal for Library Visits: Adapting With the Learning Spaces Reservation App” will be held on November 28\, Monday\, from 1:30 to 4:30 p.m. via Zoom.\n\nThis is organized by the UP Diliman University Library as part of the 2nd IT Colloquium for Libraries.\n\nTo join\, register at https://up-edu.zoom.us/…/tJwude2grDwuG9NO… or scan the QR code on the poster.
URL:https://alum.up.edu.ph/event/it-colloquium-for-libraries-2022-redesigning-online-services-and-streamlining-processes-using-it-applications-in-libraries/
END:VEVENT
BEGIN:VEVENT
DTSTART;TZID=UTC:20221128T133000
DTEND;TZID=UTC:20221128T163000
DTSTAMP:20260422T163211
CREATED:20221124T214206Z
LAST-MODIFIED:20221124T214206Z
UID:5865-1669642200-1669653000@alum.up.edu.ph
SUMMARY:Optimizing Library Work Processes Through the Use of Google Productivity Tools
DESCRIPTION:The colloquium “Optimizing Library Work Processes Through the Use of Google Productivity Tools” will be held on November 28\, Monday\, from 1:30 to 4:30 p.m.\n\nThis is organized by the UP Diliman University Library as part of the 2nd IT Colloquium for Libraries.\n\nTo join\, register at http://tiny.cc/ULSTDC or scan the QR code on the poster.
URL:https://alum.up.edu.ph/event/optimizing-library-work-processes-through-the-use-of-google-productivity-tools/
END:VEVENT
BEGIN:VEVENT
DTSTART;TZID=UTC:20221128T133000
DTEND;TZID=UTC:20221128T163000
DTSTAMP:20260422T163211
CREATED:20221125T000934Z
LAST-MODIFIED:20221125T000934Z
UID:5919-1669642200-1669653000@alum.up.edu.ph
SUMMARY:Assessing the Primary Care Health Professions Educator
DESCRIPTION:The UP Manila National Teacher Training Center for the Health Professions invites you to the seminar\, Assessing the Primary Care Health Professions Educator.\n\nNovember 28\, 2022 (Monday)\n01:30 to 3:30 PM | via Zoom\n\nThis event is on a first come first served basis. Register at https://bit.ly/MonthlySem2022\n\nFor questions or concerns\, please email the NTTCHP secretariat: nttchp.upmanila@up.edu.ph.\n\nSource: University of the Philippines Manila
URL:https://alum.up.edu.ph/event/assessing-the-primary-care-health-professions-educator/
END:VEVENT
BEGIN:VEVENT
DTSTART;TZID=UTC:20221128T150000
DTEND;TZID=UTC:20221128T163000
DTSTAMP:20260422T163211
CREATED:20221106T234046Z
LAST-MODIFIED:20221106T234046Z
UID:5312-1669647600-1669653000@alum.up.edu.ph
SUMMARY:Bioinformatics Lecture Series
DESCRIPTION:PGC Mindanao presents the much-awaited “𝗕𝗶𝗼𝗶𝗻𝗳𝗼𝗿𝗺𝗮𝘁𝗶𝗰𝘀 𝗟𝗲𝗰𝘁𝘂𝗿𝗲 𝗦𝗲𝗿𝗶𝗲𝘀”🧬 this November 2022. 🖧\n\nGet ready for the 𝗳𝗼𝘂𝗿 (𝟰) 𝗹𝗲𝗰𝘁𝘂𝗿𝗲𝘀 by our invited bioinformatics experts from all over the world! Once again\, this lecture series is free and open to all! 🥶\n\nMark your calendars -𝗲𝘃𝗲𝗿𝘆 𝗠𝗼𝗻𝗱𝗮𝘆 𝘁𝗵𝗶𝘀 𝗡𝗼𝘃𝗲𝗺𝗯𝗲𝗿.💥📅\n\nRegister here to get your slot: https://bit.ly/3sYBLWQ\n\nSource: Philippine Genome Center Mindanao Facebook
URL:https://alum.up.edu.ph/event/bioinformatics-lecture-series-3/
END:VEVENT
BEGIN:VEVENT
DTSTART;TZID=UTC:20221128T163000
DTEND;TZID=UTC:20221128T180000
DTSTAMP:20260422T163211
CREATED:20221122T235332Z
LAST-MODIFIED:20221122T235332Z
UID:5818-1669653000-1669658400@alum.up.edu.ph
SUMMARY:Why Still the University? Reflections on Institutional Autonomy
DESCRIPTION:FREE and OPEN TO THE PUBLIC\nCSS Lecture Series @UPB 20th Anniversary\nRegister to receive the Zoom Link: https://forms.gle/qCxW5YQeCNxxzxrdA\n💻Kili Piluden\n\nSource: UPB College of Social Sciences Facebook
URL:https://alum.up.edu.ph/event/why-still-the-university-reflections-on-institutional-autonomy/
END:VEVENT
END:VCALENDAR