BEGIN:VCALENDAR
VERSION:2.0
PRODID:-//UP Alumni Website - ECPv6.15.16//NONSGML v1.0//EN
CALSCALE:GREGORIAN
METHOD:PUBLISH
X-WR-CALNAME:UP Alumni Website
X-ORIGINAL-URL:https://alum.up.edu.ph
X-WR-CALDESC:Events for UP Alumni Website
REFRESH-INTERVAL;VALUE=DURATION:PT1H
X-Robots-Tag:noindex
X-PUBLISHED-TTL:PT1H
BEGIN:VTIMEZONE
TZID:UTC
BEGIN:STANDARD
TZOFFSETFROM:+0000
TZOFFSETTO:+0000
TZNAME:UTC
DTSTART:20210101T000000
END:STANDARD
END:VTIMEZONE
BEGIN:VEVENT
DTSTART;VALUE=DATE:20221004
DTEND;VALUE=DATE:20221217
DTSTAMP:20260422T063611
CREATED:20220922T235104Z
LAST-MODIFIED:20220922T235104Z
UID:4529-1664841600-1671235199@alum.up.edu.ph
SUMMARY:A MEMORIAL FOR LOLA: An Expression of Self-Identity from Stitching Memories of Home
DESCRIPTION:A MEMORIAL FOR LOLA: An Expression of Self-Identity from Stitching Memories of Home\n\nA solo exhibition of BASIL MALICSI\n\nSINING MAKILING GALLERY\nDL Umali Hall\, UP Los Baños\nGallery hours: 8 AM to 6 PM\, Monday to Friday\nExhibit opens on 4 October 2022 and will run until 16 December 2022\n————————————\nExamining the labor and art of sewing as a meditative ritual that brings forth memories to memorialize loved ones\, Basil Malicsi utilizes the medium of retasos/fabric scraps through his creation of hard and soft sculpture installations.\n\nFeaturing 42 hand-stitched tapestries\, Malicsi takes us into the meditative and spellbinding ritual of sewing by using vibrant colors of yarns and threads to piece together fabric scraps from his studio as a fashion designer. Each collage tapestry was made during the two-year period of the pandemic which helped the artist maintain a healthy mental state during the quarantine period of the pandemic.\n\nEncouraging a dialogue between memorializing\, meditation and identity\, Malicsi creates a 10-ft high\, 16 ft x 16 ft area installation in the form of a labyrinth to recall his childhood memories with his home that he shared with his grandmother through the meditative ritual of sewing. The monumental structure\, along with the objects inside the labyrinth\, stands as a way of honoring his late grandmother and as a symbolic gesture that memories are bigger than our physical\, mental\, and spiritual psyche combined.\n\nInviting the viewer to understand\, visualize\, and feel every part of the space\, the artist enables the work to be tactile by encouraging the viewer to walk around and touch each of the pieces.\n\nSource: UPLB Office for Initiatives in Culture and the Arts Facebook
URL:https://alum.up.edu.ph/event/a-memorial-for-lola-an-expression-of-self-identity-from-stitching-memories-of-home/
END:VEVENT
BEGIN:VEVENT
DTSTART;TZID=UTC:20221101T080000
DTEND;TZID=UTC:20221231T170000
DTSTAMP:20260422T063611
CREATED:20221024T211627Z
LAST-MODIFIED:20221024T212524Z
UID:5101-1667289600-1672506000@alum.up.edu.ph
SUMMARY:Balikwas: Tanaw. Tugon. Tindig.
DESCRIPTION:Inihahandog ng Dulaang UP (DUP) ang dalawang bagong dula at pagtatanghal\, “The Reconciliation Dinner” at ang “Kung Paano Nanalo sa Karera si Rosang Taba.”\n\nAng “The Reconciliation Dinner” na mula sa direksyon ni Dexter M. Santos ay itatanghal mula Nobyembre hanggang Disyembre at ang “Kung Paano Nanalo sa Karera si Rosang Taba” na mula sa direksyon ni José Estrella ay mula Pebrero hanggang Marso 2023.\n\nAng mga dulang ito ay bahagi ng ika-45 Theatre Season ng DUP na may temang “Balikwas: Tanaw. Tugon. Tindig.”\n\nMag-email lamang sa dulaangup.upd@up.edu.ph o tumawag sa 8981-9500 lokal 2449 para sa tickets\, showbuying\, at sponsorship.
URL:https://alum.up.edu.ph/event/balikwas-tanaw-tugon-tindig/
END:VEVENT
BEGIN:VEVENT
DTSTART;VALUE=DATE:20221105
DTEND;VALUE=DATE:20230107
DTSTAMP:20260422T063611
CREATED:20221011T231207Z
LAST-MODIFIED:20221011T231207Z
UID:4894-1667606400-1673049599@alum.up.edu.ph
SUMMARY:"Teaching Nursing Informatics 3.0"
DESCRIPTION:The College of Nursing would like to invite nurses and nurse educators to join the “Teaching Nursing Informatics 3.0”\, which is part of our Designing Flexible Learning Program. It is an 8-week online course that will commence on November 5\, 2022. Please see poster for more details.\n\nTo register\, you may scan the QR code or access the link below: https://forms.gle/A94VYFw2oyz8ZjBN9.\n\nThank you and we hope to see you there!\n\nSource: UP College of Nursing Facebook
URL:https://alum.up.edu.ph/event/teaching-nursing-informatics-3-0/
END:VEVENT
BEGIN:VEVENT
DTSTART;TZID=UTC:20221107T100000
DTEND;TZID=UTC:20221216T160000
DTSTAMP:20260422T063611
CREATED:20221024T215930Z
LAST-MODIFIED:20221024T223020Z
UID:5117-1667815200-1671206400@alum.up.edu.ph
SUMMARY:STEP UP on Human Resources for General Administrative Services and Clerical Work
DESCRIPTION:Inaanyayahan ng UP Diliman (UPD) Human Resource Development Office ang mga kawani ng UPD na makilahok sa inihanda nitong apat na learning and development programs ngayong Nobyembre.\n\nAng apat na programang ito ay ang “Office of the Vice Chancellor for Administration Consultation Series: Virtual Dialogue on Policies and Processes in Transition to Post-pandemic Administrative Transactions” (Nobyembre 4\, 10 n.u.-4 n.h.)\, “Pride Webinar Series: Basic Financial Health” (Nobyembre 9\, 1-4 p.m.)\, “STEP UP on Human Resources for General Administrative Services and Clerical Work (Nobyembre 7-Disyembre 16)\, at ang LEVEL UP on Building Collaborative and Inclusive Working Relationships for Line and Emerging Managers” (Nobyembre 7-Disyembre 16).\n\nTingnan ang mga larawan para sa buong detalye.
URL:https://alum.up.edu.ph/event/step-up-on-human-resources-for-general-administrative-services-and-clerical-work/
END:VEVENT
BEGIN:VEVENT
DTSTART;VALUE=DATE:20221125
DTEND;VALUE=DATE:20221213
DTSTAMP:20260422T063611
CREATED:20221125T000719Z
LAST-MODIFIED:20221125T000719Z
UID:5915-1669334400-1670889599@alum.up.edu.ph
SUMMARY:UP Manila Center for Gender and Women Studies 18-Day Campaign to End Violence Against Women and Children
DESCRIPTION:The UP Manila Center for Gender and Women Studies will participate in the 18-Day Campaign to End Violence Against Women and Children from 25 November – 12 December 2022.\n\nIn support of the United Nations’ Sustainable Development Goal #SDG5 on Gender Equality and Inclusiveness\, the 18-Day Campaign to End VAW supports the goal of protecting the human rights of women and girls by upholding its commitment to address all forms of gender-based violence as enshrined in the 1987 Constitution.\n\nThe Center for Gender and Women Studies\, Crèche: UP Manila Early Childhood Care and Development Center\, and the Office of Anti-Sexual Harassment would like to invite everyone to the Opening Program.\n\nRegistration details: https://bit.ly/3EzYM7U\n\nDate: November 25\, 2022\, Friday\nTime: 2:00 PM – 4:00 PM\n\nYou may show your support for the campaign by using the following publication materials:\n1. EVAWC Poster\n2. EVAWC Zoom Background\n3. EVAWC Facebook Profile Frame\n4. EVAWC Facebook Banner\n\nSource: University of the Philippines Manila
URL:https://alum.up.edu.ph/event/up-manila-center-for-gender-and-women-studies-18-day-campaign-to-end-violence-against-women-and-children/
END:VEVENT
BEGIN:VEVENT
DTSTART;VALUE=DATE:20221201
DTEND;VALUE=DATE:20230101
DTSTAMP:20260422T063611
CREATED:20221110T220345Z
LAST-MODIFIED:20221110T220345Z
UID:5440-1669852800-1672531199@alum.up.edu.ph
SUMMARY:"Planting Seeds of Hope: A Workshop on Horticultural Therapy"
DESCRIPTION:Gardening is a wonderfully flexible medium that can transform lives and can have therapeutic effects on everyone\, regardless of gender\, age or ability. It fosters a sense of connectedness with plants and fellow nature enthusiasts and develops a sense of care\, nurturance\, and accountability.\n\nIn celebration of the 18-day campaign to End Violence Against Women and Children (EVAWC)\, the Office of Student Affairs UP Manila and the Center for Gender and Women’s Studies invite UPM constituents to join the onsite activity “Planting Seeds of Hope: A Workshop on Horticultural Therapy” on December 2022.\n\nPlease indicate your interest by signing up here: https://bit.ly/Horticulture22\n\nSource: University of the Philippines Manila Facebook
URL:https://alum.up.edu.ph/event/planting-seeds-of-hope-a-workshop-on-horticultural-therapy/
END:VEVENT
BEGIN:VEVENT
DTSTART;TZID=UTC:20221202T090000
DTEND;TZID=UTC:20230120T160000
DTSTAMP:20260422T063611
CREATED:20221205T230906Z
LAST-MODIFIED:20230109T221923Z
UID:6205-1669971600-1674230400@alum.up.edu.ph
SUMMARY:PASIKING: Native Backpacks of the Luzon Cordillera
DESCRIPTION:PASIKING: NATIVE BACKPACKS OF THE LUZON CORDILLERA\n\nIn celebration of UP Baguio’s 20th anniversary as a Constituent Unit (CU) of the University of the Philippines\, and the investiture of Dr. Corazon L. Abansi\, third Chancellor of UP Baguio; Museo Kordilyera will have an exhibit opening and launching of the 2023 MK calendar featuring pasiking on December 2\, 2022. Exhibit runs from December 2\, 2022 to January 20\, 2023.\n\nSource: University of the Philippines Baguio Facebook
URL:https://alum.up.edu.ph/event/pasiking-native-backpacks-of-the-luzon-cordillera/
END:VEVENT
BEGIN:VEVENT
DTSTART;VALUE=DATE:20221205
DTEND;VALUE=DATE:20221215
DTSTAMP:20260422T063611
CREATED:20221204T233316Z
LAST-MODIFIED:20221212T192046Z
UID:6154-1670198400-1671062399@alum.up.edu.ph
SUMMARY:UP Manila Christmas Jingle-Tiktok Making Contest
DESCRIPTION:The UP Manila community is encouraged to join the 2022 Christmas Jingle/TikTok Making Contest.\n\nBasic guidelines:\n• Must be a group of at least 3 UPM Community members\n• Write a 15-45 seconds Christmas Jingle* and upload it as a TikTok Video with the #KitakitsUPMPasko\n• Submit your entries to this link: https://tinyurl.com/UPMJingleTikTok\n• Deadline for submission is on 15 December 2022\n\nRead the full guidelines here: https://bit.ly/3B56Tsc (page 22)\n\n—\nA jingle is “a short song or tune that is easy to remember”. The Christmas jingle entry may have original melody and lyrics\, or original lyrics with a borrowed melody with credits to the original.\n\n#KitakitsUPMPasko\n\nSource: University of the Philippines Manila﻿ Facebook
URL:https://alum.up.edu.ph/event/up-manila-christmas-jingle-tiktok-making-contest/
END:VEVENT
BEGIN:VEVENT
DTSTART;VALUE=DATE:20221209
DTEND;VALUE=DATE:20230121
DTSTAMP:20260422T063611
CREATED:20221204T203811Z
LAST-MODIFIED:20221204T203811Z
UID:6130-1670544000-1674259199@alum.up.edu.ph
SUMMARY:“Sulat: Retelling Rizal through Philately”
DESCRIPTION:University of the Philippines Fine Arts professor\, painter and philatelist Marco Ruben T. Malto II undertakes to revisit the life and legacy of the foremost Filipino hero within the realm of philately in his solo exhibit titled “Sulat: Retelling Rizal through Philately.” In partnership with the National Historical Commission of the Philippines through Museo ni Jose Rizal Fort Santiago\, Malto curates his personal collection featuring philatelic items\, artifacts\, and archival materials to commemorate Jose Rizal’s 126th Death Anniversary this December.\n\nThink of our most revered Filipino patriot Jose Rizal as a TikToker creating POVs on his travels\, or talking about our Spanish colonial conditions and his aspirations for la Patria mia! Can you imagine his firing squad footage going viral? How would cancel culture deal with his highly controversial views?\n\nEven in the absence of the internet and social media platforms during his time\, Jose Rizal was every bit a blogger\, a celebrity\, a content creator and an influencer with a massive following. Instead of posts\, tweets or video uploads\, Rizal shared his ideas\, and ideals\, through his most notable novels\, Noli Me Tangere and El Filibusterismo\, his socio-political essays published in La Solidaridad\, and his countless other writings that resonate with Filipinos. As National Artist Nick Joaquin once wrote of Rizal’s influence while still in his teens\, “Already\, what writings of his reach the public are stirring up storms.” Rizal\, a diligent diarist and prolific correspondent\, covered topics from cholera to lottery when not discussing duty to country or complaining about high cost of postage stamps in his letters sent to family\, friends\, lovers\, and compatriots. Whether on overseas sojourn or in exile\, Rizal was able to mail his crucial correspondence due to the already established postal system in the country during his time.  \n\nAs the most documented Filipino in the 19th century\, Rizal’s written works and treasured mementos were duly preserved\, allowing future Filipinos to discover the makings of the most prominent advocate for Philippine reforms during the Spanish regime\, and the nation he fought for. The extensive record of his life firmly seals Jose Rizal’s “national hero” stature in Philippine history\, and his legacy continues to inspire generations of Filipinos\, 126 years after his execution.  \n\nhttps://www.rappler.com/bulletin-board/up-professor-painter-exhibits-retelling-rizal-stamps/
URL:https://alum.up.edu.ph/event/sulat-retelling-rizal-through-philately/
END:VEVENT
BEGIN:VEVENT
DTSTART;VALUE=DATE:20221210
DTEND;VALUE=DATE:20221211
DTSTAMP:20260422T063611
CREATED:20221017T203219Z
LAST-MODIFIED:20221017T203231Z
UID:5022-1670630400-1670716799@alum.up.edu.ph
SUMMARY:UP Vanguard Grand Centennial Homecoming
DESCRIPTION:The centennial celebration will be on December 10\, 2022 at the U.P. Diliman Campus.
URL:https://alum.up.edu.ph/event/up-vanguard-grand-centennial-homecoming/
END:VEVENT
BEGIN:VEVENT
DTSTART;TZID=UTC:20221210T080000
DTEND;TZID=UTC:20221210T080000
DTSTAMP:20260422T063611
CREATED:20221209T000109Z
LAST-MODIFIED:20221209T000109Z
UID:6344-1670659200-1670659200@alum.up.edu.ph
SUMMARY:UPLB PHILAMJAMES@50 Nurturing Connections
DESCRIPTION:Mas makulay\, mas maliwanag\, mas masaya ang Paskong UPLB dahil nandito ka!\n\nEnjoy the Christmas season on campus with the UPLB Business Affairs Office’s Christmas Bazaar. Meron din silang mga pakulo at iba’t ibang events mula December 9 hanggang 21.\n\nMagpapakitang-gilas at magpapasaya rin ang mga units at kolehiyo ng UPLB with their games and music!\n\nKaya tara! Kitakits sa #PaskongUPLB2022!\n\nSource: University of the Philippines Los Baños Facebook
URL:https://alum.up.edu.ph/event/uplb-philamjames50-nurturing-connections/
END:VEVENT
BEGIN:VEVENT
DTSTART;TZID=UTC:20221210T090000
DTEND;TZID=UTC:20221210T120000
DTSTAMP:20260422T063611
CREATED:20221116T224205Z
LAST-MODIFIED:20221116T224205Z
UID:5609-1670662800-1670673600@alum.up.edu.ph
SUMMARY:UPOU Ceremonial March for the graduates of AY 2019-2020 and AY 2020-2021
DESCRIPTION:UPOU 2020 AND 2021 ALUMNI\, THIS IS FOR YOU!\n\nThe UP Open University (UPOU) will give a send-off tribute for the graduates of AY 2019-2020 and AY 2020-2021 through an in-person Ceremonial March on 10 December 2022\, 9AM (Philippine Time)\, at the UPOU Headquarters\, Los Banos\, Laguna.\n\nAs part of the university’s health and safety measures\, only those who have confirmed their attendance at this event will be granted access to the event venue.\n\nFor inquiries\, message alumnirelations@upou.edu.ph\n\n#UPOUCeremonialMarch\n\nSource: UP Open University (UPOU) Facebook
URL:https://alum.up.edu.ph/event/upou-ceremonial-march-for-the-graduates-of-ay-2019-2020-and-ay-2020-2021/
END:VEVENT
BEGIN:VEVENT
DTSTART;TZID=UTC:20221210T090000
DTEND;TZID=UTC:20221210T160000
DTSTAMP:20260422T063611
CREATED:20221130T233515Z
LAST-MODIFIED:20221130T233515Z
UID:6052-1670662800-1670688000@alum.up.edu.ph
SUMMARY:UP MISS 1st SHORT COURSE ON BIBLIOMETRIC AND INFODEMIOLOGIC ANALYSES FOR HEALTH RESEARCH
DESCRIPTION:[MISS LAB: WORKSHOP]\n\nThe MD-PhD in Molecular Medicine Program of the UP College of Medicine and the Medical Informetrics and Science of Science (MISS) Lab invite you to the 1st SHORT COURSE ON BIBLIOMETRIC AND INFODEMIOLOGIC ANALYSES FOR HEALTH RESEARCH.\n\nThis face-to-face training workshop is intended for students (especially those looking for possible thesis topics during the pandemic)\, medical trainees (residents and fellows)\, teachers\, and researchers who wish to learn how to conduct bibliometric and infodemiologic analyses. This short course will include hands-on workshop that will require the participants to bring their own devices and install the pre-requisite software.\n\nThis will be held on December 10\, 2022 (9AM to 4PM) at CH 222\, 2nd Floor\, Calderon Hall\, UP College of Medicine. Registration Fee is FREE\, snacks and lunch will be served and printed modules will be distributed to the participants\, however\, there will be limited slots.\n\nThe link to registration may be accessed through this link https://tinyurl.com/BiblioInfodemShortCourse OR by scanning the QR code on the poster. Accepted participants will receive a confirmation email from the organizers after registering through Google forms. We hope to see you there!\n\nHere are links to sample bibliometric and infodemiologic analyses published by the MISS LAB in international peer-reviewed journals:\nBIBLIOMETRICS PAPER: https://tinyurl.com/BibliometricsSample\nINFODEMIOLOGY PAPER: https://tinyurl.com/InfodemPaper\n\nPoster by Fed de Jesus\n\nSource: The Filipino Physician-Scientist Facebook
URL:https://alum.up.edu.ph/event/up-miss-1st-short-course-on-bibliometric-and-infodemiologic-analyses-for-health-research/
END:VEVENT
BEGIN:VEVENT
DTSTART;TZID=UTC:20221210T090000
DTEND;TZID=UTC:20221210T170000
DTSTAMP:20260422T063611
CREATED:20221206T011229Z
LAST-MODIFIED:20221206T011229Z
UID:6217-1670662800-1670691600@alum.up.edu.ph
SUMMARY:WALANG KUKURAP: Kabataan Para sa Tapat na Pamamahala (Youth for Integrity and Anti-Corruption Conference 2022)
DESCRIPTION:Ngayong darating na ika-10 ng Disyembre\, inihahandong ng UPSILON SIGMA PHI at GoodGovPH\, kasama ang UP-NCPAG\, ang WALANG KUKURAP: Kabataan Para sa Tapat na Pamamahala\, Youth for Integrity and Anti-Corruption Conference 2022.\n\nGaganapin ito sa International Center for Public Administration\, University of the Philippines\, Diliman\, Quezon City\, mula 9:00 ng umaga hanggang 5:00 ng hapon.\n\nSumama at pag-usapan natin kung ano ba ang integridad at pag-laban sa korapsyon!\n\nMagrehistro sa: bit.ly/WalangKukurapRegistration\n\nLimitado lamang ang maaaring makapunta\, kaya ‘wag na maghintay pa! Register na!\n\n#WalangKukurap\n#UnitedAgainstCorruption\n#InternationalAntiCorruptionDay2022\n#AntiCorruptionPH\n#MabutingPamamahalaArawAraw\n#UpsilonxGoodGov\n\nSource: Upsilon Sigma Phi Facebook
URL:https://alum.up.edu.ph/event/walang-kukurap-kabataan-para-sa-tapat-na-pamamahala-youth-for-integrity-and-anti-corruption-conference-2022/
END:VEVENT
BEGIN:VEVENT
DTSTART;TZID=UTC:20221210T130000
DTEND;TZID=UTC:20221210T170000
DTSTAMP:20260422T063611
CREATED:20221208T220512Z
LAST-MODIFIED:20221208T220600Z
UID:6303-1670677200-1670691600@alum.up.edu.ph
SUMMARY:UP Cebu CODE (Colloquium on Development & Education) “Research-Based Education”
DESCRIPTION:OPEN-TO-PUBLIC. Free research webinar with Certificate.\n\nUP Cebu CODE (Colloquium on Development & Education) on 10 Dec at 1:00PM-4:30PM. Plenary Speaker: Prof. Jeraline Gumalal on using technologies in a low-tech environment. Reactors: Dr. Rizza Ramos-Consad\, Bukidnon State University\, Malaybalay Bukidnon\nMr. Hujaifah Abdulnasser Jameel Dabpil Sampulna Olandang High School\, Cotabato\, BARMM.\n\nFour Breakout Sessions for English\, Social Sciences\, Sciences\, and Math.\n\nRegister at https://up-edu.zoom.us/…/tJYpcuyspz8oGdS_yjfE-YzIX3SS…\n\nSource: UP Cebu Facebook
URL:https://alum.up.edu.ph/event/up-cebu-code-colloquium-on-development-education-research-based-education/
END:VEVENT
BEGIN:VEVENT
DTSTART;TZID=UTC:20221210T140000
DTEND;TZID=UTC:20221210T160000
DTSTAMP:20260422T063611
CREATED:20221208T220945Z
LAST-MODIFIED:20221208T220945Z
UID:6308-1670680800-1670688000@alum.up.edu.ph
SUMMARY:UP Cebu’s First Responders’ Drill (#ASH1st2022)
DESCRIPTION:The Office of Anti-Sexual Harassment (OASH) and the Gender and Development Office (GAD) invite you to attend the First Responder’s Webinar 2.0 this coming Saturday\, 10 December 2022\, at 2 PM. This webinar is part of the second run of UP Cebu’s First Responders’ Drill (#ASH1st2022) which earned a Special Citation on Gender Mainstreaming in the Education Sector from the Philippine Commission on Women and the National Anti-Poverty Commission in October 2022. For a refresher on #ASH1st2022\, feel free to refer to our e-Kit at https://bit.ly/ASH1stEkit22.\n\nThe second run of our #ASH1st2022 is integral to UP Cebu’s observance of Human Rights Day whose theme is “Dignity\, Freedom\, and Justice for all\,” as well as the 18-Day Campaign to End Violence Against Women. In line with these occasions\, we encourage webinar attendees to accomplish beginning at 3:00 p.m. on Dec. 10th the #ASH1st2022 Notes with their main takeaway(s)/learning point(s) from the e-Kit and the webinar at https://bit.ly/ASH1st2022notes (open until 10 p.m. of Dec. 10th). Timely accomplishment of the #ASH1st2022 Notes will entitle participants to freebies courtesy of our GAD Office.\n\nLet us learn about trauma-informed feminist care from the acclaimed Lunas Collective as we continue making strides toward ensuring the safety of our learning and workspaces and actualizing a culture of zero tolerance for sexual harassment in UP Cebu. Register at https://tinyurl.com/ASH1st2022Register.\n\nThis event will also be live-streamed on our TLRC YouTube Channel.\n\nFor our safe learning and workspaces\,\n\nUPC TLRC\, GAD\, OSA\, and OASH Team\n\nSource: Teaching and Learning Resource Center – University of the Philippines Cebu Facebook
URL:https://alum.up.edu.ph/event/up-cebus-first-responders-drill-ash1st2022/
END:VEVENT
BEGIN:VEVENT
DTSTART;TZID=UTC:20221210T150000
DTEND;TZID=UTC:20221210T150000
DTSTAMP:20260422T063611
CREATED:20221208T232846Z
LAST-MODIFIED:20221208T233844Z
UID:6316-1670684400-1670684400@alum.up.edu.ph
SUMMARY:UPLB Buskers' Night
DESCRIPTION:Mas makulay\, mas maliwanag\, mas masaya ang Paskong UPLB dahil nandito ka!\n\nEnjoy the Christmas season on campus with the UPLB Business Affairs Office’s Christmas Bazaar. Meron din silang mga pakulo at iba’t ibang events mula December 9 hanggang 21.\n\nMagpapakitang-gilas at magpapasaya rin ang mga units at kolehiyo ng UPLB with their games and music!\n\nKaya tara! Kitakits sa #PaskongUPLB2022!\n\nSource: University of the Philippines Los Baños Facebook
URL:https://alum.up.edu.ph/event/uplb-buskers-night/
END:VEVENT
BEGIN:VEVENT
DTSTART;TZID=UTC:20221210T160000
DTEND;TZID=UTC:20221210T160000
DTSTAMP:20260422T063611
CREATED:20221209T000316Z
LAST-MODIFIED:20221209T000316Z
UID:6348-1670688000-1670688000@alum.up.edu.ph
SUMMARY:UPRHS Alumni Homecoming
DESCRIPTION:Mas makulay\, mas maliwanag\, mas masaya ang Paskong UPLB dahil nandito ka!\n\nEnjoy the Christmas season on campus with the UPLB Business Affairs Office’s Christmas Bazaar. Meron din silang mga pakulo at iba’t ibang events mula December 9 hanggang 21.\n\nMagpapakitang-gilas at magpapasaya rin ang mga units at kolehiyo ng UPLB with their games and music!\n\nKaya tara! Kitakits sa #PaskongUPLB2022!\n\nSource: University of the Philippines Los Baños Facebook
URL:https://alum.up.edu.ph/event/uprhs-alumni-homecoming/
END:VEVENT
BEGIN:VEVENT
DTSTART;TZID=UTC:20221210T170000
DTEND;TZID=UTC:20221210T200000
DTSTAMP:20260422T063611
CREATED:20221115T230516Z
LAST-MODIFIED:20221116T223751Z
UID:5583-1670691600-1670702400@alum.up.edu.ph
SUMMARY:UPOU 26th COMMENCEMENT EXERCISES
DESCRIPTION:THE LONG WAIT IS OVER!\n\nThis 2022\, the UP Open University (UPOU) resumes its FACE-TO-FACE Graduation with the theme “University of the Future: Reimaginations\, Reconfigurations\, Realizations”. The 26th Commencement Exercises will be held on 10 December 2022\, 5PM (Philippine Time) at the UPOU Headquarters\, Los Banos\, Laguna.\n\nFor inquiries\, please email registrar@upou.edu.ph.\n\nPadayon\, Isko at Iska!\n\n#UPOUSablay2022\n\nSource: UP Open University (UPOU) Facebook
URL:https://alum.up.edu.ph/event/upou-26th-commencement-exercises/
END:VEVENT
BEGIN:VEVENT
DTSTART;TZID=UTC:20221210T180000
DTEND;TZID=UTC:20221210T180000
DTSTAMP:20260422T063611
CREATED:20221209T000139Z
LAST-MODIFIED:20221209T000139Z
UID:6346-1670695200-1670695200@alum.up.edu.ph
SUMMARY:UPLB Talents' Night
DESCRIPTION:Mas makulay\, mas maliwanag\, mas masaya ang Paskong UPLB dahil nandito ka!\n\nEnjoy the Christmas season on campus with the UPLB Business Affairs Office’s Christmas Bazaar. Meron din silang mga pakulo at iba’t ibang events mula December 9 hanggang 21.\n\nMagpapakitang-gilas at magpapasaya rin ang mga units at kolehiyo ng UPLB with their games and music!\n\nKaya tara! Kitakits sa #PaskongUPLB2022!\n\nSource: University of the Philippines Los Baños Facebook
URL:https://alum.up.edu.ph/event/uplb-talents-night/
END:VEVENT
END:VCALENDAR