BEGIN:VCALENDAR
VERSION:2.0
PRODID:-//UP Alumni Website - ECPv6.15.16//NONSGML v1.0//EN
CALSCALE:GREGORIAN
METHOD:PUBLISH
X-WR-CALNAME:UP Alumni Website
X-ORIGINAL-URL:https://alum.up.edu.ph
X-WR-CALDESC:Events for UP Alumni Website
REFRESH-INTERVAL;VALUE=DURATION:PT1H
X-Robots-Tag:noindex
X-PUBLISHED-TTL:PT1H
BEGIN:VTIMEZONE
TZID:UTC
BEGIN:STANDARD
TZOFFSETFROM:+0000
TZOFFSETTO:+0000
TZNAME:UTC
DTSTART:20210101T000000
END:STANDARD
END:VTIMEZONE
BEGIN:VEVENT
DTSTART;VALUE=DATE:20221004
DTEND;VALUE=DATE:20221217
DTSTAMP:20260421T233920
CREATED:20220922T235104Z
LAST-MODIFIED:20220922T235104Z
UID:4529-1664841600-1671235199@alum.up.edu.ph
SUMMARY:A MEMORIAL FOR LOLA: An Expression of Self-Identity from Stitching Memories of Home
DESCRIPTION:A MEMORIAL FOR LOLA: An Expression of Self-Identity from Stitching Memories of Home\n\nA solo exhibition of BASIL MALICSI\n\nSINING MAKILING GALLERY\nDL Umali Hall\, UP Los Baños\nGallery hours: 8 AM to 6 PM\, Monday to Friday\nExhibit opens on 4 October 2022 and will run until 16 December 2022\n————————————\nExamining the labor and art of sewing as a meditative ritual that brings forth memories to memorialize loved ones\, Basil Malicsi utilizes the medium of retasos/fabric scraps through his creation of hard and soft sculpture installations.\n\nFeaturing 42 hand-stitched tapestries\, Malicsi takes us into the meditative and spellbinding ritual of sewing by using vibrant colors of yarns and threads to piece together fabric scraps from his studio as a fashion designer. Each collage tapestry was made during the two-year period of the pandemic which helped the artist maintain a healthy mental state during the quarantine period of the pandemic.\n\nEncouraging a dialogue between memorializing\, meditation and identity\, Malicsi creates a 10-ft high\, 16 ft x 16 ft area installation in the form of a labyrinth to recall his childhood memories with his home that he shared with his grandmother through the meditative ritual of sewing. The monumental structure\, along with the objects inside the labyrinth\, stands as a way of honoring his late grandmother and as a symbolic gesture that memories are bigger than our physical\, mental\, and spiritual psyche combined.\n\nInviting the viewer to understand\, visualize\, and feel every part of the space\, the artist enables the work to be tactile by encouraging the viewer to walk around and touch each of the pieces.\n\nSource: UPLB Office for Initiatives in Culture and the Arts Facebook
URL:https://alum.up.edu.ph/event/a-memorial-for-lola-an-expression-of-self-identity-from-stitching-memories-of-home/
END:VEVENT
BEGIN:VEVENT
DTSTART;TZID=UTC:20221101T080000
DTEND;TZID=UTC:20221231T170000
DTSTAMP:20260421T233920
CREATED:20221024T211627Z
LAST-MODIFIED:20221024T212524Z
UID:5101-1667289600-1672506000@alum.up.edu.ph
SUMMARY:Balikwas: Tanaw. Tugon. Tindig.
DESCRIPTION:Inihahandog ng Dulaang UP (DUP) ang dalawang bagong dula at pagtatanghal\, “The Reconciliation Dinner” at ang “Kung Paano Nanalo sa Karera si Rosang Taba.”\n\nAng “The Reconciliation Dinner” na mula sa direksyon ni Dexter M. Santos ay itatanghal mula Nobyembre hanggang Disyembre at ang “Kung Paano Nanalo sa Karera si Rosang Taba” na mula sa direksyon ni José Estrella ay mula Pebrero hanggang Marso 2023.\n\nAng mga dulang ito ay bahagi ng ika-45 Theatre Season ng DUP na may temang “Balikwas: Tanaw. Tugon. Tindig.”\n\nMag-email lamang sa dulaangup.upd@up.edu.ph o tumawag sa 8981-9500 lokal 2449 para sa tickets\, showbuying\, at sponsorship.
URL:https://alum.up.edu.ph/event/balikwas-tanaw-tugon-tindig/
END:VEVENT
BEGIN:VEVENT
DTSTART;VALUE=DATE:20221105
DTEND;VALUE=DATE:20230107
DTSTAMP:20260421T233920
CREATED:20221011T231207Z
LAST-MODIFIED:20221011T231207Z
UID:4894-1667606400-1673049599@alum.up.edu.ph
SUMMARY:"Teaching Nursing Informatics 3.0"
DESCRIPTION:The College of Nursing would like to invite nurses and nurse educators to join the “Teaching Nursing Informatics 3.0”\, which is part of our Designing Flexible Learning Program. It is an 8-week online course that will commence on November 5\, 2022. Please see poster for more details.\n\nTo register\, you may scan the QR code or access the link below: https://forms.gle/A94VYFw2oyz8ZjBN9.\n\nThank you and we hope to see you there!\n\nSource: UP College of Nursing Facebook
URL:https://alum.up.edu.ph/event/teaching-nursing-informatics-3-0/
END:VEVENT
BEGIN:VEVENT
DTSTART;TZID=UTC:20221107T100000
DTEND;TZID=UTC:20221216T160000
DTSTAMP:20260421T233920
CREATED:20221024T215930Z
LAST-MODIFIED:20221024T223020Z
UID:5117-1667815200-1671206400@alum.up.edu.ph
SUMMARY:STEP UP on Human Resources for General Administrative Services and Clerical Work
DESCRIPTION:Inaanyayahan ng UP Diliman (UPD) Human Resource Development Office ang mga kawani ng UPD na makilahok sa inihanda nitong apat na learning and development programs ngayong Nobyembre.\n\nAng apat na programang ito ay ang “Office of the Vice Chancellor for Administration Consultation Series: Virtual Dialogue on Policies and Processes in Transition to Post-pandemic Administrative Transactions” (Nobyembre 4\, 10 n.u.-4 n.h.)\, “Pride Webinar Series: Basic Financial Health” (Nobyembre 9\, 1-4 p.m.)\, “STEP UP on Human Resources for General Administrative Services and Clerical Work (Nobyembre 7-Disyembre 16)\, at ang LEVEL UP on Building Collaborative and Inclusive Working Relationships for Line and Emerging Managers” (Nobyembre 7-Disyembre 16).\n\nTingnan ang mga larawan para sa buong detalye.
URL:https://alum.up.edu.ph/event/step-up-on-human-resources-for-general-administrative-services-and-clerical-work/
END:VEVENT
BEGIN:VEVENT
DTSTART;VALUE=DATE:20221201
DTEND;VALUE=DATE:20230101
DTSTAMP:20260421T233920
CREATED:20221110T220345Z
LAST-MODIFIED:20221110T220345Z
UID:5440-1669852800-1672531199@alum.up.edu.ph
SUMMARY:"Planting Seeds of Hope: A Workshop on Horticultural Therapy"
DESCRIPTION:Gardening is a wonderfully flexible medium that can transform lives and can have therapeutic effects on everyone\, regardless of gender\, age or ability. It fosters a sense of connectedness with plants and fellow nature enthusiasts and develops a sense of care\, nurturance\, and accountability.\n\nIn celebration of the 18-day campaign to End Violence Against Women and Children (EVAWC)\, the Office of Student Affairs UP Manila and the Center for Gender and Women’s Studies invite UPM constituents to join the onsite activity “Planting Seeds of Hope: A Workshop on Horticultural Therapy” on December 2022.\n\nPlease indicate your interest by signing up here: https://bit.ly/Horticulture22\n\nSource: University of the Philippines Manila Facebook
URL:https://alum.up.edu.ph/event/planting-seeds-of-hope-a-workshop-on-horticultural-therapy/
END:VEVENT
BEGIN:VEVENT
DTSTART;TZID=UTC:20221202T090000
DTEND;TZID=UTC:20230120T160000
DTSTAMP:20260421T233920
CREATED:20221205T230906Z
LAST-MODIFIED:20230109T221923Z
UID:6205-1669971600-1674230400@alum.up.edu.ph
SUMMARY:PASIKING: Native Backpacks of the Luzon Cordillera
DESCRIPTION:PASIKING: NATIVE BACKPACKS OF THE LUZON CORDILLERA\n\nIn celebration of UP Baguio’s 20th anniversary as a Constituent Unit (CU) of the University of the Philippines\, and the investiture of Dr. Corazon L. Abansi\, third Chancellor of UP Baguio; Museo Kordilyera will have an exhibit opening and launching of the 2023 MK calendar featuring pasiking on December 2\, 2022. Exhibit runs from December 2\, 2022 to January 20\, 2023.\n\nSource: University of the Philippines Baguio Facebook
URL:https://alum.up.edu.ph/event/pasiking-native-backpacks-of-the-luzon-cordillera/
END:VEVENT
BEGIN:VEVENT
DTSTART;VALUE=DATE:20221205
DTEND;VALUE=DATE:20221215
DTSTAMP:20260421T233920
CREATED:20221204T233316Z
LAST-MODIFIED:20221212T192046Z
UID:6154-1670198400-1671062399@alum.up.edu.ph
SUMMARY:UP Manila Christmas Jingle-Tiktok Making Contest
DESCRIPTION:The UP Manila community is encouraged to join the 2022 Christmas Jingle/TikTok Making Contest.\n\nBasic guidelines:\n• Must be a group of at least 3 UPM Community members\n• Write a 15-45 seconds Christmas Jingle* and upload it as a TikTok Video with the #KitakitsUPMPasko\n• Submit your entries to this link: https://tinyurl.com/UPMJingleTikTok\n• Deadline for submission is on 15 December 2022\n\nRead the full guidelines here: https://bit.ly/3B56Tsc (page 22)\n\n—\nA jingle is “a short song or tune that is easy to remember”. The Christmas jingle entry may have original melody and lyrics\, or original lyrics with a borrowed melody with credits to the original.\n\n#KitakitsUPMPasko\n\nSource: University of the Philippines Manila﻿ Facebook
URL:https://alum.up.edu.ph/event/up-manila-christmas-jingle-tiktok-making-contest/
END:VEVENT
BEGIN:VEVENT
DTSTART;VALUE=DATE:20221209
DTEND;VALUE=DATE:20230121
DTSTAMP:20260421T233920
CREATED:20221204T203811Z
LAST-MODIFIED:20221204T203811Z
UID:6130-1670544000-1674259199@alum.up.edu.ph
SUMMARY:“Sulat: Retelling Rizal through Philately”
DESCRIPTION:University of the Philippines Fine Arts professor\, painter and philatelist Marco Ruben T. Malto II undertakes to revisit the life and legacy of the foremost Filipino hero within the realm of philately in his solo exhibit titled “Sulat: Retelling Rizal through Philately.” In partnership with the National Historical Commission of the Philippines through Museo ni Jose Rizal Fort Santiago\, Malto curates his personal collection featuring philatelic items\, artifacts\, and archival materials to commemorate Jose Rizal’s 126th Death Anniversary this December.\n\nThink of our most revered Filipino patriot Jose Rizal as a TikToker creating POVs on his travels\, or talking about our Spanish colonial conditions and his aspirations for la Patria mia! Can you imagine his firing squad footage going viral? How would cancel culture deal with his highly controversial views?\n\nEven in the absence of the internet and social media platforms during his time\, Jose Rizal was every bit a blogger\, a celebrity\, a content creator and an influencer with a massive following. Instead of posts\, tweets or video uploads\, Rizal shared his ideas\, and ideals\, through his most notable novels\, Noli Me Tangere and El Filibusterismo\, his socio-political essays published in La Solidaridad\, and his countless other writings that resonate with Filipinos. As National Artist Nick Joaquin once wrote of Rizal’s influence while still in his teens\, “Already\, what writings of his reach the public are stirring up storms.” Rizal\, a diligent diarist and prolific correspondent\, covered topics from cholera to lottery when not discussing duty to country or complaining about high cost of postage stamps in his letters sent to family\, friends\, lovers\, and compatriots. Whether on overseas sojourn or in exile\, Rizal was able to mail his crucial correspondence due to the already established postal system in the country during his time.  \n\nAs the most documented Filipino in the 19th century\, Rizal’s written works and treasured mementos were duly preserved\, allowing future Filipinos to discover the makings of the most prominent advocate for Philippine reforms during the Spanish regime\, and the nation he fought for. The extensive record of his life firmly seals Jose Rizal’s “national hero” stature in Philippine history\, and his legacy continues to inspire generations of Filipinos\, 126 years after his execution.  \n\nhttps://www.rappler.com/bulletin-board/up-professor-painter-exhibits-retelling-rizal-stamps/
URL:https://alum.up.edu.ph/event/sulat-retelling-rizal-through-philately/
END:VEVENT
BEGIN:VEVENT
DTSTART;TZID=UTC:20221213T080000
DTEND;TZID=UTC:20221213T100000
DTSTAMP:20260421T233920
CREATED:20221201T223921Z
LAST-MODIFIED:20221201T224300Z
UID:6081-1670918400-1670925600@alum.up.edu.ph
SUMMARY:UP Visayas Paskua 2022 Fun Run
DESCRIPTION:Register na UPV! Those who are interested to join the Paskua Fun Run may now register through this link: https://docs.google.com/…/1FAIpQLSfJyhGD8Ayymj…/viewform.\n\nCompetitors who signed up for Competitive category or the Rampa Run should also check the designated color where their office is grouped into to be counted for the “Grupo ta ya.”\n\nSource: University of the Philippines Visayas Facebook
URL:https://alum.up.edu.ph/event/up-visayas-paskua-2022-fun-run/
END:VEVENT
BEGIN:VEVENT
DTSTART;TZID=UTC:20221213T090000
DTEND;TZID=UTC:20221213T120000
DTSTAMP:20260421T233920
CREATED:20221211T220451Z
LAST-MODIFIED:20221211T220451Z
UID:6417-1670922000-1670932800@alum.up.edu.ph
SUMMARY:Public Forum for the presentation of the incumbent FEd Dean's accomplishment report
DESCRIPTION:You are invited to the Public forum for the presentation of the incumbent Faculty of Education dean’s accomplishment report\, 13 December 2022 (Tuesday) 9:00 a.m.\n\nFacebook Event link
URL:https://alum.up.edu.ph/event/public-forum-for-the-presentation-of-the-incumbent-fed-deans-accomplishment-report/
END:VEVENT
BEGIN:VEVENT
DTSTART;TZID=UTC:20221213T090000
DTEND;TZID=UTC:20221221T160000
DTSTAMP:20260421T233920
CREATED:20221208T211819Z
LAST-MODIFIED:20221208T211819Z
UID:6280-1670922000-1671638400@alum.up.edu.ph
SUMMARY:ArtGifts 2022
DESCRIPTION:The exhibit “ArtGifts 2022” opens today\, December 5\, 4 p.m.\, at Gallery Two of the UP Fine Arts Gallery.\n\nThis will showcase UP Diliman College of Fine Arts faculty’s drawings\, paintings\, prints\, photographs\, digital art\, ceramics\, pottery\, and other small works for Christmas. The exhibit will run until December 21.\n\nVisit bit.ly/ParolaVisitorsForm to book an appointment.\n\nThe gallery is open for those with appointments\, from Tuesdays to Saturdays\, from 9 a.m. to 4 p.m.\n\nFor updates\, visit the UP Fine Arts Gallery Facebook page.
URL:https://alum.up.edu.ph/event/artgifts-2022/
END:VEVENT
BEGIN:VEVENT
DTSTART;TZID=UTC:20221213T100000
DTEND;TZID=UTC:20221213T120000
DTSTAMP:20260421T233920
CREATED:20221206T235415Z
LAST-MODIFIED:20221206T235415Z
UID:6261-1670925600-1670932800@alum.up.edu.ph
SUMMARY:Mixed Methods? Responding to Drug Offenders in the Philippines
DESCRIPTION:A complex problem demands an equally multifaceted response. How should we calibrate the Philippines’ anti-drug policy?\n\nSign up and join this roundtable: https://bit.ly/mixedmethods1213\n\nSource: UP Center for Integrative and Development Studies Facebook
URL:https://alum.up.edu.ph/event/mixed-methods-responding-to-drug-offenders-in-the-philippines/
END:VEVENT
BEGIN:VEVENT
DTSTART;TZID=UTC:20221213T140000
DTEND;TZID=UTC:20221213T160000
DTSTAMP:20260421T233920
CREATED:20221212T204039Z
LAST-MODIFIED:20221212T204123Z
UID:6464-1670940000-1670947200@alum.up.edu.ph
SUMMARY:UPOU Faculty of Management and Development Studies Webinar on Career Advancement
DESCRIPTION:Still hyped with the recent UP Open University (UPOU) graduation ceremony? The UPOU Faculty of Management & Development Studies in partnership with PUNLA brings you a Webinar on Career Advancement!\n\nThis is open to all professionals gearing up for new work or advancing careers. Fresh graduates currently applying for work or looking for better work opportunities are also invited.\nThis will be on 13 December 2022\, from 2:00 to 4:00 PM.\n\nAn experienced team of speakers will share their best practices and tips on building your resume and preparing you for a new level of job search and career advancement. Industry representatives have also been invited to share recent skills they are looking for as well as trends in their industries.\n\nSource: UP Open University (UPOU) Facebook
URL:https://alum.up.edu.ph/event/webinar-on-career-advancement/
END:VEVENT
BEGIN:VEVENT
DTSTART;TZID=UTC:20221213T140000
DTEND;TZID=UTC:20221213T180000
DTSTAMP:20260421T233920
CREATED:20221212T191938Z
LAST-MODIFIED:20221212T191938Z
UID:6454-1670940000-1670954400@alum.up.edu.ph
SUMMARY:"Professorial Lectures on the School of Health Sciences and Universal Health Care (UHC)"
DESCRIPTION:“UP Manila School of Health Sciences and the Promise of Universal Health Care”\n\nAn upcoming webinar titled “Professorial Lectures on the School of Health Sciences and Universal Health Care (UHC)” will be hosted by a few faculty members from the different SHS campuses. The virtual meeting will take place on the Zoom Platform on December 13\, 2022\, from 2 to 6 PM.\n\nThere are four key topics that have been lined-up to highlight SHS and its vital contributions to the UHC over time. The purpose of this activity is to elucidate and strengthen the linkages between adequate health workforce\, positive health outcomes\, and universal healthcare.\n\nIn light of this\, you may access the registration form for this free webinar by clicking this link https://bit.ly/ProfessorialLecSHSUHC and the Quick Response (QR) code provided below for easy access.””\n\nSource: UPM-School of Health Sciences Facebook
URL:https://alum.up.edu.ph/event/professorial-lectures-on-the-school-of-health-sciences-and-universal-health-care-uhc/
END:VEVENT
BEGIN:VEVENT
DTSTART;TZID=UTC:20221213T140000
DTEND;TZID=UTC:20221213T190000
DTSTAMP:20260421T233920
CREATED:20221212T190244Z
LAST-MODIFIED:20221212T190244Z
UID:6426-1670940000-1670958000@alum.up.edu.ph
SUMMARY:Sine Halaga 2: Mahalagang Kuwento ng Bawat Filipino
DESCRIPTION:The screening of the film festival “Sine Halaga 2: Mahalagang Kuwento ng Bawat Filipino” (Sine Halaga) will be held today\, December 12\, 2 and 5 p.m.; and tomorrow\, December 13\, 1:30 and 5 p.m.\, at the Cine Adarna\, UP Film Institute (UPFI) Film Center.\n\nThe film festival directed by Elvert Bañares will feature short films depicting one or more of the 20 identified Filipino values in the National Commission for Culture and the Arts (NCCA) Study on Filipino Values.\n\nSine Halaga is a project of the NCCA Filipino Values Program\, in collaboration with the Negros Cultural Foundation\, Inc. and UPFI.\n\nKnow more by visiting https://www.sinehalaga.com/.
URL:https://alum.up.edu.ph/event/sine-halaga-2-mahalagang-kuwento-ng-bawat-filipino/
END:VEVENT
BEGIN:VEVENT
DTSTART;TZID=UTC:20221213T150000
DTEND;TZID=UTC:20221213T163000
DTSTAMP:20260421T233920
CREATED:20221212T224137Z
LAST-MODIFIED:20221212T224149Z
UID:6471-1670943600-1670949000@alum.up.edu.ph
SUMMARY:“The Case of the Missing Inheritance…NOT the Genes: The Role of Directed Chemistry in Transgenerational Epigenetics with Implications for Health\, Sustainability\, and Resiliency"
DESCRIPTION:The Genetics and Molecular Biology Division under the Institute of Biological Sciences of the College of Arts and Sciences invites the public to a DOST-Balik Scientist Seminar\, “The Case of the Missing Inheritance…NOT the Genes: The Role of Directed Chemistry in Transgenerational Epigenetics with Implications for Health\, Sustainability\, and Resiliency.”\n\nSee photo for details.\n\nSource: University of the Philippines Los Baños Facebook
URL:https://alum.up.edu.ph/event/the-case-of-the-missing-inheritancenot-the-genes/
END:VEVENT
BEGIN:VEVENT
DTSTART;TZID=UTC:20221213T160000
DTEND;TZID=UTC:20221213T160000
DTSTAMP:20260421T233920
CREATED:20221209T002414Z
LAST-MODIFIED:20221209T024108Z
UID:6355-1670947200-1670947200@alum.up.edu.ph
SUMMARY:UPLB Farewell to the Old Men's Dorm
DESCRIPTION:Farewell\, Old Men’s Dorm\n\nSince 2011\, the Old Unit 1 of Men’s Residence Hall has been out of commission due to severe deterioration. After all considerations\, together with consultations from former residents\, the final decision was to demolish the building.\n\nThis Christmas break\, the demolition will commence and will end before the start of classes of the 2nd semester AY 2022-2023.\n\nIn tribute to its more than 50 years of service to the University and residents\, the Office of Student Housing will be holding a Farewell program this December 13\, Tuesday\, 4PM at the Men’s Residence Hall.\n\nSource: UPLB Office of Student Housing Facebook
URL:https://alum.up.edu.ph/event/uplb-farewell-to-the-old-mens-dorm/
END:VEVENT
BEGIN:VEVENT
DTSTART;TZID=UTC:20221213T180000
DTEND;TZID=UTC:20221213T180000
DTSTAMP:20260421T233920
CREATED:20221208T234047Z
LAST-MODIFIED:20221208T234047Z
UID:6324-1670954400-1670954400@alum.up.edu.ph
SUMMARY:UPLB Zumba Night
DESCRIPTION:Mas makulay\, mas maliwanag\, mas masaya ang Paskong UPLB dahil nandito ka!\n\nEnjoy the Christmas season on campus with the UPLB Business Affairs Office’s Christmas Bazaar. Meron din silang mga pakulo at iba’t ibang events mula December 9 hanggang 21.\n\nMagpapakitang-gilas at magpapasaya rin ang mga units at kolehiyo ng UPLB with their games and music!\n\nKaya tara! Kitakits sa #PaskongUPLB2022!\n\nSource: University of the Philippines Los Baños Facebook
URL:https://alum.up.edu.ph/event/uplb-zumba-night/
END:VEVENT
BEGIN:VEVENT
DTSTART;TZID=UTC:20221213T190000
DTEND;TZID=UTC:20221213T190000
DTSTAMP:20260421T233920
CREATED:20221209T011204Z
LAST-MODIFIED:20221209T011204Z
UID:6357-1670958000-1670958000@alum.up.edu.ph
SUMMARY:UPLB CEAT's KarolENGan
DESCRIPTION:Mas makulay\, mas maliwanag\, mas masaya ang Paskong UPLB dahil nandito ka!\n\nEnjoy the Christmas season on campus with the UPLB Business Affairs Office’s Christmas Bazaar. Meron din silang mga pakulo at iba’t ibang events mula December 9 hanggang 21.\n\nMagpapakitang-gilas at magpapasaya rin ang mga units at kolehiyo ng UPLB with their games and music!\n\nKaya tara! Kitakits sa #PaskongUPLB2022!\n\nSource: University of the Philippines Los Baños Facebook
URL:https://alum.up.edu.ph/event/uplb-ceats-karolengan/
END:VEVENT
END:VCALENDAR