BEGIN:VCALENDAR
VERSION:2.0
PRODID:-//UP Alumni Website - ECPv6.15.16//NONSGML v1.0//EN
CALSCALE:GREGORIAN
METHOD:PUBLISH
X-WR-CALNAME:UP Alumni Website
X-ORIGINAL-URL:https://alum.up.edu.ph
X-WR-CALDESC:Events for UP Alumni Website
REFRESH-INTERVAL;VALUE=DURATION:PT1H
X-Robots-Tag:noindex
X-PUBLISHED-TTL:PT1H
BEGIN:VTIMEZONE
TZID:UTC
BEGIN:STANDARD
TZOFFSETFROM:+0000
TZOFFSETTO:+0000
TZNAME:UTC
DTSTART:20220101T000000
END:STANDARD
END:VTIMEZONE
BEGIN:VEVENT
DTSTART;VALUE=DATE:20230109
DTEND;VALUE=DATE:20230214
DTSTAMP:20260422T073315
CREATED:20221113T234810Z
LAST-MODIFIED:20221113T234810Z
UID:5508-1673222400-1676332799@alum.up.edu.ph
SUMMARY:Designing Flexible Learning in Nursing - Pedagogy
DESCRIPTION:What: Designing Flexible Learning in Nursing – Pedagogy\nWhen: January 9 to February 13\, 2023\nPlatform: UPCN Online Learning and Zoom\nSchedule: Monday Afternoons (Synchronous Sessions); 6 weeks of module-guided asynchronous activities\n\nThe Designing Flexible Learning in Nursing Program (DFLN program) strives to equip the Nursing faculty to shift towards flexible teaching and learning. This comprises three (3) components – Pedagogy\, Content\, and Technology. DFLN Pedagogy focuses on the method and practice of teaching Nursing following the principles of flexibility.\n\nREGISTER NOW!\nLink: https://forms.gle/DLLkAwyagMXm4vk78\n\nPlease complete your registration and payment by DECEMBER 30\, 2022.\n\nFor inquiries\, please send an email to Asst. Prof. Kenny-lynn Baccay through upcn-cecesp.upm@up.edu.ph with the subject [DFLN 4.0 Inquiry]\n\n#GlobalGoals #SDG4 #SDG4QualityEducation #FlexibleLearning\n\nSource: UP College of Nursing Facebook
URL:https://alum.up.edu.ph/event/designing-flexible-learning-in-nursing-pedagogy/
END:VEVENT
BEGIN:VEVENT
DTSTART;VALUE=DATE:20230109
DTEND;VALUE=DATE:20230131
DTSTAMP:20260422T073315
CREATED:20230108T211550Z
LAST-MODIFIED:20230108T211755Z
UID:6676-1673222400-1675123199@alum.up.edu.ph
SUMMARY:Call for Papers: 5th Japanese Studies in the Philippines Research Competition
DESCRIPTION:The UP Diliman Asian Center\, in partnership with the Japan Foundation Manila\, is accepting Japan-related research papers for the “5th Japanese Studies in the Philippines Research Competition” until January 30\, Monday\, 5 p.m.\n\nKnow more about the submission guidelines at https://ac.upd.edu.ph/…/3186-call-for-papers-the-5th….
URL:https://alum.up.edu.ph/event/call-for-papers-5th-japanese-studies-in-the-philippines-research-competition/
END:VEVENT
BEGIN:VEVENT
DTSTART;VALUE=DATE:20230113
DTEND;VALUE=DATE:20230302
DTSTAMP:20260422T073315
CREATED:20221115T174426Z
LAST-MODIFIED:20221115T174426Z
UID:5554-1673568000-1677715199@alum.up.edu.ph
SUMMARY:NurseLEAD Year 2 Batch 4
DESCRIPTION:NurseLEAD is now accepting applicants for Year 2 Batch 4!\n\nThis is an online course for advanced practice in Public Health Nursing that aims to strengthen nurse competencies in leading and managing primary care services and population-based programs\, carrying out supervisory and leadership responsibilities\, and fostering interprofessional education and collaborative practice.\n\nQualifications of participants are: Nurses who are (1) actively working in the public health setting and (2) have at least two years of experience as a leader or supervisor\, manager\, coordinator.\n\nDepEd School Nurses will also be accepted for this batch. Kindly email upnurselead@gmail.com for more information.\n\n#NurseLEAD2\n\nSource: UPCN Nurse LEAD Facebook
URL:https://alum.up.edu.ph/event/nurselead-year-2-batch-4/
END:VEVENT
BEGIN:VEVENT
DTSTART;TZID=UTC:20230119T090000
DTEND;TZID=UTC:20230203T160000
DTSTAMP:20260422T073315
CREATED:20230108T212126Z
LAST-MODIFIED:20230110T233423Z
UID:6685-1674118800-1675440000@alum.up.edu.ph
SUMMARY:Soon There Will Be Flowers: Exhibition by Dakila Fernando
DESCRIPTION:The UP Diliman College of Fine Arts (CFA) invites everyone to the opening of three exhibits at the Parola: UP Fine Arts Gallery\, UP Diliman this January.\n\nBook an appointment at bit.ly/ParolaVisitorsForm.\n\nThe gallery is open for those with appointments\, from Tuesdays to Saturdays\, from 9 a.m. to 4 p.m.\n\nThe exhibit “Soon There Will Be Flowers” by Dakila Fernando\, former chair of the CFA Department of Theory\, will be launched on January 19\, Thursday\, at 4:30 p.m.\n\nGallery Hours: 9am-4pm\, Tuesdays-Saturdays
URL:https://alum.up.edu.ph/event/soon-there-will-be-flowers-exhibition-by-dakila-fernando/
END:VEVENT
BEGIN:VEVENT
DTSTART;VALUE=DATE:20230123
DTEND;VALUE=DATE:20230125
DTSTAMP:20260422T073315
CREATED:20230120T005151Z
LAST-MODIFIED:20230120T005151Z
UID:6944-1674432000-1674604799@alum.up.edu.ph
SUMMARY:Pagsalud han Dan-ag han Adlaw / Cupping the Flow of Sunlight (Gleanings from the Natural and Cultural Heritage of Eastern Visayas)
DESCRIPTION:Pagsalud han Dan-ag han Adlaw / Cupping the Flow of Sunlight (Gleanings from the Natural and Cultural Heritage of Eastern Visayas)\n\nAll are invited to visit UP Tacloban’s 50th anniversary exhibit at the Robinson’s North Activity Center during mall hours on 23-24 January 2023.\n\nThe interactive educational exhibit is the kickoff activity for UP Tacloban’s year-long celebration of its 50th founding anniversary. The exhibit features paintings\, photographs\, specimens\, maps\, and multimedia productions drawn from some of the research and creative work undertaken by UP Tacloban scholars\, as well as a full-sized replica of the UP Oblation by UP Artist and Professor Emeritus Grace Javier Alfonso as centerpiece. There are also scheduled performances\, short lectures\, workshops\, and book launchings during the two-day event.\n\nThe exhibit title “Pagsalud han dan-ag han adlaw” is Victor Sugbo’s translation of a line from his poem “The Fishers.” The line is part of a longer segment — “Beneath the mangrove trees\, boats / Cupping the flow of sunlight / As if rainwater filling up an empty jar” — that we take as a metaphor for the scholarly and creative work of UP Tacloban faculty\, staff\, and students on the natural and cultural heritage of Eastern Visayas.\n\nThe exhibit motif is mangroves\, symbolizing the rich biodiversity\, culture\, and traditions of Region 8\, as well as the resilience of Eastern Visayan communities in the face of various natural calamities and social upheavals. It is also symbolic of the interconnectedness of the scholarly disciplines in critical and creative thinking and doing.\n\nThrough this showcase of its knowledge production as an institution of higher learning over the past 50 years\, UP Tacloban hopes to inspire and engage the people of Eastern Visayas in the critical work of natural and cultural heritage preservation\, environmental and biodiversity conservation\, community empowerment\, and sustainable development.\n\n#UPTaclobanAt50\n\nSource: UPV Tacloban College Facebook
URL:https://alum.up.edu.ph/event/pagsalud-han-dan-ag-han-adlaw-cupping-the-flow-of-sunlight-gleanings-from-the-natural-and-cultural-heritage-of-eastern-visayas/
END:VEVENT
BEGIN:VEVENT
DTSTART;TZID=UTC:20230124T080000
DTEND;TZID=UTC:20230124T090000
DTSTAMP:20260422T073315
CREATED:20230120T011955Z
LAST-MODIFIED:20230120T011955Z
UID:6963-1674547200-1674550800@alum.up.edu.ph
SUMMARY:Kalinga sa Matatanda: Senior Citizen Program Gold Dance Fitness
DESCRIPTION:Inaanyayahan ang mga senior citizen ng UP Diliman sa “Kalinga sa Matatanda: Senior Citizen Program Gold Dance Fitness” na gaganapin sa Enero 24\, Martes\, 8-9 n.u. sa UP Health Service (UPHS) Parking Lot.\n\nUpang makilahok\, tumawag lamang sa UPHS Public Health Unit sa (02) 8981-8500 lokal 2719.
URL:https://alum.up.edu.ph/event/kalinga-sa-matatanda-senior-citizen-program-gold-dance-fitness/
END:VEVENT
BEGIN:VEVENT
DTSTART;TZID=UTC:20230124T080000
DTEND;TZID=UTC:20230124T170000
DTSTAMP:20260422T073315
CREATED:20221215T000016Z
LAST-MODIFIED:20221215T000016Z
UID:6509-1674547200-1674579600@alum.up.edu.ph
SUMMARY:UP College of Law Synchronous MCLE Online Seminar
DESCRIPTION:The UP Institute for the Administration of Justice will be conducting a January Program of the Synchronous MCLE Online Seminar (via Zoom) for the period of 10\, 12\, 17\, 24\, and 31 January 2023.\n\nInterested participants may register thru https://uplaw.ph/mclejanuary2023program.\n\nRegistration is until 5 January 2023 on a First Come First Serve basis.\n\nClick this link for more details https://law.upd.edu.ph/mcle/.\n\n#UPCollegeofLaw #UPLaw #UPLawMCLE\n\nSource: University of the Philippines College of Law Facebook
URL:https://alum.up.edu.ph/event/up-college-of-law-synchronous-mcle-online-seminar-4/
END:VEVENT
BEGIN:VEVENT
DTSTART;TZID=UTC:20230124T080000
DTEND;TZID=UTC:20230203T180000
DTSTAMP:20260422T073315
CREATED:20230126T225413Z
LAST-MODIFIED:20230126T225413Z
UID:7099-1674547200-1675447200@alum.up.edu.ph
SUMMARY:LABING ISANG DALIRI
DESCRIPTION:LABING ISANG DALIRI\nby the UP Painters’ Club\n\nSining Makiling Gallery\, DL Umali Hall\, UPLB\nGallery hours: 8AM to 6PM\, Monday to Friday\n\nOpening on 24 January 2023\, 4PM\nExhibit runs until 3 February 2023\n\n———————————————\n\nREVIVAL. After three years of dormancy\, The UP Painters’ Club (UPPC) is finally back to present what the organization’s resident members and alumni could offer with their skillful hands and eleventh extra finger\, ika-labing isang daliri\, figuratively the media or tool of their choice which makes the creation of their artworks possible. The annual art exhibit serves as an avenue for the artists to express themselves in different shapes and forms\, and to continue uplifting visual arts appreciation across different communities.\n\nThe UPPC is the longest-living visual arts organization in the science- and technology-oriented University of the Philippines Los Baños (UPLB). The organization was founded on July 1\, 1992 by Mario C. Angay together with 10 charter members. From the Visionaries\, Teserae\, and 30 years later with batch Figulus\, the organization remains to be a safe haven of visual arts in UPLB. Since then\, UPPC has become an avenue for artists and art enthusiasts alike devoted to enhancing their skills and talents in the field of visual arts.\n\nLabing-Isang Daliri 2023 is not merely an art exhibit\, but also a celebration of artistry from different generations and academic fields. It is an event that serves as a reminder to everyone\, artists and art enthusiasts of different backgrounds\, that there is a space for us\, and for the artworks that we make or we will make with our hands and our chosen eleventh finger.\n\nSource: UPLB Office for Initiatives in Culture and the Arts Facebook
URL:https://alum.up.edu.ph/event/labing-isang-daliri/
END:VEVENT
BEGIN:VEVENT
DTSTART;TZID=UTC:20230124T140000
DTEND;TZID=UTC:20230124T160000
DTSTAMP:20260422T073315
CREATED:20230117T224005Z
LAST-MODIFIED:20230117T224005Z
UID:6835-1674568800-1674576000@alum.up.edu.ph
SUMMARY:All's Well That Blends Well
DESCRIPTION:The UP DECL invites you to All’s Well That Blends Well\, January 24\, 2023\, 2PM via Zoom. We will discuss the DECL’s best practices in blended learning pedagogy\, drawing from the previous semester’s experience of having 50% of classes taught in the blended mode.\n\nYou may register at the following Zoom link: https://up-edu.zoom.us/webinar/register/WN_ips1Acr6QkO3c0wmElVedQ
URL:https://alum.up.edu.ph/event/alls-well-that-blends-well/
END:VEVENT
BEGIN:VEVENT
DTSTART;TZID=UTC:20230124T140000
DTEND;TZID=UTC:20230124T160000
DTSTAMP:20260422T073315
CREATED:20230123T211214Z
LAST-MODIFIED:20230123T211214Z
UID:7018-1674568800-1674576000@alum.up.edu.ph
SUMMARY:Glycan Arrays\, Diagnostics and Mycobacteriophages
DESCRIPTION:Everyone is invited to the lecture “Glycan Arrays\, Diagnostics and Mycobacteriophages” of the UP Diliman Institute of Chemistry (IC) on January 24\, Tuesday\, 2 p.m.\, at the Chemrez AVR Room 201-205\, IC Teaching Building.\n\nThe lecture will be presented by Todd Lowary\, PhD\, a distinguished research fellow and director of the Academia Sinica Institute of Biological Chemistry in Taiwan.
URL:https://alum.up.edu.ph/event/glycan-arrays-diagnostics-and-mycobacteriophages-2/
END:VEVENT
BEGIN:VEVENT
DTSTART;TZID=UTC:20230124T170000
DTEND;TZID=UTC:20230125T190000
DTSTAMP:20260422T073315
CREATED:20230120T011025Z
LAST-MODIFIED:20230120T011346Z
UID:6955-1674579600-1674673200@alum.up.edu.ph
SUMMARY:UPFI Film Center New Year 2023 Screenings
DESCRIPTION:The UP Film Institute (UPFI) Film Center invites everyone to the screening of films directed respectively by Joel Lamangan and Jason Paul Laxamana on January 20\, 21\, 24\, 25\, 27\, 28\, 31\, and February 2 at the Cine Adarna\, UPFI Film Center.\n\nTickets are available at the cinema entrance.\n\nSee photo for more details.\n\nFor more information and updates\, visit the UPFI Film Center’s Facebook page.
URL:https://alum.up.edu.ph/event/upfi-film-center-new-year-2023-screenings-2/
END:VEVENT
END:VCALENDAR