BEGIN:VCALENDAR
VERSION:2.0
PRODID:-//UP Alumni Website - ECPv6.15.16//NONSGML v1.0//EN
CALSCALE:GREGORIAN
METHOD:PUBLISH
X-WR-CALNAME:UP Alumni Website
X-ORIGINAL-URL:https://alum.up.edu.ph
X-WR-CALDESC:Events for UP Alumni Website
REFRESH-INTERVAL;VALUE=DURATION:PT1H
X-Robots-Tag:noindex
X-PUBLISHED-TTL:PT1H
BEGIN:VTIMEZONE
TZID:UTC
BEGIN:STANDARD
TZOFFSETFROM:+0000
TZOFFSETTO:+0000
TZNAME:UTC
DTSTART:20220101T000000
END:STANDARD
END:VTIMEZONE
BEGIN:VEVENT
DTSTART;VALUE=DATE:20230109
DTEND;VALUE=DATE:20230214
DTSTAMP:20260424T120005
CREATED:20221113T234810Z
LAST-MODIFIED:20221113T234810Z
UID:5508-1673222400-1676332799@alum.up.edu.ph
SUMMARY:Designing Flexible Learning in Nursing - Pedagogy
DESCRIPTION:What: Designing Flexible Learning in Nursing – Pedagogy\nWhen: January 9 to February 13\, 2023\nPlatform: UPCN Online Learning and Zoom\nSchedule: Monday Afternoons (Synchronous Sessions); 6 weeks of module-guided asynchronous activities\n\nThe Designing Flexible Learning in Nursing Program (DFLN program) strives to equip the Nursing faculty to shift towards flexible teaching and learning. This comprises three (3) components – Pedagogy\, Content\, and Technology. DFLN Pedagogy focuses on the method and practice of teaching Nursing following the principles of flexibility.\n\nREGISTER NOW!\nLink: https://forms.gle/DLLkAwyagMXm4vk78\n\nPlease complete your registration and payment by DECEMBER 30\, 2022.\n\nFor inquiries\, please send an email to Asst. Prof. Kenny-lynn Baccay through upcn-cecesp.upm@up.edu.ph with the subject [DFLN 4.0 Inquiry]\n\n#GlobalGoals #SDG4 #SDG4QualityEducation #FlexibleLearning\n\nSource: UP College of Nursing Facebook
URL:https://alum.up.edu.ph/event/designing-flexible-learning-in-nursing-pedagogy/
END:VEVENT
BEGIN:VEVENT
DTSTART;VALUE=DATE:20230113
DTEND;VALUE=DATE:20230302
DTSTAMP:20260424T120005
CREATED:20221115T174426Z
LAST-MODIFIED:20221115T174426Z
UID:5554-1673568000-1677715199@alum.up.edu.ph
SUMMARY:NurseLEAD Year 2 Batch 4
DESCRIPTION:NurseLEAD is now accepting applicants for Year 2 Batch 4!\n\nThis is an online course for advanced practice in Public Health Nursing that aims to strengthen nurse competencies in leading and managing primary care services and population-based programs\, carrying out supervisory and leadership responsibilities\, and fostering interprofessional education and collaborative practice.\n\nQualifications of participants are: Nurses who are (1) actively working in the public health setting and (2) have at least two years of experience as a leader or supervisor\, manager\, coordinator.\n\nDepEd School Nurses will also be accepted for this batch. Kindly email upnurselead@gmail.com for more information.\n\n#NurseLEAD2\n\nSource: UPCN Nurse LEAD Facebook
URL:https://alum.up.edu.ph/event/nurselead-year-2-batch-4/
END:VEVENT
BEGIN:VEVENT
DTSTART;TZID=UTC:20230119T090000
DTEND;TZID=UTC:20230203T160000
DTSTAMP:20260424T120005
CREATED:20230108T212126Z
LAST-MODIFIED:20230110T233423Z
UID:6685-1674118800-1675440000@alum.up.edu.ph
SUMMARY:Soon There Will Be Flowers: Exhibition by Dakila Fernando
DESCRIPTION:The UP Diliman College of Fine Arts (CFA) invites everyone to the opening of three exhibits at the Parola: UP Fine Arts Gallery\, UP Diliman this January.\n\nBook an appointment at bit.ly/ParolaVisitorsForm.\n\nThe gallery is open for those with appointments\, from Tuesdays to Saturdays\, from 9 a.m. to 4 p.m.\n\nThe exhibit “Soon There Will Be Flowers” by Dakila Fernando\, former chair of the CFA Department of Theory\, will be launched on January 19\, Thursday\, at 4:30 p.m.\n\nGallery Hours: 9am-4pm\, Tuesdays-Saturdays
URL:https://alum.up.edu.ph/event/soon-there-will-be-flowers-exhibition-by-dakila-fernando/
END:VEVENT
BEGIN:VEVENT
DTSTART;TZID=UTC:20230124T080000
DTEND;TZID=UTC:20230203T180000
DTSTAMP:20260424T120005
CREATED:20230126T225413Z
LAST-MODIFIED:20230126T225413Z
UID:7099-1674547200-1675447200@alum.up.edu.ph
SUMMARY:LABING ISANG DALIRI
DESCRIPTION:LABING ISANG DALIRI\nby the UP Painters’ Club\n\nSining Makiling Gallery\, DL Umali Hall\, UPLB\nGallery hours: 8AM to 6PM\, Monday to Friday\n\nOpening on 24 January 2023\, 4PM\nExhibit runs until 3 February 2023\n\n———————————————\n\nREVIVAL. After three years of dormancy\, The UP Painters’ Club (UPPC) is finally back to present what the organization’s resident members and alumni could offer with their skillful hands and eleventh extra finger\, ika-labing isang daliri\, figuratively the media or tool of their choice which makes the creation of their artworks possible. The annual art exhibit serves as an avenue for the artists to express themselves in different shapes and forms\, and to continue uplifting visual arts appreciation across different communities.\n\nThe UPPC is the longest-living visual arts organization in the science- and technology-oriented University of the Philippines Los Baños (UPLB). The organization was founded on July 1\, 1992 by Mario C. Angay together with 10 charter members. From the Visionaries\, Teserae\, and 30 years later with batch Figulus\, the organization remains to be a safe haven of visual arts in UPLB. Since then\, UPPC has become an avenue for artists and art enthusiasts alike devoted to enhancing their skills and talents in the field of visual arts.\n\nLabing-Isang Daliri 2023 is not merely an art exhibit\, but also a celebration of artistry from different generations and academic fields. It is an event that serves as a reminder to everyone\, artists and art enthusiasts of different backgrounds\, that there is a space for us\, and for the artworks that we make or we will make with our hands and our chosen eleventh finger.\n\nSource: UPLB Office for Initiatives in Culture and the Arts Facebook
URL:https://alum.up.edu.ph/event/labing-isang-daliri/
END:VEVENT
BEGIN:VEVENT
DTSTART;TZID=UTC:20230130T100000
DTEND;TZID=UTC:20230715T160000
DTSTAMP:20260424T120005
CREATED:20230209T234249Z
LAST-MODIFIED:20230209T234249Z
UID:7577-1675072800-1689436800@alum.up.edu.ph
SUMMARY:Pagsalud han Dan-ag han Adlaw / Cupping the Flow of Sunlight (Gleanings from the Natural and Cultural Heritage of Eastern Visayas) Exhibit + Origami-making
DESCRIPTION:In celebration of National Arts Month this February 2023\, the Leyte Samar Heritage Center is offering the following activities:\n\nPagsalud han Dan-ag han Adlaw / Cupping the Flow of Sunlight (Gleanings from the Natural and Cultural Heritage of Eastern Visayas) Exhibit + Origami-making\nExhibit run: 30 January – 15 July 2023\nGallery hours: Monday – Friday | 10:00 AM – 4:00 PM\n\nBook here [https://forms.gle/Sm9iMDqcyExDhyFd6]\n\nSiday Magnet Poem Workshop\n15 February – 15 July 2023\nWednesdays | 10:00 AM – 3:00 PM\n\nBook here [https://forms.gle/jeRi7uRD3wJ5v6ST7]\n\nVisit us and learn more about the biodiversity\, arts\, and culture of Eastern Visayas!\n\nAdmission is free!\n\n#NationalArtsMonth2023\n#UPTaclobanat50\n\nSource: UPVTC Leyte Samar Heritage Center Facebook
URL:https://alum.up.edu.ph/event/pagsalud-han-dan-ag-han-adlaw-cupping-the-flow-of-sunlight-gleanings-from-the-natural-and-cultural-heritage-of-eastern-visayas-exhibit-origami-making/
END:VEVENT
BEGIN:VEVENT
DTSTART;TZID=UTC:20230201T090000
DTEND;TZID=UTC:20230203T130000
DTSTAMP:20260424T120005
CREATED:20230110T223615Z
LAST-MODIFIED:20230110T223615Z
UID:6762-1675242000-1675429200@alum.up.edu.ph
SUMMARY:Introduction to One Health: Challenges and Opportunities to Achieve Better Public Health Outcomes
DESCRIPTION:One Health is a holistic and multidisciplinary approach addressing a wide range of health issues through policies\, programs\, and research to achieve better public health outcomes. The areas of work where One Health approach is particularly relevant include food safety\, control of zoonotic diseases\, and combating antimicrobial resistance.\n\nIn commemoration of the 96th CPH Foundation and 57th SEAMEO TropMed Philippines Anniversary\, this regional short course will be offered to local and international health\, allied health\, and collaborating professionals as part of their continuing professional development. By introducing One Health and its\nimportance to a multidisciplinary group of participants\, this course provides a venue for initial interaction and discussion of professionals with varying backgrounds but with common interests that will pave the way for future partnerships and collaborations in the region and beyond. This event is aligned with Sustainable Development Goals 2 (Zero hunger)\, 3 (Good health and well- being) and 17 (Partnership for goals).\n\nLink to registration form: https://forms.gle/mpHwtt7tpAxcNcjs8\n\nSource: College of Public Health\, University of the Philippines Facebook
URL:https://alum.up.edu.ph/event/introduction-to-one-health-challenges-and-opportunities-to-achieve-better-public-health-outcomes/
END:VEVENT
BEGIN:VEVENT
DTSTART;TZID=UTC:20230202T080000
DTEND;TZID=UTC:20230202T090000
DTSTAMP:20260424T120005
CREATED:20230131T212904Z
LAST-MODIFIED:20230131T212904Z
UID:7202-1675324800-1675328400@alum.up.edu.ph
SUMMARY:"Kabilin: Paglulunsad ng UP Diliman Culture Bearers-in-Residence Program
DESCRIPTION:Kaalinsabay ng pagdiriwang ng Pambansang Buwan ng Sining\, inihahandog ng UP Diliman Office for Initiatives in Culture and the Arts (UPD-OICA) ang 𝘜𝘗 𝘋𝘪𝘭𝘪𝘮𝘢𝘯 𝘈𝘳𝘵𝘴 𝘢𝘯𝘥 𝘊𝘶𝘭𝘵𝘶𝘳𝘦 𝘍𝘦𝘴𝘵𝘪𝘷𝘢𝘭 2023\, “𝗞𝗔𝗟𝗢𝗢𝗕 𝗠𝘂𝗹𝗮 𝗮𝘁 𝗧𝘂𝗻𝗴𝗼 𝘀𝗮 𝗕𝗮𝘆𝗮𝗻: 𝗔𝗿𝘁𝗶𝘀𝘁𝗮-𝗜𝘀𝗸𝗼𝗹𝗮𝗿-𝗠𝗮𝗻𝗹𝗶𝗹𝗶𝗸𝗵𝗮.”\n\nMula Pebrero hanggang Marso\, makibahagi sa mga kaloob naming programa\, tampok ang mga pisikal at birtuwal na eksibit\, panayam\, talakayan\, at pagtatanghal. Kasabay ng pagbabalik-campus ng mga estudyante\, guro\, at kawani ng Pamantasan\, pagtibayin natin muli\, sa pamamagitan ng sining\, ang ugnayan sa ating komunidad na pinaghiwalay ng pandemya.\n\nTumunghay sa opisyal na Facebook page ng UPD-OICA para sa mga anunsiyo. I-click ang link na ito (https://bit.ly/2023UPDACF) para ma-access at ma-download ang UPD ACF 2023 brochure. Maaari ring mag-message sa aming account para sa mga tanong at karagdagang impormasyon.\n\nKilalanin at ipagbunyi ang mga pamana ng mga artista-iskolar-manlilikha\, mga tunay na yaman ng sambayanan!\n\n#UPDArtsCultureFestival2023\n#Kaloob\n#ArtistaIskolarManlilikha\n#NAM2023\n\nSource: UP Diliman OICA Facebook
URL:https://alum.up.edu.ph/event/kabilin-paglulunsad-ng-up-diliman-culture-bearers-in-residence-program/
END:VEVENT
BEGIN:VEVENT
DTSTART;TZID=UTC:20230202T080000
DTEND;TZID=UTC:20230202T170000
DTSTAMP:20260424T120005
CREATED:20230122T193020Z
LAST-MODIFIED:20230122T205738Z
UID:6981-1675324800-1675357200@alum.up.edu.ph
SUMMARY:Mandatory Continuing Legal Education Synchronous Online Seminar
DESCRIPTION:The “Mandatory Continuing Legal Education Synchronous Online Seminar” of the UP Law Center Institute for the Administration of Justice will be conducted on February 7\, 9\, 14\, 21\, and 28.\n\nRegister at uplaw.ph/mclefebruary2023program until February 2.\n\nVisit https://law.upd.edu.ph/mcle/ for more details.
URL:https://alum.up.edu.ph/event/mandatory-continuing-legal-education-synchronous-online-seminar-9/
END:VEVENT
BEGIN:VEVENT
DTSTART;TZID=UTC:20230202T080000
DTEND;TZID=UTC:20230202T170000
DTSTAMP:20260424T120005
CREATED:20230125T230710Z
LAST-MODIFIED:20230125T230710Z
UID:7059-1675324800-1675357200@alum.up.edu.ph
SUMMARY:Human Milk Donation Drive
DESCRIPTION:Breastfriend kita\, Inay! Gatas na handog mo\, dugsong sa buhay ng baby ko 🤱🏽\n\nNgayong February 2\, tara na at sumama sa Human Milk Donation Drive na gaganapin mula 8AM-5PM sa Munisipyo ng Los Baños\, Laguna.\n\nPara sa mga katanungan\, makipag-ugnayan sa LATCH Los Baños.\n\nThis activity is brought to you by the Los Baños Laguna LGU\, University of the Philippines\, and LATCH Los Baños.\n\n#upouogc #humanmilkbank #humanmilkdonationdrive\n\nSource: UPOU Office of Gender Concerns Facebook
URL:https://alum.up.edu.ph/event/human-milk-donation-drive/
END:VEVENT
BEGIN:VEVENT
DTSTART;TZID=UTC:20230202T090000
DTEND;TZID=UTC:20230202T120000
DTSTAMP:20260424T120005
CREATED:20230201T001747Z
LAST-MODIFIED:20230201T001837Z
UID:7267-1675328400-1675339200@alum.up.edu.ph
SUMMARY:Building the Next Singapore(s) in the Region: The Case of Butuan
DESCRIPTION:In an effort to promote the sharing of sustainable development experiences and approaches\, the Faculty of Management and Development Studies (FMDS) of the University of the Philippines Open University (UPOU) seeks to raise an important question\, “How do we move forward through joint explorations and research collaborations?”\n\nTo explore this\, webinars on Sustainable Shared Growth will be conducted on 02 February and 28 February 2023\, 9:00 AM – 12:00 PM (PhT) via Zoom.\n\nThe webinar on 02 February will discuss the case of Butuan in building the next Singapore(s) in the region. It will feature Arch. Michael Tomeldan\, an environmental planner and professor at the University of the Philippines (UP) College of Architecture\, who will give an introduction to the Master Plan for Sustainable Urban Infrastructure Development (MPSUID); and Dr. Max Maquito\, assistant professor at the College of Public Affairs and Development (CPAf)\, UP Los Baños (UPLB)\, who will discuss a sustainable shared growth perspective of the MPSUID.\n\nMs. Melanie A. Maur\, Chief Economic Development Specialist of Project Monitoring and Evaluation Division of National Economic Development Authority (NEDA) Caraga and Ms. Cristina Romarate-Arcillas\, President of the Butuan Chamber of Commerce\, will also discuss MPSUID insights from the public and private sector perspectives.\n\nMeanwhile\, the webinar on 28 February will talk about community currency and community innovations. Dr. Maquito will present the basics and design of a community currency scheme. The webinar will also feature Dr. Kenichi Kurita of Chiba Keizai College; Dr. Yoshihisa Miyazaki of National Institute of Technology\, Sendai College; and Dr. John Perez of CPAf\, UPLB as panel discussants.\n\nThe seminars are organized in collaboration with CPAf\, UPLB and the Sekiguchi Global Research Association of the Atsumi International Scholarship Foundation.\n\nInterested participants may register for free through the following links:\n\nRegistration Form: Building the Next Singapore(s) in the Region: The Case of Butuan\n\nSource: https://fmds.upou.edu.ph/archives/news-and-events
URL:https://alum.up.edu.ph/event/building-the-next-singapores-in-the-region-the-case-of-butuan/
END:VEVENT
BEGIN:VEVENT
DTSTART;TZID=UTC:20230202T130000
DTEND;TZID=UTC:20230202T170000
DTSTAMP:20260424T120005
CREATED:20230130T222406Z
LAST-MODIFIED:20230130T222406Z
UID:7176-1675342800-1675357200@alum.up.edu.ph
SUMMARY:Tipunan: "Konsultatibong Pagpupulong para sa Demokratikong Pamamahala sa Pamantasan"
DESCRIPTION:The Office of the Faculty Regent (Opisina ng Faculty Regent) invites the members of the faculty to its first system-wide consultative meeting\, Tipunan: Konsultatibong Pagpupulong para sa Demokratikong Pamamahala sa Pamantasan on 2 February 2023\, 1:00 to 5:00 PM.\n\nInterested participants may register using this link until January 30:https://up-edu.zoom.us/…/tJYkceyrpz4rGd2ItTCpN4ww7cd7wB…\n\nProposals on the establishment of a Faculty Welfare Council\, review of the Faculty Regent selection process guidelines\, and the institutionalization of the Committee to Protect Academic Freedom will be presented during this activity.\n\n🔗Program: https://www.upm.edu.ph/node/4101\n\nSource: University of the Philippines Manila Facebook
URL:https://alum.up.edu.ph/event/tipunan-konsultatibong-pagpupulong-para-sa-demokratikong-pamamahala-sa-pamantasan/
END:VEVENT
BEGIN:VEVENT
DTSTART;TZID=UTC:20230202T130000
DTEND;TZID=UTC:20230202T170000
DTSTAMP:20260424T120005
CREATED:20230201T180823Z
LAST-MODIFIED:20230201T180823Z
UID:7282-1675342800-1675357200@alum.up.edu.ph
SUMMARY:Tipunan: Konsultatibong Pagpupulong Para sa Demokratikong Pamamahala sa Pamantasan
DESCRIPTION:The UP Office of the Faculty Regent will hold the “Tipunan: Konsultatibong Pagpupulong Para sa Demokratikong Pamamahala sa Pamantasan” tomorrow\, February 2\, 1-5 p.m.\, at the UP Manila Boardroom\, 8/F PGH Central Block and via Zoom.\n\nFull-time and part-time faculty\, professors emeriti\, lecturers\, and teaching assistants / fellows are invited to participate in this first system-wide consultative meeting.\n\nRegister at https://bit.ly/3jlTczy.
URL:https://alum.up.edu.ph/event/tipunan-konsultatibong-pagpupulong-para-sa-demokratikong-pamamahala-sa-pamantasan-2/
END:VEVENT
BEGIN:VEVENT
DTSTART;TZID=UTC:20230202T140000
DTEND;TZID=UTC:20230202T190000
DTSTAMP:20260424T120005
CREATED:20230131T225519Z
LAST-MODIFIED:20230131T225519Z
UID:7248-1675346400-1675364400@alum.up.edu.ph
SUMMARY:UPFI Film Center New Year 2023 Screenings
DESCRIPTION:The UP Film Institute (UPFI) Film Center invites everyone to the screening of films directed respectively by Joel Lamangan and Jason Paul Laxamana on January 20\, 21\, 24\, 25\, 27\, 28\, 31\, and February 2 at the Cine Adarna\, UPFI Film Center.\n\nTickets are available at the cinema entrance.\n\nSee photo for more details.\n\nFor more information and updates\, visit the UPFI Film Center’s Facebook page.
URL:https://alum.up.edu.ph/event/upfi-film-center-new-year-2023-screenings-6/
END:VEVENT
BEGIN:VEVENT
DTSTART;TZID=UTC:20230202T170000
DTEND;TZID=UTC:20230202T190000
DTSTAMP:20260424T120005
CREATED:20230120T011304Z
LAST-MODIFIED:20230120T011304Z
UID:6961-1675357200-1675364400@alum.up.edu.ph
SUMMARY:UPFI Film Center New Year 2023 Screenings
DESCRIPTION:The UP Film Institute (UPFI) Film Center invites everyone to the screening of films directed respectively by Joel Lamangan and Jason Paul Laxamana on January 20\, 21\, 24\, 25\, 27\, 28\, 31\, and February 2 at the Cine Adarna\, UPFI Film Center.\n\nTickets are available at the cinema entrance.\n\nSee photo for more details.\n\nFor more information and updates\, visit the UPFI Film Center’s Facebook page.
URL:https://alum.up.edu.ph/event/upfi-film-center-new-year-2023-screenings-5/
END:VEVENT
END:VCALENDAR