BEGIN:VCALENDAR
VERSION:2.0
PRODID:-//UP Alumni Website - ECPv6.15.16//NONSGML v1.0//EN
CALSCALE:GREGORIAN
METHOD:PUBLISH
X-WR-CALNAME:UP Alumni Website
X-ORIGINAL-URL:https://alum.up.edu.ph
X-WR-CALDESC:Events for UP Alumni Website
REFRESH-INTERVAL;VALUE=DURATION:PT1H
X-Robots-Tag:noindex
X-PUBLISHED-TTL:PT1H
BEGIN:VTIMEZONE
TZID:UTC
BEGIN:STANDARD
TZOFFSETFROM:+0000
TZOFFSETTO:+0000
TZNAME:UTC
DTSTART:20220101T000000
END:STANDARD
END:VTIMEZONE
BEGIN:VEVENT
DTSTART;VALUE=DATE:20230109
DTEND;VALUE=DATE:20230214
DTSTAMP:20260422T183049
CREATED:20221113T234810Z
LAST-MODIFIED:20221113T234810Z
UID:5508-1673222400-1676332799@alum.up.edu.ph
SUMMARY:Designing Flexible Learning in Nursing - Pedagogy
DESCRIPTION:What: Designing Flexible Learning in Nursing – Pedagogy\nWhen: January 9 to February 13\, 2023\nPlatform: UPCN Online Learning and Zoom\nSchedule: Monday Afternoons (Synchronous Sessions); 6 weeks of module-guided asynchronous activities\n\nThe Designing Flexible Learning in Nursing Program (DFLN program) strives to equip the Nursing faculty to shift towards flexible teaching and learning. This comprises three (3) components – Pedagogy\, Content\, and Technology. DFLN Pedagogy focuses on the method and practice of teaching Nursing following the principles of flexibility.\n\nREGISTER NOW!\nLink: https://forms.gle/DLLkAwyagMXm4vk78\n\nPlease complete your registration and payment by DECEMBER 30\, 2022.\n\nFor inquiries\, please send an email to Asst. Prof. Kenny-lynn Baccay through upcn-cecesp.upm@up.edu.ph with the subject [DFLN 4.0 Inquiry]\n\n#GlobalGoals #SDG4 #SDG4QualityEducation #FlexibleLearning\n\nSource: UP College of Nursing Facebook
URL:https://alum.up.edu.ph/event/designing-flexible-learning-in-nursing-pedagogy/
END:VEVENT
BEGIN:VEVENT
DTSTART;VALUE=DATE:20230113
DTEND;VALUE=DATE:20230302
DTSTAMP:20260422T183049
CREATED:20221115T174426Z
LAST-MODIFIED:20221115T174426Z
UID:5554-1673568000-1677715199@alum.up.edu.ph
SUMMARY:NurseLEAD Year 2 Batch 4
DESCRIPTION:NurseLEAD is now accepting applicants for Year 2 Batch 4!\n\nThis is an online course for advanced practice in Public Health Nursing that aims to strengthen nurse competencies in leading and managing primary care services and population-based programs\, carrying out supervisory and leadership responsibilities\, and fostering interprofessional education and collaborative practice.\n\nQualifications of participants are: Nurses who are (1) actively working in the public health setting and (2) have at least two years of experience as a leader or supervisor\, manager\, coordinator.\n\nDepEd School Nurses will also be accepted for this batch. Kindly email upnurselead@gmail.com for more information.\n\n#NurseLEAD2\n\nSource: UPCN Nurse LEAD Facebook
URL:https://alum.up.edu.ph/event/nurselead-year-2-batch-4/
END:VEVENT
BEGIN:VEVENT
DTSTART;TZID=UTC:20230130T100000
DTEND;TZID=UTC:20230715T160000
DTSTAMP:20260422T183049
CREATED:20230209T234249Z
LAST-MODIFIED:20230209T234249Z
UID:7577-1675072800-1689436800@alum.up.edu.ph
SUMMARY:Pagsalud han Dan-ag han Adlaw / Cupping the Flow of Sunlight (Gleanings from the Natural and Cultural Heritage of Eastern Visayas) Exhibit + Origami-making
DESCRIPTION:In celebration of National Arts Month this February 2023\, the Leyte Samar Heritage Center is offering the following activities:\n\nPagsalud han Dan-ag han Adlaw / Cupping the Flow of Sunlight (Gleanings from the Natural and Cultural Heritage of Eastern Visayas) Exhibit + Origami-making\nExhibit run: 30 January – 15 July 2023\nGallery hours: Monday – Friday | 10:00 AM – 4:00 PM\n\nBook here [https://forms.gle/Sm9iMDqcyExDhyFd6]\n\nSiday Magnet Poem Workshop\n15 February – 15 July 2023\nWednesdays | 10:00 AM – 3:00 PM\n\nBook here [https://forms.gle/jeRi7uRD3wJ5v6ST7]\n\nVisit us and learn more about the biodiversity\, arts\, and culture of Eastern Visayas!\n\nAdmission is free!\n\n#NationalArtsMonth2023\n#UPTaclobanat50\n\nSource: UPVTC Leyte Samar Heritage Center Facebook
URL:https://alum.up.edu.ph/event/pagsalud-han-dan-ag-han-adlaw-cupping-the-flow-of-sunlight-gleanings-from-the-natural-and-cultural-heritage-of-eastern-visayas-exhibit-origami-making/
END:VEVENT
BEGIN:VEVENT
DTSTART;TZID=UTC:20230203T140000
DTEND;TZID=UTC:20230204T190000
DTSTAMP:20260422T183049
CREATED:20230131T225838Z
LAST-MODIFIED:20230131T225838Z
UID:7251-1675432800-1675537200@alum.up.edu.ph
SUMMARY:UPFI Film Center Love Month with Sinag Maynila Features
DESCRIPTION:In celebration of the love month\, the UP Film Institute (UPFI) Film Center will hold the screening of Sinag Maynila Features on February 1\, 3\, 4\, 7\, and 9.\n\nTickets are available at the cinema entrance.\n\nSee photo for more details.\n\nFor more information and updates\, visit the UPFI Film Center’s Facebook page.
URL:https://alum.up.edu.ph/event/upfi-film-center-love-month-with-sinag-maynila-features/
END:VEVENT
BEGIN:VEVENT
DTSTART;TZID=UTC:20230204T080000
DTEND;TZID=UTC:20230205T130000
DTSTAMP:20260422T183049
CREATED:20230130T210145Z
LAST-MODIFIED:20230130T210234Z
UID:7173-1675497600-1675602000@alum.up.edu.ph
SUMMARY:Global Asia: Issues\, Challenges\, and Opportunities
DESCRIPTION:The online international conference “Global Asia: Issues\, Challenges\, and Opportunities” will be held from February 4 to 5\, 8 a.m.-1 p.m.\, via Zoom.\n\nThis is organized by the UP Diliman Asian Center and the Asian Studies Center of the University of Pittsburgh.\n\nKnow more and register by visiting bit.ly/globalasia23.
URL:https://alum.up.edu.ph/event/global-asia-issues-challenges-and-opportunities/
END:VEVENT
BEGIN:VEVENT
DTSTART;TZID=UTC:20230204T100000
DTEND;TZID=UTC:20230204T120000
DTSTAMP:20260422T183049
CREATED:20230201T181421Z
LAST-MODIFIED:20230201T181421Z
UID:7285-1675504800-1675512000@alum.up.edu.ph
SUMMARY:Induction and Turnover Ceremony
DESCRIPTION:Everyone is invited to the “Induction and Turnover Ceremony” of the Philippine Law Journal on Saturday\, February 4\, 10 a.m.-12 p.m.\, at the Malcolm Hall Lobby of the UP College of Law.\n\nFrancis Jardeleza\, a former associate justice of the Supreme Court of the Philippines\, will deliver a keynote speech.\n\nThe event will also be livestreamed at the UP College of Law Facebook page and YouTube channel.
URL:https://alum.up.edu.ph/event/induction-and-turnover-ceremony/
END:VEVENT
BEGIN:VEVENT
DTSTART;TZID=UTC:20230204T100000
DTEND;TZID=UTC:20230204T150000
DTSTAMP:20260422T183049
CREATED:20230102T232904Z
LAST-MODIFIED:20230102T232904Z
UID:6575-1675504800-1675522800@alum.up.edu.ph
SUMMARY:8th Philippine Korean Studies Symposium
DESCRIPTION:#UPKRC together with UP Department of Linguistics will organise the 8th Philippine Korean Studies Symposium (PKSS) on Jan 21 (Sat) & Jan 28 (Sat) 2023.\n\nJoin us virtually to listen to two Korean professors’ keynote speech\, UPKRC core research project presentation\, and Linguistics students’ presentation!\n\nAdditionally\, on Feb 4 (Sat)\, a special workshop for KFL (Korean as a Foreign Language) Educators will also be prepared! Stay tuned!\n\nThe event is FREE and ONLINE.\n\nSource: UP Korea Research Center Facebook
URL:https://alum.up.edu.ph/event/8th-philippine-korean-studies-symposium-3/
END:VEVENT
BEGIN:VEVENT
DTSTART;TZID=UTC:20230204T170000
DTEND;TZID=UTC:20230204T200000
DTSTAMP:20260422T183049
CREATED:20221212T191305Z
LAST-MODIFIED:20221212T191305Z
UID:6447-1675530000-1675540800@alum.up.edu.ph
SUMMARY:Sama-Sama Together: The UP Concert Chorus (UPCC) 60th Anniversary Concert
DESCRIPTION:Catch the “Sama-Sama Together: The UP Concert Chorus (UPCC) 60th Anniversary Concert” on February 4\, 2023\, 5 p.m.\, at the University Theater.\n\nThe concert will feature the performances of the UPCC members and alumni\, and will be conducted by professors Jai Sabas-Aracama\, Joel Navarro\, and Ed Manguiat.\n\nThe show is under the direction of Rico Mortel. It is presented by the UPCC and UPCC Alumni Association.\n\nPlease get in touch with Lowell Reyes (0922 805 0471) for ticket inquiries.\n\nFor updates\, visit the UPCC Facebook page.
URL:https://alum.up.edu.ph/event/sama-sama-together-the-up-concert-chorus-upcc-60th-anniversary-concert/
END:VEVENT
END:VCALENDAR