BEGIN:VCALENDAR
VERSION:2.0
PRODID:-//UP Alumni Website - ECPv6.15.16//NONSGML v1.0//EN
CALSCALE:GREGORIAN
METHOD:PUBLISH
X-WR-CALNAME:UP Alumni Website
X-ORIGINAL-URL:https://alum.up.edu.ph
X-WR-CALDESC:Events for UP Alumni Website
REFRESH-INTERVAL;VALUE=DURATION:PT1H
X-Robots-Tag:noindex
X-PUBLISHED-TTL:PT1H
BEGIN:VTIMEZONE
TZID:UTC
BEGIN:STANDARD
TZOFFSETFROM:+0000
TZOFFSETTO:+0000
TZNAME:UTC
DTSTART:20220101T000000
END:STANDARD
END:VTIMEZONE
BEGIN:VEVENT
DTSTART;VALUE=DATE:20230109
DTEND;VALUE=DATE:20230214
DTSTAMP:20260424T023237
CREATED:20221113T234810Z
LAST-MODIFIED:20221113T234810Z
UID:5508-1673222400-1676332799@alum.up.edu.ph
SUMMARY:Designing Flexible Learning in Nursing - Pedagogy
DESCRIPTION:What: Designing Flexible Learning in Nursing – Pedagogy\nWhen: January 9 to February 13\, 2023\nPlatform: UPCN Online Learning and Zoom\nSchedule: Monday Afternoons (Synchronous Sessions); 6 weeks of module-guided asynchronous activities\n\nThe Designing Flexible Learning in Nursing Program (DFLN program) strives to equip the Nursing faculty to shift towards flexible teaching and learning. This comprises three (3) components – Pedagogy\, Content\, and Technology. DFLN Pedagogy focuses on the method and practice of teaching Nursing following the principles of flexibility.\n\nREGISTER NOW!\nLink: https://forms.gle/DLLkAwyagMXm4vk78\n\nPlease complete your registration and payment by DECEMBER 30\, 2022.\n\nFor inquiries\, please send an email to Asst. Prof. Kenny-lynn Baccay through upcn-cecesp.upm@up.edu.ph with the subject [DFLN 4.0 Inquiry]\n\n#GlobalGoals #SDG4 #SDG4QualityEducation #FlexibleLearning\n\nSource: UP College of Nursing Facebook
URL:https://alum.up.edu.ph/event/designing-flexible-learning-in-nursing-pedagogy/
END:VEVENT
BEGIN:VEVENT
DTSTART;VALUE=DATE:20230113
DTEND;VALUE=DATE:20230302
DTSTAMP:20260424T023237
CREATED:20221115T174426Z
LAST-MODIFIED:20221115T174426Z
UID:5554-1673568000-1677715199@alum.up.edu.ph
SUMMARY:NurseLEAD Year 2 Batch 4
DESCRIPTION:NurseLEAD is now accepting applicants for Year 2 Batch 4!\n\nThis is an online course for advanced practice in Public Health Nursing that aims to strengthen nurse competencies in leading and managing primary care services and population-based programs\, carrying out supervisory and leadership responsibilities\, and fostering interprofessional education and collaborative practice.\n\nQualifications of participants are: Nurses who are (1) actively working in the public health setting and (2) have at least two years of experience as a leader or supervisor\, manager\, coordinator.\n\nDepEd School Nurses will also be accepted for this batch. Kindly email upnurselead@gmail.com for more information.\n\n#NurseLEAD2\n\nSource: UPCN Nurse LEAD Facebook
URL:https://alum.up.edu.ph/event/nurselead-year-2-batch-4/
END:VEVENT
BEGIN:VEVENT
DTSTART;TZID=UTC:20230130T100000
DTEND;TZID=UTC:20230715T160000
DTSTAMP:20260424T023237
CREATED:20230209T234249Z
LAST-MODIFIED:20230209T234249Z
UID:7577-1675072800-1689436800@alum.up.edu.ph
SUMMARY:Pagsalud han Dan-ag han Adlaw / Cupping the Flow of Sunlight (Gleanings from the Natural and Cultural Heritage of Eastern Visayas) Exhibit + Origami-making
DESCRIPTION:In celebration of National Arts Month this February 2023\, the Leyte Samar Heritage Center is offering the following activities:\n\nPagsalud han Dan-ag han Adlaw / Cupping the Flow of Sunlight (Gleanings from the Natural and Cultural Heritage of Eastern Visayas) Exhibit + Origami-making\nExhibit run: 30 January – 15 July 2023\nGallery hours: Monday – Friday | 10:00 AM – 4:00 PM\n\nBook here [https://forms.gle/Sm9iMDqcyExDhyFd6]\n\nSiday Magnet Poem Workshop\n15 February – 15 July 2023\nWednesdays | 10:00 AM – 3:00 PM\n\nBook here [https://forms.gle/jeRi7uRD3wJ5v6ST7]\n\nVisit us and learn more about the biodiversity\, arts\, and culture of Eastern Visayas!\n\nAdmission is free!\n\n#NationalArtsMonth2023\n#UPTaclobanat50\n\nSource: UPVTC Leyte Samar Heritage Center Facebook
URL:https://alum.up.edu.ph/event/pagsalud-han-dan-ag-han-adlaw-cupping-the-flow-of-sunlight-gleanings-from-the-natural-and-cultural-heritage-of-eastern-visayas-exhibit-origami-making/
END:VEVENT
BEGIN:VEVENT
DTSTART;VALUE=DATE:20230206
DTEND;VALUE=DATE:20230212
DTSTAMP:20260424T023237
CREATED:20230205T175913Z
LAST-MODIFIED:20230205T175913Z
UID:7338-1675641600-1676159999@alum.up.edu.ph
SUMMARY:UPCD 108th Foundation Anniversary Calendar of Activites
DESCRIPTION:Source: UP Manila College of Dentistry Facebook
URL:https://alum.up.edu.ph/event/upcd-108th-foundation-anniversary-calendar-of-activites/
END:VEVENT
BEGIN:VEVENT
DTSTART;TZID=UTC:20230207T080000
DTEND;TZID=UTC:20230303T180000
DTSTAMP:20260424T023237
CREATED:20230209T231640Z
LAST-MODIFIED:20230209T231658Z
UID:7563-1675756800-1677866400@alum.up.edu.ph
SUMMARY:VENTURES: The UPLB Abstract Show
DESCRIPTION:VENTURES: The UPLB Abstract Show\nExhibit runs until 3 March 2023\n\nSource: UPLB Office for Initiatives in Culture and the Arts Facebook
URL:https://alum.up.edu.ph/event/ventures-the-uplb-abstract-show/
END:VEVENT
BEGIN:VEVENT
DTSTART;TZID=UTC:20230209T080000
DTEND;TZID=UTC:20230209T170000
DTSTAMP:20260424T023237
CREATED:20230122T205912Z
LAST-MODIFIED:20230122T205912Z
UID:6988-1675929600-1675962000@alum.up.edu.ph
SUMMARY:Mandatory Continuing Legal Education Synchronous Online Seminar
DESCRIPTION:The “Mandatory Continuing Legal Education Synchronous Online Seminar” of the UP Law Center Institute for the Administration of Justice will be conducted on February 7\, 9\, 14\, 21\, and 28.\n\nRegister at uplaw.ph/mclefebruary2023program until February 2.\n\nVisit https://law.upd.edu.ph/mcle/ for more details.
URL:https://alum.up.edu.ph/event/mandatory-continuing-legal-education-synchronous-online-seminar-11/
END:VEVENT
BEGIN:VEVENT
DTSTART;TZID=UTC:20230209T080000
DTEND;TZID=UTC:20230209T170000
DTSTAMP:20260424T023237
CREATED:20230208T175840Z
LAST-MODIFIED:20230208T175840Z
UID:7497-1675929600-1675962000@alum.up.edu.ph
SUMMARY:Handog sa mga Bagong Hirang na Pambansang Alagad ng Sining Premiere
DESCRIPTION:Ang KALOOB Festival ay pagkakataon na bigyan ng karampatang halaga ang sining at kultura sa pagpapayabong ng kamalayang makatao\, sa mga pamamaraang malikhain taglay ang perspektibong kritikal na siyang sandigan ng liberal na edukasyon ng Pamantasan. Ito rin ay handog ng UP Diliman para sa pagdiriwang ng Buwan ng Sining tuwing Pebrero\, batay sa Proklamasyon Bilang 683 noong 1991.\n\nI-download ang UP Diliman Arts and Culture Festival 2023 Brochure para sa iba pang detalye.\n\nBrochure2023_02_UPD-ACF-2023-KALOOB-Brochure
URL:https://alum.up.edu.ph/event/handog-sa-mga-bagong-hirang-na-pambansang-alagad-ng-sining-premiere/
END:VEVENT
BEGIN:VEVENT
DTSTART;TZID=UTC:20230209T101500
DTEND;TZID=UTC:20230209T121500
DTSTAMP:20260424T023237
CREATED:20230206T212523Z
LAST-MODIFIED:20230206T212523Z
UID:7410-1675937700-1675944900@alum.up.edu.ph
SUMMARY:UP Atin ‘To
DESCRIPTION:Tunghayan ang mga bagong episode ng UP Atin ‘To ng DZUP 1602 simula ngayong Lunes\, Pebrero 6\, hanggang Biyernes\, Pebrero 10\, sa ganap na 10:15 n.u.\n\nTingnan ang larawan para sa buong detalye.\n\nMapapakinggan ito sa AM radio 1602 kHZ at sa https://dzup.org/.\n\nMapapanood din ito nang live sa DZUP Facebook page.
URL:https://alum.up.edu.ph/event/up-atin-to-14/
END:VEVENT
BEGIN:VEVENT
DTSTART;TZID=UTC:20230209T140000
DTEND;TZID=UTC:20230209T190000
DTSTAMP:20260424T023237
CREATED:20230131T230016Z
LAST-MODIFIED:20230131T230016Z
UID:7256-1675951200-1675969200@alum.up.edu.ph
SUMMARY:UPFI Film Center Love Month with Sinag Maynila Features
DESCRIPTION:In celebration of the love month\, the UP Film Institute (UPFI) Film Center will hold the screening of Sinag Maynila Features on February 1\, 3\, 4\, 7\, and 9.\n\nTickets are available at the cinema entrance.\n\nSee photo for more details.\n\nFor more information and updates\, visit the UPFI Film Center’s Facebook page.
URL:https://alum.up.edu.ph/event/upfi-film-center-love-month-with-sinag-maynila-features-3/
END:VEVENT
BEGIN:VEVENT
DTSTART;TZID=UTC:20230209T180000
DTEND;TZID=UTC:20230209T200000
DTSTAMP:20260424T023237
CREATED:20230131T220923Z
LAST-MODIFIED:20230131T220923Z
UID:7235-1675965600-1675972800@alum.up.edu.ph
SUMMARY:Singkaban at Balanghai: Pasasalamat at Pagsalubong\, Musikang Alay ng Orkestra ng Bayan
DESCRIPTION:In gratitude to outgoing UP President Danilo L. Concepcion and to welcome incoming UP President Angelo “Jijil” Jimenez\, UPSO presents Singkaban at Balanghai: Pasasalamat at Pagsalubong\, Musikang Alay ng Orkestra ng Bayan.\n\nUPSO is excited to be joined by soprano Kay Balajadia-Liggayu\, soprano Anya Evangelista\, and tenor Malvin Macasaet for the performance. Singkaban at Balanghai features a wide variety of repertoire\, from Brahms and Elgar\, to San Pedro and Ayala\, and so much more.\n\nSingkaban at Balanghai happens at the UP Theater on Thursday\, February 9\, 2023 at 6 pm. FREE ADMISSION!\n\nSee you there!
URL:https://alum.up.edu.ph/event/singkaban-at-balanghai-pasasalamat-at-pagsalubong-musikang-alay-ng-orkestra-ng-bayan/
END:VEVENT
BEGIN:VEVENT
DTSTART;TZID=UTC:20230209T180000
DTEND;TZID=UTC:20230209T210000
DTSTAMP:20260424T023237
CREATED:20230208T173711Z
LAST-MODIFIED:20230208T173711Z
UID:7480-1675965600-1675976400@alum.up.edu.ph
SUMMARY:Singkaban at Balanghai: Pasasalamat at Pagsalubong\, Musikang Alay ng Orkestra ng Bayan
DESCRIPTION:Everyone is invited to the free concert “Singkaban at Balanghai: Pasasalamat at Pagsalubong\, Musikang Alay ng Orkestra ng Bayan” on February 9\, Thursday\, 6 p.m.\, at the UP Theater.\n\nThe event is presented by the UP Symphony Orchestra\, in collaboration with the UP Office of the President and UP Diliman College of Music.\n\nSee photo for more details.
URL:https://alum.up.edu.ph/event/singkaban-at-balanghai-pasasalamat-at-pagsalubong-musikang-alay-ng-orkestra-ng-bayan-2/
END:VEVENT
END:VCALENDAR