BEGIN:VCALENDAR
VERSION:2.0
PRODID:-//UP Alumni Website - ECPv6.15.16//NONSGML v1.0//EN
CALSCALE:GREGORIAN
METHOD:PUBLISH
X-WR-CALNAME:UP Alumni Website
X-ORIGINAL-URL:https://alum.up.edu.ph
X-WR-CALDESC:Events for UP Alumni Website
REFRESH-INTERVAL;VALUE=DURATION:PT1H
X-Robots-Tag:noindex
X-PUBLISHED-TTL:PT1H
BEGIN:VTIMEZONE
TZID:UTC
BEGIN:STANDARD
TZOFFSETFROM:+0000
TZOFFSETTO:+0000
TZNAME:UTC
DTSTART:20220101T000000
END:STANDARD
END:VTIMEZONE
BEGIN:VEVENT
DTSTART;VALUE=DATE:20230109
DTEND;VALUE=DATE:20230214
DTSTAMP:20260423T063635
CREATED:20221113T234810Z
LAST-MODIFIED:20221113T234810Z
UID:5508-1673222400-1676332799@alum.up.edu.ph
SUMMARY:Designing Flexible Learning in Nursing - Pedagogy
DESCRIPTION:What: Designing Flexible Learning in Nursing – Pedagogy\nWhen: January 9 to February 13\, 2023\nPlatform: UPCN Online Learning and Zoom\nSchedule: Monday Afternoons (Synchronous Sessions); 6 weeks of module-guided asynchronous activities\n\nThe Designing Flexible Learning in Nursing Program (DFLN program) strives to equip the Nursing faculty to shift towards flexible teaching and learning. This comprises three (3) components – Pedagogy\, Content\, and Technology. DFLN Pedagogy focuses on the method and practice of teaching Nursing following the principles of flexibility.\n\nREGISTER NOW!\nLink: https://forms.gle/DLLkAwyagMXm4vk78\n\nPlease complete your registration and payment by DECEMBER 30\, 2022.\n\nFor inquiries\, please send an email to Asst. Prof. Kenny-lynn Baccay through upcn-cecesp.upm@up.edu.ph with the subject [DFLN 4.0 Inquiry]\n\n#GlobalGoals #SDG4 #SDG4QualityEducation #FlexibleLearning\n\nSource: UP College of Nursing Facebook
URL:https://alum.up.edu.ph/event/designing-flexible-learning-in-nursing-pedagogy/
END:VEVENT
BEGIN:VEVENT
DTSTART;VALUE=DATE:20230113
DTEND;VALUE=DATE:20230302
DTSTAMP:20260423T063635
CREATED:20221115T174426Z
LAST-MODIFIED:20221115T174426Z
UID:5554-1673568000-1677715199@alum.up.edu.ph
SUMMARY:NurseLEAD Year 2 Batch 4
DESCRIPTION:NurseLEAD is now accepting applicants for Year 2 Batch 4!\n\nThis is an online course for advanced practice in Public Health Nursing that aims to strengthen nurse competencies in leading and managing primary care services and population-based programs\, carrying out supervisory and leadership responsibilities\, and fostering interprofessional education and collaborative practice.\n\nQualifications of participants are: Nurses who are (1) actively working in the public health setting and (2) have at least two years of experience as a leader or supervisor\, manager\, coordinator.\n\nDepEd School Nurses will also be accepted for this batch. Kindly email upnurselead@gmail.com for more information.\n\n#NurseLEAD2\n\nSource: UPCN Nurse LEAD Facebook
URL:https://alum.up.edu.ph/event/nurselead-year-2-batch-4/
END:VEVENT
BEGIN:VEVENT
DTSTART;TZID=UTC:20230130T100000
DTEND;TZID=UTC:20230715T160000
DTSTAMP:20260423T063635
CREATED:20230209T234249Z
LAST-MODIFIED:20230209T234249Z
UID:7577-1675072800-1689436800@alum.up.edu.ph
SUMMARY:Pagsalud han Dan-ag han Adlaw / Cupping the Flow of Sunlight (Gleanings from the Natural and Cultural Heritage of Eastern Visayas) Exhibit + Origami-making
DESCRIPTION:In celebration of National Arts Month this February 2023\, the Leyte Samar Heritage Center is offering the following activities:\n\nPagsalud han Dan-ag han Adlaw / Cupping the Flow of Sunlight (Gleanings from the Natural and Cultural Heritage of Eastern Visayas) Exhibit + Origami-making\nExhibit run: 30 January – 15 July 2023\nGallery hours: Monday – Friday | 10:00 AM – 4:00 PM\n\nBook here [https://forms.gle/Sm9iMDqcyExDhyFd6]\n\nSiday Magnet Poem Workshop\n15 February – 15 July 2023\nWednesdays | 10:00 AM – 3:00 PM\n\nBook here [https://forms.gle/jeRi7uRD3wJ5v6ST7]\n\nVisit us and learn more about the biodiversity\, arts\, and culture of Eastern Visayas!\n\nAdmission is free!\n\n#NationalArtsMonth2023\n#UPTaclobanat50\n\nSource: UPVTC Leyte Samar Heritage Center Facebook
URL:https://alum.up.edu.ph/event/pagsalud-han-dan-ag-han-adlaw-cupping-the-flow-of-sunlight-gleanings-from-the-natural-and-cultural-heritage-of-eastern-visayas-exhibit-origami-making/
END:VEVENT
BEGIN:VEVENT
DTSTART;VALUE=DATE:20230206
DTEND;VALUE=DATE:20230212
DTSTAMP:20260423T063636
CREATED:20230205T175913Z
LAST-MODIFIED:20230205T175913Z
UID:7338-1675641600-1676159999@alum.up.edu.ph
SUMMARY:UPCD 108th Foundation Anniversary Calendar of Activites
DESCRIPTION:Source: UP Manila College of Dentistry Facebook
URL:https://alum.up.edu.ph/event/upcd-108th-foundation-anniversary-calendar-of-activites/
END:VEVENT
BEGIN:VEVENT
DTSTART;TZID=UTC:20230207T080000
DTEND;TZID=UTC:20230303T180000
DTSTAMP:20260423T063636
CREATED:20230209T231640Z
LAST-MODIFIED:20230209T231658Z
UID:7563-1675756800-1677866400@alum.up.edu.ph
SUMMARY:VENTURES: The UPLB Abstract Show
DESCRIPTION:VENTURES: The UPLB Abstract Show\nExhibit runs until 3 March 2023\n\nSource: UPLB Office for Initiatives in Culture and the Arts Facebook
URL:https://alum.up.edu.ph/event/ventures-the-uplb-abstract-show/
END:VEVENT
BEGIN:VEVENT
DTSTART;TZID=UTC:20230210T090000
DTEND;TZID=UTC:20230210T103000
DTSTAMP:20260423T063636
CREATED:20230209T181941Z
LAST-MODIFIED:20230209T181941Z
UID:7530-1676019600-1676025000@alum.up.edu.ph
SUMMARY:Ceremony for the Turnover of the University of the Philippines' Presidency From Danilo L. Concepcion to Angelo A. Jimenez
DESCRIPTION:
URL:https://alum.up.edu.ph/event/ceremony-for-the-turnover-of-the-university-of-the-philippines-presidency-from-danilo-l-concepcion-to-angelo-a-jimenez/
END:VEVENT
BEGIN:VEVENT
DTSTART;TZID=UTC:20230210T093000
DTEND;TZID=UTC:20230210T113000
DTSTAMP:20260423T063636
CREATED:20230125T193526Z
LAST-MODIFIED:20230125T193526Z
UID:7050-1676021400-1676028600@alum.up.edu.ph
SUMMARY:China’s Rise and Its Implications for ASEAN
DESCRIPTION:The lecture “China’s Rise and Its Implications for ASEAN” will be held on February 10\, Friday\, 9:30 a.m.\, at the GT-Toyota Auditorium\, UP Diliman Asian Center (AC)\, with guest speaker Bert Hofman\, director of the East Asian Institute and a professor in practice at the Lee Kuan Yew School of Public Policy\, National University of Singapore.\n\nThis is organized by the AC\, in partnership with the Philippine Association for Chinese Studies\, as part of the Ambassador Chito Sta. Romana Memorial Lecture.\n\nKnow more and register by visiting bit.ly/chinarises.
URL:https://alum.up.edu.ph/event/chinas-rise-and-its-implications-for-asean/
END:VEVENT
BEGIN:VEVENT
DTSTART;TZID=UTC:20230210T100000
DTEND;TZID=UTC:20230210T120000
DTSTAMP:20260423T063636
CREATED:20230205T213631Z
LAST-MODIFIED:20230205T213631Z
UID:7365-1676023200-1676030400@alum.up.edu.ph
SUMMARY:Women and Girls in Science for the SDGs (WAGSS)
DESCRIPTION:In observance of the 8th International Day of Women and Girls in Science\, UP Visayas Tacloban College will hold a webinar on Women and Girls in Science for the SDGs (WAGSS) on 10 February 2023\, 10:00 AM – 12:00 PM. The webinar aims to highlight the role and contribution of women and girls to nation-building through their scientific pursuits and innovations.\n\nInterested individuals or educational institutions may register via bit.ly/wagss2023.\n\nSource: UPV Tacloban College Facebook
URL:https://alum.up.edu.ph/event/women-and-girls-in-science-for-the-sdgs-wagss/
END:VEVENT
BEGIN:VEVENT
DTSTART;TZID=UTC:20230210T101500
DTEND;TZID=UTC:20230210T121500
DTSTAMP:20260423T063636
CREATED:20230206T212557Z
LAST-MODIFIED:20230206T212557Z
UID:7412-1676024100-1676031300@alum.up.edu.ph
SUMMARY:UP Atin ‘To
DESCRIPTION:Tunghayan ang mga bagong episode ng UP Atin ‘To ng DZUP 1602 simula ngayong Lunes\, Pebrero 6\, hanggang Biyernes\, Pebrero 10\, sa ganap na 10:15 n.u.\n\nTingnan ang larawan para sa buong detalye.\n\nMapapakinggan ito sa AM radio 1602 kHZ at sa https://dzup.org/.\n\nMapapanood din ito nang live sa DZUP Facebook page.
URL:https://alum.up.edu.ph/event/up-atin-to-15/
END:VEVENT
BEGIN:VEVENT
DTSTART;TZID=UTC:20230210T120000
DTEND;TZID=UTC:20230210T140000
DTSTAMP:20260423T063636
CREATED:20230119T175923Z
LAST-MODIFIED:20230207T171506Z
UID:6925-1676030400-1676037600@alum.up.edu.ph
SUMMARY:Stop COVID Deaths Webinar #133 “COVID-19 Bivalent Vaccine Boosters: Kailan nga ba ito?”
DESCRIPTION:The University of the Philippines in partnership with\nUP Manila NIH National Telehealth Center and in cooperation with\nUP Philippine General Hospital\nwould like to invite you to join the Fight Against COVID-19! \n  \nRegistration slots are limited to this SPECIAL EDITION of\nthe STOP C.O.V.I.D. DEATHS Webinar Series.\n(Current COVID-19 problems; Other outbreaks; Viruses; Infections; Disasters)\nSo sign up NOW:\nbit.ly/StopCOVIDDeathsWebinar133 \n  \nWebinar #133\nFebruary 10\, 2023 (Friday) 12nn\n“COVID-19 Bivalent Vaccine Boosters: Kailan nga ba ito?”\n\nPresenter:\nDR. RAZEL NIKKA HAO\nDirector IV for Standards and Sectoral Strategy\nDisease Prevention and Control Bureau\nDepartment of Health\n\nReactor:\nDR. MARIA OFELIA OCANA-ALCANTARA\nFormer Mayor\nMunicipality of Tolosa\, Leyet\n\nSynthesis and Closing Remarks:\nDR. STELLA MARIE L. JOSE\nHead\, Expanded Education and Training Office\nUP Philippine General Hospital\n\n———————————————————–\n\nWebinar #133\nFebruary 10\, 2023\nCOVID-19 Bivalent Vaccine Boosters: Kailan nga ba ito?\n\nHave you received a COVID-19 booster? As the virus continues to mutate\, boosters are increasingly important in ensuring that populations are protected from outbreaks. Health workers in particular\, need to be protected through vaccination.\n\nVaccines for the COVID-19 pandemic using mRNA promised easier formulation or “tweaking” to keep in pace with a rapidly mutating virus.\n\nIn late 2022\, the US Food and Drug Administration (FDA) authorized—and the Centers for Disease Control and Prevention (CDC) recommended—two updated boosters. The boosters target two Omicron subvariants\, BA.4 and BA.5. The new booster is a bivalent vaccine\, which means it contains two messenger RNA (mRNA) components of the coronavirus. Half of the vaccine targets the original strain\, and the other half targets the BA.4 and BA.5 Omicron subvariant lineages.\n\nWhat do we know about the effectiveness and efficacy of the bivalent vaccines of Moderna and Pfizer? How frequently should health workers be given a booster? Are the monovalent vaccines effective against the new variants of Omicron?\n\nIn this episode of STOP COVID DEATHS\, Dr. Razel Nikka Hao from the Department of Health will share the latest data on booster rates according to region and age. An update will be provided on the inclusion of bivalent vaccines in the vaccination program\, particularly for health workers. Dr. Maria Ofelia Ocana-Alcantara\, former Mayor of the Municipality of Tolosa\, Leyte will reflect on the role of LGUs in strengthening the booster program of the government. Synthesis and Closing Remarks will be delivered by Dr. Stella Marie L. Jose\, Head of Expanded Education and Research Office at the UP Philippine General Hospital.\n\nJoin us to stay updated with the latest news on control of COVID-19 through your credible on-line community. Together\, we can Stop C.O.V.I.D. Deaths!
URL:https://alum.up.edu.ph/event/stop-covid-deaths-webinar-133/
END:VEVENT
BEGIN:VEVENT
DTSTART;TZID=UTC:20230210T130000
DTEND;TZID=UTC:20230210T140000
DTSTAMP:20260423T063636
CREATED:20230208T172224Z
LAST-MODIFIED:20230208T172224Z
UID:7476-1676034000-1676037600@alum.up.edu.ph
SUMMARY:Tabi-tabi Folkloradyo!: Himagsikan sa Pebrero
DESCRIPTION:Abangan ang bagong episode ng programang “Tabi-tabi Folkloradyo!” ng DZUP 1602 tampok ang “Himagsikan sa Pebrero” sa Biyernes\, Pebrero 10\, 1-2 n.h.\n\nIto ay handog ng Aliguyon-UP Folklorists sa pamamagitan ng UP Diliman Kolehiyo ng Arte at Literatura at DZUP 1602.\n\nMapapakinggan ito sa AM radio 1602 kHZ at sa https://dzup.org/.\n\nMapapanood din ito nang live sa DZUP Facebook page.
URL:https://alum.up.edu.ph/event/tabi-tabi-folkloradyo-himagsikan-sa-pebrero/
END:VEVENT
BEGIN:VEVENT
DTSTART;TZID=UTC:20230210T130000
DTEND;TZID=UTC:20230210T160000
DTSTAMP:20260423T063636
CREATED:20230206T212702Z
LAST-MODIFIED:20230206T212702Z
UID:7415-1676034000-1676044800@alum.up.edu.ph
SUMMARY:Essential to the Public: Libraries in Urgent Times
DESCRIPTION:The seminar “Essential to the Public: Libraries in Urgent Times” will be held on February 10\, Friday\, 1-4 p.m.\, at Room 10 Bonifacio Hall\, UP Diliman (UPD) School of Labor and Industrial Relations\, with guest speaker Emily Drabinski\, president-elect of the American Library Association.\n\nThe event is organized by the Philippine Librarians Association\, Inc. – National Capital Region Librarians Council\, in partnership with the UPD School of Library and Information Studies.\n\nTo join\, register at https://tinyurl.com/PLAINCRLCSeminar.\n\nSee photo for more details.
URL:https://alum.up.edu.ph/event/essential-to-the-public-libraries-in-urgent-times-2/
END:VEVENT
END:VCALENDAR