BEGIN:VCALENDAR
VERSION:2.0
PRODID:-//UP Alumni Website - ECPv6.15.16//NONSGML v1.0//EN
CALSCALE:GREGORIAN
METHOD:PUBLISH
X-WR-CALNAME:UP Alumni Website
X-ORIGINAL-URL:https://alum.up.edu.ph
X-WR-CALDESC:Events for UP Alumni Website
REFRESH-INTERVAL;VALUE=DURATION:PT1H
X-Robots-Tag:noindex
X-PUBLISHED-TTL:PT1H
BEGIN:VTIMEZONE
TZID:UTC
BEGIN:STANDARD
TZOFFSETFROM:+0000
TZOFFSETTO:+0000
TZNAME:UTC
DTSTART:20220101T000000
END:STANDARD
END:VTIMEZONE
BEGIN:VEVENT
DTSTART;VALUE=DATE:20230113
DTEND;VALUE=DATE:20230302
DTSTAMP:20260423T082855
CREATED:20221115T174426Z
LAST-MODIFIED:20221115T174426Z
UID:5554-1673568000-1677715199@alum.up.edu.ph
SUMMARY:NurseLEAD Year 2 Batch 4
DESCRIPTION:NurseLEAD is now accepting applicants for Year 2 Batch 4!\n\nThis is an online course for advanced practice in Public Health Nursing that aims to strengthen nurse competencies in leading and managing primary care services and population-based programs\, carrying out supervisory and leadership responsibilities\, and fostering interprofessional education and collaborative practice.\n\nQualifications of participants are: Nurses who are (1) actively working in the public health setting and (2) have at least two years of experience as a leader or supervisor\, manager\, coordinator.\n\nDepEd School Nurses will also be accepted for this batch. Kindly email upnurselead@gmail.com for more information.\n\n#NurseLEAD2\n\nSource: UPCN Nurse LEAD Facebook
URL:https://alum.up.edu.ph/event/nurselead-year-2-batch-4/
END:VEVENT
BEGIN:VEVENT
DTSTART;TZID=UTC:20230130T100000
DTEND;TZID=UTC:20230715T160000
DTSTAMP:20260423T082855
CREATED:20230209T234249Z
LAST-MODIFIED:20230209T234249Z
UID:7577-1675072800-1689436800@alum.up.edu.ph
SUMMARY:Pagsalud han Dan-ag han Adlaw / Cupping the Flow of Sunlight (Gleanings from the Natural and Cultural Heritage of Eastern Visayas) Exhibit + Origami-making
DESCRIPTION:In celebration of National Arts Month this February 2023\, the Leyte Samar Heritage Center is offering the following activities:\n\nPagsalud han Dan-ag han Adlaw / Cupping the Flow of Sunlight (Gleanings from the Natural and Cultural Heritage of Eastern Visayas) Exhibit + Origami-making\nExhibit run: 30 January – 15 July 2023\nGallery hours: Monday – Friday | 10:00 AM – 4:00 PM\n\nBook here [https://forms.gle/Sm9iMDqcyExDhyFd6]\n\nSiday Magnet Poem Workshop\n15 February – 15 July 2023\nWednesdays | 10:00 AM – 3:00 PM\n\nBook here [https://forms.gle/jeRi7uRD3wJ5v6ST7]\n\nVisit us and learn more about the biodiversity\, arts\, and culture of Eastern Visayas!\n\nAdmission is free!\n\n#NationalArtsMonth2023\n#UPTaclobanat50\n\nSource: UPVTC Leyte Samar Heritage Center Facebook
URL:https://alum.up.edu.ph/event/pagsalud-han-dan-ag-han-adlaw-cupping-the-flow-of-sunlight-gleanings-from-the-natural-and-cultural-heritage-of-eastern-visayas-exhibit-origami-making/
END:VEVENT
BEGIN:VEVENT
DTSTART;TZID=UTC:20230207T080000
DTEND;TZID=UTC:20230303T180000
DTSTAMP:20260423T082855
CREATED:20230209T231640Z
LAST-MODIFIED:20230209T231658Z
UID:7563-1675756800-1677866400@alum.up.edu.ph
SUMMARY:VENTURES: The UPLB Abstract Show
DESCRIPTION:VENTURES: The UPLB Abstract Show\nExhibit runs until 3 March 2023\n\nSource: UPLB Office for Initiatives in Culture and the Arts Facebook
URL:https://alum.up.edu.ph/event/ventures-the-uplb-abstract-show/
END:VEVENT
BEGIN:VEVENT
DTSTART;VALUE=DATE:20230214
DTEND;VALUE=DATE:20230219
DTSTAMP:20260423T082855
CREATED:20230209T230632Z
LAST-MODIFIED:20230209T230707Z
UID:7559-1676332800-1676764799@alum.up.edu.ph
SUMMARY:UPLB The E-Waste Project (TEP)
DESCRIPTION:♫Eh-eh-eh-eh-eh-eh-eh-eh\, E-Waste is back♫ (2NE1 Fire)\n\nThe E-Waste Project (TEP) is back and will be launched in partnership with the UPLB Community Affairs on February 14\, 2023.\n\nThe duration of the program will be for the whole FEB FAIR 2023! So come and join us to do something meaningful for a more memorable FEBFAIR experience!\n\nFollow us and connect with us on our official facebook page: https://www.facebook.com/TheEWasteProjectELBI/\n\nSource: The E-Waste Project-ELBI Facebook
URL:https://alum.up.edu.ph/event/uplb-the-e-waste-project-tep/
END:VEVENT
BEGIN:VEVENT
DTSTART;TZID=UTC:20230214T080000
DTEND;TZID=UTC:20230214T170000
DTSTAMP:20260423T082855
CREATED:20230122T205954Z
LAST-MODIFIED:20230122T205954Z
UID:6990-1676361600-1676394000@alum.up.edu.ph
SUMMARY:Mandatory Continuing Legal Education Synchronous Online Seminar
DESCRIPTION:The “Mandatory Continuing Legal Education Synchronous Online Seminar” of the UP Law Center Institute for the Administration of Justice will be conducted on February 7\, 9\, 14\, 21\, and 28.\n\nRegister at uplaw.ph/mclefebruary2023program until February 2.\n\nVisit https://law.upd.edu.ph/mcle/ for more details.
URL:https://alum.up.edu.ph/event/mandatory-continuing-legal-education-synchronous-online-seminar-12/
END:VEVENT
BEGIN:VEVENT
DTSTART;TZID=UTC:20230214T090000
DTEND;TZID=UTC:20230214T120000
DTSTAMP:20260423T082855
CREATED:20230213T171042Z
LAST-MODIFIED:20230213T171042Z
UID:7630-1676365200-1676376000@alum.up.edu.ph
SUMMARY:Himala Screening and Book Talk
DESCRIPTION:Image from UPFI Film Center Facebook page.\n\nCatch the free screening of the restored version of Ishmael Bernal’s film “Himala” (1982)\, with a talkback session by authors Neferti Xina M. Tadiar and Jonathan Beller\, tomorrow\, February 14\, 9 a.m.-12 p.m.\, at the Cine Adarna of the UP Film Institute (UPFI) Film Center.\n\nTadiar is a professor of women’s\, gender\, and sexuality studies at the Barnard College of Columbia University\, USA while Beller is a professor of humanities and media studies at the Pratt Institute\, USA.\n\nThere will also be a book talk session for Tadiar’s “Remaindered Life” and Beller’s “The World Computer: Derivative Conditions of Racial Capitalism” from 1:30 to 3 p.m. at the UPFI Film Center Videotheque.\n\nSee photo for more details.
URL:https://alum.up.edu.ph/event/himala-screening-and-book-talk/
END:VEVENT
BEGIN:VEVENT
DTSTART;TZID=UTC:20230214T090000
DTEND;TZID=UTC:20230218T170000
DTSTAMP:20260423T082855
CREATED:20230129T224137Z
LAST-MODIFIED:20230129T224211Z
UID:7137-1676365200-1676739600@alum.up.edu.ph
SUMMARY:UP Vargas Museum Free Guided Tours
DESCRIPTION:In celebration of national arts month this February\, the UP Vargas Museum offers a week of free guided tours around its four current exhibitions: You Betrayed the Party Just When You Should Have Helped It; the Vargas Museum Permanent Collection; The PCGG Artworks Collection: Objects of Study; and Jorge B. Vargas: A Collecting Life.\n\nA maximum of 15 pax will be accommodated per four daily tour time slots. Regular museum admission rates apply. After 18 February\, regular guided tour rates of P200 per group of 10 or fewer will resume.\n\nSign up now to join the free guided tour: bit.ly/UPVMFreeTour.\n\n#10DaysOfArtPH\n#ArtFairPH\n#ArtPH\n\nSource: UP Vargas Museum Facebook
URL:https://alum.up.edu.ph/event/up-vargas-museum-free-guided-tours/
END:VEVENT
BEGIN:VEVENT
DTSTART;TZID=UTC:20230214T140000
DTEND;TZID=UTC:20230214T160000
DTSTAMP:20260423T082855
CREATED:20230209T192931Z
LAST-MODIFIED:20230209T192931Z
UID:7536-1676383200-1676390400@alum.up.edu.ph
SUMMARY:"Healthy Love\, Happy Life: Conversations on Strengthening Relationships"
DESCRIPTION:Acknowledging how the pandemic has affected our interactions\, and possibly weakened our support systems\, it may be of value to step back and renew our focus on social and emotional well-being.\n\nIn response to this\, the Guidance and Counseling Program will be conducting “Healthy Love\, Happy Life: Conversations on Strengthening Relationships\,” an online activity that aims to have open discussions about the value of cultivating healthy relationships.\n\n14 February 2023 | 2:00 PM – 4:00 PM\nThis is a free event and all are welcome to attend.\n\nRegister here: https://bit.ly/HealthyLove23
URL:https://alum.up.edu.ph/event/healthy-love-happy-life-conversations-on-strengthening-relationships/
END:VEVENT
BEGIN:VEVENT
DTSTART;TZID=UTC:20230214T160000
DTEND;TZID=UTC:20230214T180000
DTSTAMP:20260423T082855
CREATED:20230209T184401Z
LAST-MODIFIED:20230209T184401Z
UID:7533-1676390400-1676397600@alum.up.edu.ph
SUMMARY:Poverty and Inequality in the Philippines: Past\, Present\, and Perspectives for the Future
DESCRIPTION:The seminar “Poverty and Inequality in the Philippines: Past\, Present\, and Perspectives for the Future” will be held on February 14\, Tuesday\, 4 p.m.\, at the UP Diliman School of Economics (SE) Library’s CFME Lobby and via Zoom\, with guest speaker Nadia Belhaj Hassine Belghith\, PhD\, a senior economist at the World Bank.\n\nThe seminar is presented by the SE and the Philippine Center for Economic Development.\n\nRegister at https://bit.ly/3Yfv8xu (on-site) and https://bit.ly/3YqRig4 (via Zoom).\n\nSee photo for more details.
URL:https://alum.up.edu.ph/event/poverty-and-inequality-in-the-philippines-past-present-and-perspectives-for-the-future/
END:VEVENT
END:VCALENDAR