BEGIN:VCALENDAR
VERSION:2.0
PRODID:-//UP Alumni Website - ECPv6.15.16//NONSGML v1.0//EN
CALSCALE:GREGORIAN
METHOD:PUBLISH
X-WR-CALNAME:UP Alumni Website
X-ORIGINAL-URL:https://alum.up.edu.ph
X-WR-CALDESC:Events for UP Alumni Website
REFRESH-INTERVAL;VALUE=DURATION:PT1H
X-Robots-Tag:noindex
X-PUBLISHED-TTL:PT1H
BEGIN:VTIMEZONE
TZID:UTC
BEGIN:STANDARD
TZOFFSETFROM:+0000
TZOFFSETTO:+0000
TZNAME:UTC
DTSTART:20220101T000000
END:STANDARD
END:VTIMEZONE
BEGIN:VEVENT
DTSTART;VALUE=DATE:20230113
DTEND;VALUE=DATE:20230302
DTSTAMP:20260422T090426
CREATED:20221115T174426Z
LAST-MODIFIED:20221115T174426Z
UID:5554-1673568000-1677715199@alum.up.edu.ph
SUMMARY:NurseLEAD Year 2 Batch 4
DESCRIPTION:NurseLEAD is now accepting applicants for Year 2 Batch 4!\n\nThis is an online course for advanced practice in Public Health Nursing that aims to strengthen nurse competencies in leading and managing primary care services and population-based programs\, carrying out supervisory and leadership responsibilities\, and fostering interprofessional education and collaborative practice.\n\nQualifications of participants are: Nurses who are (1) actively working in the public health setting and (2) have at least two years of experience as a leader or supervisor\, manager\, coordinator.\n\nDepEd School Nurses will also be accepted for this batch. Kindly email upnurselead@gmail.com for more information.\n\n#NurseLEAD2\n\nSource: UPCN Nurse LEAD Facebook
URL:https://alum.up.edu.ph/event/nurselead-year-2-batch-4/
END:VEVENT
BEGIN:VEVENT
DTSTART;TZID=UTC:20230130T100000
DTEND;TZID=UTC:20230715T160000
DTSTAMP:20260422T090426
CREATED:20230209T234249Z
LAST-MODIFIED:20230209T234249Z
UID:7577-1675072800-1689436800@alum.up.edu.ph
SUMMARY:Pagsalud han Dan-ag han Adlaw / Cupping the Flow of Sunlight (Gleanings from the Natural and Cultural Heritage of Eastern Visayas) Exhibit + Origami-making
DESCRIPTION:In celebration of National Arts Month this February 2023\, the Leyte Samar Heritage Center is offering the following activities:\n\nPagsalud han Dan-ag han Adlaw / Cupping the Flow of Sunlight (Gleanings from the Natural and Cultural Heritage of Eastern Visayas) Exhibit + Origami-making\nExhibit run: 30 January – 15 July 2023\nGallery hours: Monday – Friday | 10:00 AM – 4:00 PM\n\nBook here [https://forms.gle/Sm9iMDqcyExDhyFd6]\n\nSiday Magnet Poem Workshop\n15 February – 15 July 2023\nWednesdays | 10:00 AM – 3:00 PM\n\nBook here [https://forms.gle/jeRi7uRD3wJ5v6ST7]\n\nVisit us and learn more about the biodiversity\, arts\, and culture of Eastern Visayas!\n\nAdmission is free!\n\n#NationalArtsMonth2023\n#UPTaclobanat50\n\nSource: UPVTC Leyte Samar Heritage Center Facebook
URL:https://alum.up.edu.ph/event/pagsalud-han-dan-ag-han-adlaw-cupping-the-flow-of-sunlight-gleanings-from-the-natural-and-cultural-heritage-of-eastern-visayas-exhibit-origami-making/
END:VEVENT
BEGIN:VEVENT
DTSTART;TZID=UTC:20230207T080000
DTEND;TZID=UTC:20230303T180000
DTSTAMP:20260422T090426
CREATED:20230209T231640Z
LAST-MODIFIED:20230209T231658Z
UID:7563-1675756800-1677866400@alum.up.edu.ph
SUMMARY:VENTURES: The UPLB Abstract Show
DESCRIPTION:VENTURES: The UPLB Abstract Show\nExhibit runs until 3 March 2023\n\nSource: UPLB Office for Initiatives in Culture and the Arts Facebook
URL:https://alum.up.edu.ph/event/ventures-the-uplb-abstract-show/
END:VEVENT
BEGIN:VEVENT
DTSTART;TZID=UTC:20230215T100000
DTEND;TZID=UTC:20230715T150000
DTSTAMP:20260422T090426
CREATED:20230209T234351Z
LAST-MODIFIED:20230209T234351Z
UID:7580-1676455200-1689433200@alum.up.edu.ph
SUMMARY:Siday Magnet Poem Workshop
DESCRIPTION:In celebration of National Arts Month this February 2023\, the Leyte Samar Heritage Center is offering the following activities:\n\nPagsalud han Dan-ag han Adlaw / Cupping the Flow of Sunlight (Gleanings from the Natural and Cultural Heritage of Eastern Visayas) Exhibit + Origami-making\nExhibit run: 30 January – 15 July 2023\nGallery hours: Monday – Friday | 10:00 AM – 4:00 PM\n\nBook here [https://forms.gle/Sm9iMDqcyExDhyFd6]\n\nSiday Magnet Poem Workshop\n15 February – 15 July 2023\nWednesdays | 10:00 AM – 3:00 PM\n\nBook here [https://forms.gle/jeRi7uRD3wJ5v6ST7]\n\nVisit us and learn more about the biodiversity\, arts\, and culture of Eastern Visayas!\n\nAdmission is free!\n\n#NationalArtsMonth2023\n#UPTaclobanat50\n\nSource: UPVTC Leyte Samar Heritage Center Facebook
URL:https://alum.up.edu.ph/event/siday-magnet-poem-workshop/
END:VEVENT
BEGIN:VEVENT
DTSTART;TZID=UTC:20230217T080000
DTEND;TZID=UTC:20230301T170000
DTSTAMP:20260422T090426
CREATED:20230217T010324Z
LAST-MODIFIED:20230217T010324Z
UID:7803-1676620800-1677690000@alum.up.edu.ph
SUMMARY:Philippine Quality Award (PQA) Application Development Course (ONLINE)
DESCRIPTION:REGISTRATION IS NOW OPEN! 📣📣📣\n\nThe DAP\, through the Productivity and Development Center\, will be conducting the 1st batch of the Philippine Quality Award (PQA) Application Development Course (ONLINE) on 6-10 March 2023. Please see poster for details.\n\nRegister on or before 17 February 2023 to avail of the 10% early bird discount!\n\nRegister here: https://bit.ly/3jlzDr8\n\nFor inquiries\, email mercaderm@dap.edu.ph or lanipj@dap.edu.ph\n\n#AimforExcellenceMakeaDifferenceinProductivityandQuality\n\nSource: DAP Productivity and Development Center Facebook
URL:https://alum.up.edu.ph/event/philippine-quality-award-pqa-application-development-course-online/
END:VEVENT
BEGIN:VEVENT
DTSTART;TZID=UTC:20230220T080000
DTEND;TZID=UTC:20230224T170000
DTSTAMP:20260422T090426
CREATED:20230214T224100Z
LAST-MODIFIED:20230214T224100Z
UID:7694-1676880000-1677258000@alum.up.edu.ph
SUMMARY:"ALABatangan: Nag-aalab na Serbisyo-Batangueño (TANAW Onsite Exhibit)"
DESCRIPTION:UNIVERSITY OF THE PHILIPPINES BATANGAN &\nUP Diliman Office for Initiatives in Culture and the Arts\n\nInendorso ng UP Diliman Office of Student Projects and Activities\n\nKasama ang:\nArchikonst\nSHS Oculus Publications\nIKOT.PH\nJunior Philippine Institute of Chemical Engineers Batangas State University\nFEU Junior People Management Association of the Philippines\nCollege of Engineering Alangilan – Student Council\nHuman Resource Management Society LPU-B\nAssociation of Young Public Administrators\nCollege of Business Administration Student Council\nCollege of Nursing and Allied Health Sciences – Student Council\nMapua SHS Samahan ng Filipino\nU.P. Sandigan\nLPU-St. Cabrini Central Student Government\nLPU-B Peer Facilitators Group\nThe Steak Cartel Laguna\nJorge’s Casa de Sans Rival\nBread Bag Bakery\n\nInihahandog ang\nALABatangan: Nag-aalab na Serbisyo-Batangueño\n\nSamahe kami sa aming pagdiriwang ng ika-47 anibersaryo ngayong buwan ng Pebrero!\n\nTANAW\nOnsite na Exhibit\nPebrero 20-24 | 8 AM-5 PM | AS Lobby\, UP Diliman\n\nHIGUPE\nLibreng Pakape\nPebrero 21-23 | 6 PM-8 PM | Kalayaan\, Ilang-ilang\, at Sampaguita Residence Halls\, UP Diliman\n\nPANAWAGAN\nUnity Statement\nPebrero 25 | UP Batangan FB Page\n\nHALWAT\nAnniversary Night at Donation Drive\nPebrero 25 | Lipa City\, Batangas\n\nSAKOL\nOn-ground Food Packs Distribution\nPebrero 26 | Brgy. San Antonio\, San Luis\, Batangas\n\nKALAMPAGAN\nOnline Community at Leadership Workshop\nPebrero 20-28 | Facebook Group at Zoom\n\nSa pakikipagtulungan sa:\nJunior Philippine Institute of Industrial Engineers – Batstateu Alangilan\nPUP Psychology Students Association\nUP Kasanag\nAssociation of Medical Biology Students – LPUB\nUP Society of Students for Korean Popular Culture\n\nHatid rin sa inyo ng:\nJunior Philippine Institute of Industrial Engineers – Batstateu Alangilan\nPUP Psychology Students Association\nUP Kasanag\nAssociation of Medical Biology Students – LPUB\nUP Society of Students for Korean Popular Culture\n\n#ALABatangan\n#47ABatanagan\n#AYLABatangan\n\nSource: UP Batangan Official Facebook
URL:https://alum.up.edu.ph/event/alabatangan-nag-aalab-na-serbisyo-batangueno-tanaw-onsite-exhibit/
END:VEVENT
BEGIN:VEVENT
DTSTART;TZID=UTC:20230220T080000
DTEND;TZID=UTC:20230317T170000
DTSTAMP:20260422T090426
CREATED:20230217T010109Z
LAST-MODIFIED:20230217T010109Z
UID:7800-1676880000-1679072400@alum.up.edu.ph
SUMMARY:UPOU Certificate Course for Data Protection Officers
DESCRIPTION:The UP Open University (UPOU)\, UPOU Foundation Inc.\, and Digital Freedom network offers its 11th batch of Certificate Course for Data Protection Officers (CCDPO_1_2023) from 20 February to 17 March 2023.\n\nClick this link to know more about the course\, lecturers\, and course offering schedules: https://fmds.upou.edu.ph/ccdpo/\n\n#DataProtection #ShortCourses #UPOpenUniversity #OnlineLearning\n\nSource: UP Open University (UPOU) Facebook
URL:https://alum.up.edu.ph/event/upou-certificate-course-for-data-protection-officers/
END:VEVENT
BEGIN:VEVENT
DTSTART;VALUE=DATE:20230221
DTEND;VALUE=DATE:20230224
DTSTAMP:20260422T090426
CREATED:20221205T182314Z
LAST-MODIFIED:20221205T182314Z
UID:6170-1676937600-1677196799@alum.up.edu.ph
SUMMARY:CALL FOR SUBMISSIONS! 2023 Conference-Workshop on Indigenous Languages and the Sustainable Development Goals
DESCRIPTION:CALL FOR SUBMISSIONS!\n\nThe 2023 Conference-Workshop on Indigenous Languages and the Sustainable Development Goals is happening on February 21-23\, 2023\, at the University of the Philippines Visayas Iloilo City Campus.\n\nProposals for paper and non-text presentation are now accepted. Submissions should be related to any of the tracks\, sub-themes or topics of the conference.\n\nThe conference will feature plenary sessions\, policy forum and roundtable discussions\, thematic workshops\, paper and non-text (performative) presentations\, art and culture exhibits and mini festivals\, demo fest\, and story sessions.\n\nFor more information\, please email talaytayanmle@gmail.com\, or swf.upvisayas@up.edu.ph.\n\nDetails on registration will be posted soon.\n\nSource: University of the Philippines Visayas Facebook
URL:https://alum.up.edu.ph/event/call-for-submissions-2023-conference-workshop-on-indigenous-languages-and-the-sustainable-development-goals/
END:VEVENT
BEGIN:VEVENT
DTSTART;VALUE=DATE:20230221
DTEND;VALUE=DATE:20230225
DTSTAMP:20260422T090426
CREATED:20230215T192545Z
LAST-MODIFIED:20230215T192545Z
UID:7716-1676937600-1677283199@alum.up.edu.ph
SUMMARY:UP Diliman Study Abroad Fair
DESCRIPTION:Tayo’y mag-LAYAG sa 21-24 February 2023! 🚢 ✈️ 🧳\n\nReady your passports! The UP Diliman Study Abroad Fair returns this 2023!\n#StudyAbroadUPD\n\nhttps://fb.me/e/2ATeTVhex\n\nSource: Office of International Linkages Diliman – OVCAA\, UP Diliman Facebook
URL:https://alum.up.edu.ph/event/up-diliman-study-abroad-fair/
END:VEVENT
BEGIN:VEVENT
DTSTART;TZID=UTC:20230221T180000
DTEND;TZID=UTC:20230223T200000
DTSTAMP:20260422T090426
CREATED:20230214T224201Z
LAST-MODIFIED:20230214T224201Z
UID:7696-1677002400-1677182400@alum.up.edu.ph
SUMMARY:"ALABatangan: Nag-aalab na Serbisyo-Batangueño (HIGUPE)"
DESCRIPTION:UNIVERSITY OF THE PHILIPPINES BATANGAN &\nUP Diliman Office for Initiatives in Culture and the Arts\n\nInendorso ng UP Diliman Office of Student Projects and Activities\n\nKasama ang:\nArchikonst\nSHS Oculus Publications\nIKOT.PH\nJunior Philippine Institute of Chemical Engineers Batangas State University\nFEU Junior People Management Association of the Philippines\nCollege of Engineering Alangilan – Student Council\nHuman Resource Management Society LPU-B\nAssociation of Young Public Administrators\nCollege of Business Administration Student Council\nCollege of Nursing and Allied Health Sciences – Student Council\nMapua SHS Samahan ng Filipino\nU.P. Sandigan\nLPU-St. Cabrini Central Student Government\nLPU-B Peer Facilitators Group\nThe Steak Cartel Laguna\nJorge’s Casa de Sans Rival\nBread Bag Bakery\n\nInihahandog ang\nALABatangan: Nag-aalab na Serbisyo-Batangueño\n\nSamahe kami sa aming pagdiriwang ng ika-47 anibersaryo ngayong buwan ng Pebrero!\n\nTANAW\nOnsite na Exhibit\nPebrero 20-24 | 8 AM-5 PM | AS Lobby\, UP Diliman\n\nHIGUPE\nLibreng Pakape\nPebrero 21-23 | 6 PM-8 PM | Kalayaan\, Ilang-ilang\, at Sampaguita Residence Halls\, UP Diliman\n\nPANAWAGAN\nUnity Statement\nPebrero 25 | UP Batangan FB Page\n\nHALWAT\nAnniversary Night at Donation Drive\nPebrero 25 | Lipa City\, Batangas\n\nSAKOL\nOn-ground Food Packs Distribution\nPebrero 26 | Brgy. San Antonio\, San Luis\, Batangas\n\nKALAMPAGAN\nOnline Community at Leadership Workshop\nPebrero 20-28 | Facebook Group at Zoom\n\nSa pakikipagtulungan sa:\nJunior Philippine Institute of Industrial Engineers – Batstateu Alangilan\nPUP Psychology Students Association\nUP Kasanag\nAssociation of Medical Biology Students – LPUB\nUP Society of Students for Korean Popular Culture\n\nHatid rin sa inyo ng:\nJunior Philippine Institute of Industrial Engineers – Batstateu Alangilan\nPUP Psychology Students Association\nUP Kasanag\nAssociation of Medical Biology Students – LPUB\nUP Society of Students for Korean Popular Culture\n\n#ALABatangan\n#47ABatanagan\n#AYLABatangan\n\nSource: UP Batangan Official Facebook
URL:https://alum.up.edu.ph/event/alabatangan-nag-aalab-na-serbisyo-batangueno-higupe/
END:VEVENT
BEGIN:VEVENT
DTSTART;TZID=UTC:20230222T080000
DTEND;TZID=UTC:20230224T113000
DTSTAMP:20260422T090426
CREATED:20230201T181959Z
LAST-MODIFIED:20230201T181959Z
UID:7288-1677052800-1677238200@alum.up.edu.ph
SUMMARY:“Approaches\, Regulatory Challenges\, and Advances in Bioequivalence\, Dissolution Testing\, and Biowaivers”
DESCRIPTION:The UP College of Pharmacy is holding a three-day webinar series co-hosted by the American Association of Pharmaceutical Scientists – In Vitro Release and Dissolution Testing (AAPS-IVRDT) Outreach Community\, to be held on February 22\, 23\, and 24\, 2023 via Zoom platform. Registration is free and with applied CPD units for pharmacists.\n\nThe theme of the webinar series is “Approaches\, Regulatory Challenges\, and Advances in Bioequivalence\, Dissolution Testing\, and Biowaivers.” Pharmacists from the pharmaceutical industry\, academe\, research\, regulatory affairs\, hospitals\, the Philippine FDA\, and DOH will find the topics in this webinar interesting and very relevant and beneficial to pharmacists and to their pharmacy practice.\n\nThe webinar aims to:\n· Discuss the use of dissolution testing as a tool for Quality Control and drug development in bioequivalence and bioavailability studies and in biowaivers.\n· Explain new regulatory information on dissolution testing\, BA/BE studies and biowaivers and the challenges encountered in generic drug registration using these methods.\n· Describe recent advances in research and the application of dissolution testing\, BA/BE studies\, and the use of biowaivers.\n· Develop networking for research collaboration\, knowledge sharing\, education\, and industry exchange in dissolution\, biowaiver\, and bioequivalence topics.\n\nParticipants may register through this link or through the QR code in the poster: https://up-edu.zoom.us/…/regi…/WN_fLEmihvrTPWrUxj0iKNVHQ\n\nSource: University of the Philippines Manila Facebook
URL:https://alum.up.edu.ph/event/approaches-regulatory-challenges-and-advances-in-bioequivalence-dissolution-testing-and-biowaivers/
END:VEVENT
BEGIN:VEVENT
DTSTART;TZID=UTC:20230222T080000
DTEND;TZID=UTC:20230228T170000
DTSTAMP:20260422T090426
CREATED:20230222T221709Z
LAST-MODIFIED:20230222T221709Z
UID:7891-1677052800-1677603600@alum.up.edu.ph
SUMMARY:14th National Rare Disease Week Philippines
DESCRIPTION:Be part of National Rare Disease Week Philippines and #ShareYourColours for Rare Disease Awareness! #CareForRarePH\n\nHeld every last week of February\, National Rare Disease Week (February 22-28) aims to raise awareness and public support for people living with rare diseases. The event also culminates with Rare Disease Day\, a globally coordinated movement on rare diseases held every last day of February.\n\nEveryone deserves equitable opportunities and access to healthcare. However\, people living with a rare disease are more likely to face misdiagnosis and isolation. This year\, join us\, light up\, and be in solidarity with over 300 million people living with a rare condition.\n\nFor more information\, visit www.psod.org.ph\n\nWATCH AND SHARE https://facebook.com/PSODCareForRare/videos/2411842225631394\n\nFebruary 22 InkluNasyon (3:00 – 4:00 PM) Webinar on Rare Diseases and National Rare Disease Week Kick-off\n\nFebruary 28 #LightUpForRare This is an open invitation to all offices\, institutions\, corporations and government agencies.\nThe Light Up for Rare Campaign is a global invitation to illuminate a building or landmark on the evening of Rare Disease Day (February 28\, 7:00 PM). Through this activity\, we will be able to participate in the chain of lights across the world.\n\nLEARN MORE ABOUT NRDW AND THE LIGHT FOR RARE MECHANICS AT https://bit.ly/NRDW2023drive\n\n#CareForRarePH\n\nInstitute of Human Genetics – NIH\nVolunteer Youth Leaders for Health – Philippines\nHealthy Pilipinas\nPhilippine Information Agency \n\nSource: University of the Philippines Manila Facebook
URL:https://alum.up.edu.ph/event/14th-national-rare-disease-week-philippines/
END:VEVENT
BEGIN:VEVENT
DTSTART;TZID=UTC:20230223T080000
DTEND;TZID=UTC:20230223T170000
DTSTAMP:20260422T090426
CREATED:20230214T182950Z
LAST-MODIFIED:20230215T002841Z
UID:7674-1677139200-1677171600@alum.up.edu.ph
SUMMARY:Paghubad: Translating the Regions (Seminar-Workshop 1)
DESCRIPTION:UP Tacloban is spearheading a series of activities in celebration of the 50th anniversary of the college’s establishment on 23 May 1973. The activities this February were led by several academic divisions and offices in collaboration with institutional partners.\n\nOn 10 February UP Tacloban’s Gender and Development Program held the Women and Girls in Science for the Sustainable Development Goals (WAGSS) webinar in observance of the 8th International Day of Women and Girls in Science.\n\nThe rest of the anniversary activities this February include the following:\n\n15-17 February – Eastern Samar Blue Carbon Stakeholders Summit and Training Workshop | Presentation and discussion of a Local Blue Carbon Strategy for Eastern Samar and training of Blue Carbon Network members for the sustainable management of mangrove and seagrass ecosystems. The activity is led by UP Tacloban’s Division of Natural Sciences and Mathematics in partnership with the “Upgrading and Promoting the\nComprehensive Assessment and Conservation of Blue Carbon Ecosystems and their Services in the Coral Triangle (UPBlueCARES)” project led by UP Diliman and funded by the Japan International Cooperation Agency.\n\n22 February – Ways Forward towards a Digitalized Extension System in the Philippines | Presentation of Agriculture for Food Sustainability (AgriFoSe) 2030 research findings on the availability and quality of digital extension services in agriculture\, and discussion of the future of digital agriculture. The activity is led by UP Tacloban’s Division of Management under the AgriFoSe 2030 PH project funded by the Swedish International Cooperation Agency.\n\n23 February – Paghubad: Translating the Regions (Seminar-Workshop 1) | A seminar-workshop on literary translation\, particularly the translation\nof Waray texts to English/Filipino. The activity is part of the celebration of National Arts Month led by UP Tacloban’s Division of Humanities.\n\nUP Tacloban’s 50th founding anniversary exhibit\, “Pagsalud han Dan-ag han Adlaw (Cupping the flow of sunlight): Gleanings from the natural and cultural heritage of Eastern Visayas\,” which opened on 23 January 2023 to kick off the yearlong golden anniversary celebration\, is still on display at the Leyte Samar Heritage Center Gallery on the UP Tacloban campus. The exhibit is open on weekdays from 10:00 AM to 4:00 PM. Check out this post for more details: https://www.facebook.com/photo/?fbid=640691074727306&set=a.509402334522848\n\nStay tuned for the details of the anniversary activities in March\, April\, and May.\n\n#UPTaclobanAt50\n\nSource: UPV Tacloban College FacebookEastern Samar Blue Carbon Stakeholders Summit and Training Workshop
URL:https://alum.up.edu.ph/event/paghubad-translating-the-regions-seminar-workshop-1/
END:VEVENT
BEGIN:VEVENT
DTSTART;TZID=UTC:20230223T080000
DTEND;TZID=UTC:20230224T181500
DTSTAMP:20260422T090426
CREATED:20230222T213135Z
LAST-MODIFIED:20230222T213204Z
UID:7853-1677139200-1677262500@alum.up.edu.ph
SUMMARY:Mandatory Continuing Legal Education 7th and 8th compliance
DESCRIPTION:The UP Institute for the Administration of Justice in partnership with IBP Makati will be conducting an in-person Mandatory Continuing Legal Education 7th and 8th compliance\, for the period of 23-24 and 30-31 March 2023.\n\nInterested participants may register thru https://uplaw.ph/ibpmakatimcle2023.\n\nClick this link for more details https://law.upd.edu.ph/mcle/.\n\n#UPCollegeofLaw #UPLaw #UPLawMCLE\n\nSource: University of the Philippines College of Law Facebook
URL:https://alum.up.edu.ph/event/mandatory-continuing-legal-education-7th-and-8th-compliance/
END:VEVENT
BEGIN:VEVENT
DTSTART;TZID=UTC:20230223T090000
DTEND;TZID=UTC:20230223T180000
DTSTAMP:20260422T090426
CREATED:20230222T191147Z
LAST-MODIFIED:20230222T191147Z
UID:7811-1677142800-1677175200@alum.up.edu.ph
SUMMARY:Sigla at Sigasig: Pagtatanghal ng Husay at Pusong CSWCD
DESCRIPTION:Image from UP CSWCD Facebook page\nImage from UP CSWCD Facebook page\nMakibahagi sa mga inihandang aktibidad para sa pagdiriwang ng “College Week 2023” ng UP Diliman College of Social Work and Community Development (CSWCD) na may temang “Sigla at Sigasig: Pagtatanghal ng Husay at Pusong CSWCD.” Ito ay gaganapin mula Pebrero 20 hanggang 24.\n\nTingnan ang mga larawan para sa mga karagdagang detalye.\n\nPara sa mga susunod na pabatid\, bisitahin ang CSWCD Facebook page.Makibahagi sa mga inihandang aktibidad para sa pagdiriwang ng “College Week 2023” ng UP Diliman College of Social Work and Community Development (CSWCD) na may temang “Sigla at Sigasig: Pagtatanghal ng Husay at Pusong CSWCD.” Ito ay gaganapin mula Pebrero 20 hanggang 24.\n\nTingnan ang mga larawan para sa mga karagdagang detalye.\n\nPara sa mga susunod na pabatid\, bisitahin ang CSWCD Facebook page.
URL:https://alum.up.edu.ph/event/sigla-at-sigasig-pagtatanghal-ng-husay-at-pusong-cswcd/
END:VEVENT
BEGIN:VEVENT
DTSTART;TZID=UTC:20230223T143000
DTEND;TZID=UTC:20230223T160000
DTSTAMP:20260422T090426
CREATED:20230212T224613Z
LAST-MODIFIED:20230212T224613Z
UID:7602-1677162600-1677168000@alum.up.edu.ph
SUMMARY:Online Upskilling: Relationship Skills
DESCRIPTION:Upgrade Your Relationship Skills and Join our Discussion on Feb 23rd from 2:30-4:00 PM\, brought to you by the Learning Resource Center and the Office of Student Affairs UP Manila\n\nGet ready to dive into the world of relationships and explore the dynamics of your personal relationships with family\, work\, university\, and society. This is open to all students and employees.\n\nRegister now at bit.ly/UpskillRelationships for this must-attend online event!\n\n#LRCRelationshipSkills\n#UpmLRCUpskill\n\nSource: University of the Philippines Manila Learning Resource Center Facebook
URL:https://alum.up.edu.ph/event/online-upskilling-relationship-skills/
END:VEVENT
END:VCALENDAR