BEGIN:VCALENDAR
VERSION:2.0
PRODID:-//UP Alumni Website - ECPv6.15.16//NONSGML v1.0//EN
CALSCALE:GREGORIAN
METHOD:PUBLISH
X-WR-CALNAME:UP Alumni Website
X-ORIGINAL-URL:https://alum.up.edu.ph
X-WR-CALDESC:Events for UP Alumni Website
REFRESH-INTERVAL;VALUE=DURATION:PT1H
X-Robots-Tag:noindex
X-PUBLISHED-TTL:PT1H
BEGIN:VTIMEZONE
TZID:UTC
BEGIN:STANDARD
TZOFFSETFROM:+0000
TZOFFSETTO:+0000
TZNAME:UTC
DTSTART:20220101T000000
END:STANDARD
END:VTIMEZONE
BEGIN:VEVENT
DTSTART;VALUE=DATE:20230113
DTEND;VALUE=DATE:20230302
DTSTAMP:20260423T090901
CREATED:20221115T174426Z
LAST-MODIFIED:20221115T174426Z
UID:5554-1673568000-1677715199@alum.up.edu.ph
SUMMARY:NurseLEAD Year 2 Batch 4
DESCRIPTION:NurseLEAD is now accepting applicants for Year 2 Batch 4!\n\nThis is an online course for advanced practice in Public Health Nursing that aims to strengthen nurse competencies in leading and managing primary care services and population-based programs\, carrying out supervisory and leadership responsibilities\, and fostering interprofessional education and collaborative practice.\n\nQualifications of participants are: Nurses who are (1) actively working in the public health setting and (2) have at least two years of experience as a leader or supervisor\, manager\, coordinator.\n\nDepEd School Nurses will also be accepted for this batch. Kindly email upnurselead@gmail.com for more information.\n\n#NurseLEAD2\n\nSource: UPCN Nurse LEAD Facebook
URL:https://alum.up.edu.ph/event/nurselead-year-2-batch-4/
END:VEVENT
BEGIN:VEVENT
DTSTART;TZID=UTC:20230130T100000
DTEND;TZID=UTC:20230715T160000
DTSTAMP:20260423T090901
CREATED:20230209T234249Z
LAST-MODIFIED:20230209T234249Z
UID:7577-1675072800-1689436800@alum.up.edu.ph
SUMMARY:Pagsalud han Dan-ag han Adlaw / Cupping the Flow of Sunlight (Gleanings from the Natural and Cultural Heritage of Eastern Visayas) Exhibit + Origami-making
DESCRIPTION:In celebration of National Arts Month this February 2023\, the Leyte Samar Heritage Center is offering the following activities:\n\nPagsalud han Dan-ag han Adlaw / Cupping the Flow of Sunlight (Gleanings from the Natural and Cultural Heritage of Eastern Visayas) Exhibit + Origami-making\nExhibit run: 30 January – 15 July 2023\nGallery hours: Monday – Friday | 10:00 AM – 4:00 PM\n\nBook here [https://forms.gle/Sm9iMDqcyExDhyFd6]\n\nSiday Magnet Poem Workshop\n15 February – 15 July 2023\nWednesdays | 10:00 AM – 3:00 PM\n\nBook here [https://forms.gle/jeRi7uRD3wJ5v6ST7]\n\nVisit us and learn more about the biodiversity\, arts\, and culture of Eastern Visayas!\n\nAdmission is free!\n\n#NationalArtsMonth2023\n#UPTaclobanat50\n\nSource: UPVTC Leyte Samar Heritage Center Facebook
URL:https://alum.up.edu.ph/event/pagsalud-han-dan-ag-han-adlaw-cupping-the-flow-of-sunlight-gleanings-from-the-natural-and-cultural-heritage-of-eastern-visayas-exhibit-origami-making/
END:VEVENT
BEGIN:VEVENT
DTSTART;TZID=UTC:20230207T080000
DTEND;TZID=UTC:20230303T180000
DTSTAMP:20260423T090901
CREATED:20230209T231640Z
LAST-MODIFIED:20230209T231658Z
UID:7563-1675756800-1677866400@alum.up.edu.ph
SUMMARY:VENTURES: The UPLB Abstract Show
DESCRIPTION:VENTURES: The UPLB Abstract Show\nExhibit runs until 3 March 2023\n\nSource: UPLB Office for Initiatives in Culture and the Arts Facebook
URL:https://alum.up.edu.ph/event/ventures-the-uplb-abstract-show/
END:VEVENT
BEGIN:VEVENT
DTSTART;TZID=UTC:20230215T100000
DTEND;TZID=UTC:20230715T150000
DTSTAMP:20260423T090901
CREATED:20230209T234351Z
LAST-MODIFIED:20230209T234351Z
UID:7580-1676455200-1689433200@alum.up.edu.ph
SUMMARY:Siday Magnet Poem Workshop
DESCRIPTION:In celebration of National Arts Month this February 2023\, the Leyte Samar Heritage Center is offering the following activities:\n\nPagsalud han Dan-ag han Adlaw / Cupping the Flow of Sunlight (Gleanings from the Natural and Cultural Heritage of Eastern Visayas) Exhibit + Origami-making\nExhibit run: 30 January – 15 July 2023\nGallery hours: Monday – Friday | 10:00 AM – 4:00 PM\n\nBook here [https://forms.gle/Sm9iMDqcyExDhyFd6]\n\nSiday Magnet Poem Workshop\n15 February – 15 July 2023\nWednesdays | 10:00 AM – 3:00 PM\n\nBook here [https://forms.gle/jeRi7uRD3wJ5v6ST7]\n\nVisit us and learn more about the biodiversity\, arts\, and culture of Eastern Visayas!\n\nAdmission is free!\n\n#NationalArtsMonth2023\n#UPTaclobanat50\n\nSource: UPVTC Leyte Samar Heritage Center Facebook
URL:https://alum.up.edu.ph/event/siday-magnet-poem-workshop/
END:VEVENT
BEGIN:VEVENT
DTSTART;TZID=UTC:20230217T080000
DTEND;TZID=UTC:20230301T170000
DTSTAMP:20260423T090901
CREATED:20230217T010324Z
LAST-MODIFIED:20230217T010324Z
UID:7803-1676620800-1677690000@alum.up.edu.ph
SUMMARY:Philippine Quality Award (PQA) Application Development Course (ONLINE)
DESCRIPTION:REGISTRATION IS NOW OPEN! 📣📣📣\n\nThe DAP\, through the Productivity and Development Center\, will be conducting the 1st batch of the Philippine Quality Award (PQA) Application Development Course (ONLINE) on 6-10 March 2023. Please see poster for details.\n\nRegister on or before 17 February 2023 to avail of the 10% early bird discount!\n\nRegister here: https://bit.ly/3jlzDr8\n\nFor inquiries\, email mercaderm@dap.edu.ph or lanipj@dap.edu.ph\n\n#AimforExcellenceMakeaDifferenceinProductivityandQuality\n\nSource: DAP Productivity and Development Center Facebook
URL:https://alum.up.edu.ph/event/philippine-quality-award-pqa-application-development-course-online/
END:VEVENT
BEGIN:VEVENT
DTSTART;TZID=UTC:20230220T080000
DTEND;TZID=UTC:20230317T170000
DTSTAMP:20260423T090901
CREATED:20230217T010109Z
LAST-MODIFIED:20230217T010109Z
UID:7800-1676880000-1679072400@alum.up.edu.ph
SUMMARY:UPOU Certificate Course for Data Protection Officers
DESCRIPTION:The UP Open University (UPOU)\, UPOU Foundation Inc.\, and Digital Freedom network offers its 11th batch of Certificate Course for Data Protection Officers (CCDPO_1_2023) from 20 February to 17 March 2023.\n\nClick this link to know more about the course\, lecturers\, and course offering schedules: https://fmds.upou.edu.ph/ccdpo/\n\n#DataProtection #ShortCourses #UPOpenUniversity #OnlineLearning\n\nSource: UP Open University (UPOU) Facebook
URL:https://alum.up.edu.ph/event/upou-certificate-course-for-data-protection-officers/
END:VEVENT
BEGIN:VEVENT
DTSTART;TZID=UTC:20230222T080000
DTEND;TZID=UTC:20230228T170000
DTSTAMP:20260423T090901
CREATED:20230222T221709Z
LAST-MODIFIED:20230222T221709Z
UID:7891-1677052800-1677603600@alum.up.edu.ph
SUMMARY:14th National Rare Disease Week Philippines
DESCRIPTION:Be part of National Rare Disease Week Philippines and #ShareYourColours for Rare Disease Awareness! #CareForRarePH\n\nHeld every last week of February\, National Rare Disease Week (February 22-28) aims to raise awareness and public support for people living with rare diseases. The event also culminates with Rare Disease Day\, a globally coordinated movement on rare diseases held every last day of February.\n\nEveryone deserves equitable opportunities and access to healthcare. However\, people living with a rare disease are more likely to face misdiagnosis and isolation. This year\, join us\, light up\, and be in solidarity with over 300 million people living with a rare condition.\n\nFor more information\, visit www.psod.org.ph\n\nWATCH AND SHARE https://facebook.com/PSODCareForRare/videos/2411842225631394\n\nFebruary 22 InkluNasyon (3:00 – 4:00 PM) Webinar on Rare Diseases and National Rare Disease Week Kick-off\n\nFebruary 28 #LightUpForRare This is an open invitation to all offices\, institutions\, corporations and government agencies.\nThe Light Up for Rare Campaign is a global invitation to illuminate a building or landmark on the evening of Rare Disease Day (February 28\, 7:00 PM). Through this activity\, we will be able to participate in the chain of lights across the world.\n\nLEARN MORE ABOUT NRDW AND THE LIGHT FOR RARE MECHANICS AT https://bit.ly/NRDW2023drive\n\n#CareForRarePH\n\nInstitute of Human Genetics – NIH\nVolunteer Youth Leaders for Health – Philippines\nHealthy Pilipinas\nPhilippine Information Agency \n\nSource: University of the Philippines Manila Facebook
URL:https://alum.up.edu.ph/event/14th-national-rare-disease-week-philippines/
END:VEVENT
BEGIN:VEVENT
DTSTART;VALUE=DATE:20230227
DTEND;VALUE=DATE:20230301
DTSTAMP:20260423T090901
CREATED:20230102T203417Z
LAST-MODIFIED:20230208T174647Z
UID:6560-1677456000-1677628799@alum.up.edu.ph
SUMMARY:25th UP National Institutes of Health Anniversary Conference
DESCRIPTION:On February 27-28\, 2023\, the National Institutes of Health (NIH) – University of the Philippines Manila will be celebrating its 25th founding anniversary with the theme\, “Transforming Philippine Health Systems Towards Universal Healthcare through Research Partnerships”.\n\nThis event will be held at the University of the Philippines Bonifacio Global City\, 32nd St.\, Taguig City.\n\nRegister here: http://bitly.ws/zoLQ\n\nThe registration rates for non-NIH employees are as follows:\nP 1\,500.00 – Onsite\nP 500.00 – Online\n\nImportant Reminders:\n-Fees that will be collected will only cover your participation in the main conference.\n-There will be a separate registration link for parallel workshops should you wish to join them in the afternoon of February 28\n– Due to limited seating capacity\, only the pre-registered participants will be accommodated on site.\n\nSource: University of the Philippines Manila Facebook
URL:https://alum.up.edu.ph/event/25th-up-national-institutes-of-health-anniversary-conference/
END:VEVENT
BEGIN:VEVENT
DTSTART;TZID=UTC:20230227T080000
DTEND;TZID=UTC:20230227T170000
DTSTAMP:20260423T090901
CREATED:20230206T220646Z
LAST-MODIFIED:20230206T220646Z
UID:7433-1677484800-1677517200@alum.up.edu.ph
SUMMARY:8TH CEM RESEARCH FORUM
DESCRIPTION:𝟴𝗧𝗛 𝗖𝗘𝗠 𝗥𝗘𝗦𝗘𝗔𝗥𝗖𝗛 𝗙𝗢𝗥𝗨𝗠\n𝙁𝙪𝙩𝙪𝙧𝙚-𝙋𝙧𝙤𝙤𝙛𝙞𝙣𝙜 𝙏𝙤𝙬𝙖𝙧𝙙𝙨 𝙖 𝙍𝙚𝙨𝙥𝙤𝙣𝙨𝙞𝙫𝙚\, 𝙄𝙣𝙣𝙤𝙫𝙖𝙩𝙞𝙫𝙚\, 𝙖𝙣𝙙 𝘾𝙤𝙡𝙡𝙖𝙗𝙤𝙧𝙖𝙩𝙞𝙫𝙚 𝙍𝙚𝙨𝙚𝙖𝙧𝙘𝙝 𝙞𝙣 𝙀𝙘𝙤𝙣𝙤𝙢𝙞𝙘𝙨\, 𝙈𝙖𝙣𝙖𝙜𝙚𝙢𝙚𝙣𝙩 𝙖𝙣𝙙 𝘼𝙜𝙧𝙞𝙘𝙪𝙡𝙩𝙪𝙧𝙖𝙡 𝘿𝙚𝙫𝙚𝙡𝙤𝙥𝙢𝙚𝙣𝙩\n\nEveryone is invited!\n\nThe College of Economics and Management (CEM)\, University of the Philippines Los Baños will hold the 8th CEM Research Forum on 27 February 2023 at the REDREC Auditorium\, UPLB\, College\, Laguna.\nWith this year’s theme of “Future-Proofing Towards a Responsive\, Innovative and Collaborative Research in Economics\, Management and Agricultural Development\,” the forum aims to provide a venue for CEM faculty and REPS share results and methodologies of their researches with colleagues within and outside the College. This is also the forum to exchange ideas in improving CEM’s research program and dissemination.\n\nCEM Research Forum\n27 February 2023 (Monday)\n8:00AM\nREDREC Auditorium\n\nSource: UPLB College of Economics and Management Facebook
URL:https://alum.up.edu.ph/event/8th-cem-research-forum/
END:VEVENT
BEGIN:VEVENT
DTSTART;TZID=UTC:20230227T080000
DTEND;TZID=UTC:20230228T170000
DTSTAMP:20260423T090901
CREATED:20230112T181651Z
LAST-MODIFIED:20230112T181651Z
UID:6806-1677484800-1677603600@alum.up.edu.ph
SUMMARY:Seminar Workshop on Harmonized GAD Guidelines for Local Government Units
DESCRIPTION:The “Seminar Workshop on Harmonized GAD Guidelines for Local Government Units” will be held on February 27 (Monday) and 28 (Tuesday)\, at the University Hotel\, UP Diliman.\n\nThis is organized by the UP Center for Women’s and Gender Studies and UP Center for Women’s Studies Foundation\, Inc.\n\nRegister at https://forms.gle/xjRgQED9xvhjtbeXA on or before January 27\, Friday (early bird registration) or February 20\, Monday (regular registration).\n\nVisit https://cws.up.edu.ph/?p=2517 for more information.
URL:https://alum.up.edu.ph/event/seminar-workshop-on-harmonized-gad-guidelines-for-local-government-units/
END:VEVENT
BEGIN:VEVENT
DTSTART;TZID=UTC:20230227T133000
DTEND;TZID=UTC:20230227T143000
DTSTAMP:20260423T090901
CREATED:20230222T194306Z
LAST-MODIFIED:20230222T194306Z
UID:7833-1677504600-1677508200@alum.up.edu.ph
SUMMARY:JoVE Refresher Webinar
DESCRIPTION:The UP Diliman (UPD) community is invited to join the UPD University Library’s webinar “Using JoVE Videos in Teaching” on February 27\, Monday\, 1:30-2:30 p.m.\n\nJoVE\, or Journal of Visualized Experiments\, is the world-leading producer and provider of science videos that increase the productivity and efficacy of research and education.\n\nTo join\, register at https://us06web.zoom.us/…/tZIudOmprj4tG9NAWCDU5N….\n\nSee photo for more details.
URL:https://alum.up.edu.ph/event/jove-refresher-webinar/
END:VEVENT
END:VCALENDAR