BEGIN:VCALENDAR
VERSION:2.0
PRODID:-//UP Alumni Website - ECPv6.15.16//NONSGML v1.0//EN
CALSCALE:GREGORIAN
METHOD:PUBLISH
X-WR-CALNAME:UP Alumni Website
X-ORIGINAL-URL:https://alum.up.edu.ph
X-WR-CALDESC:Events for UP Alumni Website
REFRESH-INTERVAL;VALUE=DURATION:PT1H
X-Robots-Tag:noindex
X-PUBLISHED-TTL:PT1H
BEGIN:VTIMEZONE
TZID:UTC
BEGIN:STANDARD
TZOFFSETFROM:+0000
TZOFFSETTO:+0000
TZNAME:UTC
DTSTART:20220101T000000
END:STANDARD
END:VTIMEZONE
BEGIN:VEVENT
DTSTART;TZID=UTC:20230130T100000
DTEND;TZID=UTC:20230715T160000
DTSTAMP:20260423T012224
CREATED:20230209T234249Z
LAST-MODIFIED:20230209T234249Z
UID:7577-1675072800-1689436800@alum.up.edu.ph
SUMMARY:Pagsalud han Dan-ag han Adlaw / Cupping the Flow of Sunlight (Gleanings from the Natural and Cultural Heritage of Eastern Visayas) Exhibit + Origami-making
DESCRIPTION:In celebration of National Arts Month this February 2023\, the Leyte Samar Heritage Center is offering the following activities:\n\nPagsalud han Dan-ag han Adlaw / Cupping the Flow of Sunlight (Gleanings from the Natural and Cultural Heritage of Eastern Visayas) Exhibit + Origami-making\nExhibit run: 30 January – 15 July 2023\nGallery hours: Monday – Friday | 10:00 AM – 4:00 PM\n\nBook here [https://forms.gle/Sm9iMDqcyExDhyFd6]\n\nSiday Magnet Poem Workshop\n15 February – 15 July 2023\nWednesdays | 10:00 AM – 3:00 PM\n\nBook here [https://forms.gle/jeRi7uRD3wJ5v6ST7]\n\nVisit us and learn more about the biodiversity\, arts\, and culture of Eastern Visayas!\n\nAdmission is free!\n\n#NationalArtsMonth2023\n#UPTaclobanat50\n\nSource: UPVTC Leyte Samar Heritage Center Facebook
URL:https://alum.up.edu.ph/event/pagsalud-han-dan-ag-han-adlaw-cupping-the-flow-of-sunlight-gleanings-from-the-natural-and-cultural-heritage-of-eastern-visayas-exhibit-origami-making/
END:VEVENT
BEGIN:VEVENT
DTSTART;TZID=UTC:20230215T100000
DTEND;TZID=UTC:20230715T150000
DTSTAMP:20260423T012224
CREATED:20230209T234351Z
LAST-MODIFIED:20230209T234351Z
UID:7580-1676455200-1689433200@alum.up.edu.ph
SUMMARY:Siday Magnet Poem Workshop
DESCRIPTION:In celebration of National Arts Month this February 2023\, the Leyte Samar Heritage Center is offering the following activities:\n\nPagsalud han Dan-ag han Adlaw / Cupping the Flow of Sunlight (Gleanings from the Natural and Cultural Heritage of Eastern Visayas) Exhibit + Origami-making\nExhibit run: 30 January – 15 July 2023\nGallery hours: Monday – Friday | 10:00 AM – 4:00 PM\n\nBook here [https://forms.gle/Sm9iMDqcyExDhyFd6]\n\nSiday Magnet Poem Workshop\n15 February – 15 July 2023\nWednesdays | 10:00 AM – 3:00 PM\n\nBook here [https://forms.gle/jeRi7uRD3wJ5v6ST7]\n\nVisit us and learn more about the biodiversity\, arts\, and culture of Eastern Visayas!\n\nAdmission is free!\n\n#NationalArtsMonth2023\n#UPTaclobanat50\n\nSource: UPVTC Leyte Samar Heritage Center Facebook
URL:https://alum.up.edu.ph/event/siday-magnet-poem-workshop/
END:VEVENT
BEGIN:VEVENT
DTSTART;TZID=UTC:20230220T080000
DTEND;TZID=UTC:20230317T170000
DTSTAMP:20260423T012224
CREATED:20230217T010109Z
LAST-MODIFIED:20230217T010109Z
UID:7800-1676880000-1679072400@alum.up.edu.ph
SUMMARY:UPOU Certificate Course for Data Protection Officers
DESCRIPTION:The UP Open University (UPOU)\, UPOU Foundation Inc.\, and Digital Freedom network offers its 11th batch of Certificate Course for Data Protection Officers (CCDPO_1_2023) from 20 February to 17 March 2023.\n\nClick this link to know more about the course\, lecturers\, and course offering schedules: https://fmds.upou.edu.ph/ccdpo/\n\n#DataProtection #ShortCourses #UPOpenUniversity #OnlineLearning\n\nSource: UP Open University (UPOU) Facebook
URL:https://alum.up.edu.ph/event/upou-certificate-course-for-data-protection-officers/
END:VEVENT
BEGIN:VEVENT
DTSTART;TZID=UTC:20230228T080000
DTEND;TZID=UTC:20230317T170000
DTSTAMP:20260423T012224
CREATED:20230131T213257Z
LAST-MODIFIED:20230131T213257Z
UID:7207-1677571200-1679072400@alum.up.edu.ph
SUMMARY:Kaloob-Sining Biswal: Mga Likha ng mga Artista-Iskolar ng UP Diliman
DESCRIPTION:Kaalinsabay ng pagdiriwang ng Pambansang Buwan ng Sining\, inihahandog ng UP Diliman Office for Initiatives in Culture and the Arts (UPD-OICA) ang 𝘜𝘗 𝘋𝘪𝘭𝘪𝘮𝘢𝘯 𝘈𝘳𝘵𝘴 𝘢𝘯𝘥 𝘊𝘶𝘭𝘵𝘶𝘳𝘦 𝘍𝘦𝘴𝘵𝘪𝘷𝘢𝘭 2023\, “𝗞𝗔𝗟𝗢𝗢𝗕 𝗠𝘂𝗹𝗮 𝗮𝘁 𝗧𝘂𝗻𝗴𝗼 𝘀𝗮 𝗕𝗮𝘆𝗮𝗻: 𝗔𝗿𝘁𝗶𝘀𝘁𝗮-𝗜𝘀𝗸𝗼𝗹𝗮𝗿-𝗠𝗮𝗻𝗹𝗶𝗹𝗶𝗸𝗵𝗮.”\n\nMula Pebrero hanggang Marso\, makibahagi sa mga kaloob naming programa\, tampok ang mga pisikal at birtuwal na eksibit\, panayam\, talakayan\, at pagtatanghal. Kasabay ng pagbabalik-campus ng mga estudyante\, guro\, at kawani ng Pamantasan\, pagtibayin natin muli\, sa pamamagitan ng sining\, ang ugnayan sa ating komunidad na pinaghiwalay ng pandemya.\n\nTumunghay sa opisyal na Facebook page ng UPD-OICA para sa mga anunsiyo. I-click ang link na ito (https://bit.ly/2023UPDACF) para ma-access at ma-download ang UPD ACF 2023 brochure. Maaari ring mag-message sa aming account para sa mga tanong at karagdagang impormasyon.\n\nKilalanin at ipagbunyi ang mga pamana ng mga artista-iskolar-manlilikha\, mga tunay na yaman ng sambayanan!\n\n#UPDArtsCultureFestival2023\n#Kaloob\n#ArtistaIskolarManlilikha\n#NAM2023\n\nSource: UP Diliman OICA Facebook
URL:https://alum.up.edu.ph/event/kaloob-sining-biswal-mga-likha-ng-mga-artista-iskolar-ng-up-diliman/
END:VEVENT
BEGIN:VEVENT
DTSTART;VALUE=DATE:20230301
DTEND;VALUE=DATE:20230401
DTSTAMP:20260423T012224
CREATED:20230313T174752Z
LAST-MODIFIED:20230313T174752Z
UID:8469-1677628800-1680307199@alum.up.edu.ph
SUMMARY:UP CAMP Online Refresher Course for Occupational Therapy and Physical Therapy
DESCRIPTION:The CAMP Refresher Course for Occupational Therapy and Physical Therapy is now accepting enrollees for the April to August run of the course!\n\nTo access the application form and additional information\, click this link: https://tinyurl.com/CAMPRefresher2023\n\nFor any inquiries\, please send an email to upmcamprefreshercourse@gmail.com.\n\nSource: UP College of Allied Medical Professions Facebook
URL:https://alum.up.edu.ph/event/up-camp-online-refresher-course-for-occupational-therapy-and-physical-therapy/
END:VEVENT
BEGIN:VEVENT
DTSTART;TZID=UTC:20230302T100000
DTEND;TZID=UTC:20230401T150000
DTSTAMP:20260423T012224
CREATED:20230301T224954Z
LAST-MODIFIED:20230315T164508Z
UID:8100-1677751200-1680361200@alum.up.edu.ph
SUMMARY:UPOU Wearable Futures
DESCRIPTION:To kick off the celebration of the 28th founding anniversary of the University Philippines Open University\, with the theme University of the Future: Reimaginations\, Reconfigurations\, Realizations\, a one-week mini-exhibition by FICS-run BUKAS Lab will be held from 02 March to 08 March 2023 at the Oblation Hall\, UPOU Headquarters\, Los Baños\, Laguna.\n\nThe exhibition\, called Wearable Futures\, has two major components and will present the following:\n\n•Undergraduate student outputs from the Wearable Futures Hackathon\n•Works-in-progress by the 2022 fellows of the Emerging Futurist Residency\n\nThe initiative is led by FICS Dean Dr. Diego Maranan\, with support from research assistants Jerome Suplemento and Lucky Vengua\, in partnership with Space Ecologies Art and Design (SEADS) and the Metafurism Lab.\n\nThe event is free and open to the public during the exhibition opening on 02 March\, with scheduled visits required during the rest of the exhibition run.\n\nTo book a visit\, please sign up at https://bit.ly/WFExhibitBookingForm.\n\nFor inquiries kindly contact jerome.suplemento@upou.edu.ph.\n\nPlease see this link for more information about the event: https://www.upou.edu.ph/…/fics-to-hold-wearable…/\n\n#UPOpenUniversity #wearablefuture #bukaslab\n\nSource:
URL:https://alum.up.edu.ph/event/upou-wearable-futures/
END:VEVENT
BEGIN:VEVENT
DTSTART;TZID=UTC:20230313T080000
DTEND;TZID=UTC:20230317T170000
DTSTAMP:20260423T012224
CREATED:20230102T205330Z
LAST-MODIFIED:20230102T205330Z
UID:6566-1678694400-1679072400@alum.up.edu.ph
SUMMARY:Face-to-Face ICD-10 Training Course for Coders
DESCRIPTION:The Department of Health Policy and Administration (DHPA) invites you to the face-to-face ICD-10 Training Course for Coders from 13 -17 March 2023.\n\nParticipants in this course will learn the steps in using the World Health Organization’s ICD-10 as a coding tool. The course covers 27 modules\, including the definition of ICD-10\, benefits derived from its usage\, the history of its development\, its elements and structures\, the general guidelines for coding\, and specific instructions for coding morbidity and mortality data.\n\nThe certificate of completion will be awarded to participants who completed the 27 modules.\n\nREGISTRATION FEE: PhP 15\,000.00\n\nRegistration link: https://tinyurl.com/ICD10march2023\n\nSource: College of Public Health\, University of the Philippines Facebook
URL:https://alum.up.edu.ph/event/face-to-face-icd-10-training-course-for-coders/
END:VEVENT
BEGIN:VEVENT
DTSTART;TZID=UTC:20230313T080000
DTEND;TZID=UTC:20230319T170000
DTSTAMP:20260423T012224
CREATED:20230315T165817Z
LAST-MODIFIED:20230315T165826Z
UID:8576-1678694400-1679245200@alum.up.edu.ph
SUMMARY:UP Press 58th ANNIVERSARY SALE
DESCRIPTION:We’re celebrating our anniversary with a most-awaited sale across all our stores! Purchase through our Lazada\, Shopee\, and UP Press online stores and get up to 20 off on regular-priced titles from March 13 – 17\, 2023!\nUPpershelf sale is also happening from March 18 – 19\, 2023!\n\nSource: UP Press Twitter
URL:https://alum.up.edu.ph/event/up-press-58th-anniversary-sale/
END:VEVENT
BEGIN:VEVENT
DTSTART;TZID=UTC:20230316T130000
DTEND;TZID=UTC:20230317T160000
DTSTAMP:20260423T012224
CREATED:20230309T202116Z
LAST-MODIFIED:20230309T202207Z
UID:8388-1678971600-1679068800@alum.up.edu.ph
SUMMARY:4th Philippine Association of Medical Journal Editors Annual Convention
DESCRIPTION:The Philippine Association of Medical Journal Editors\, Inc. invites you to its 4th Annual Convention with the theme “Navigating a New Normal in Scholarly Publication\, A Continuum of Emerging and Re-emerging Issues”.\n\nIt will be held online\, via Zoom on March 16 and 17\, 2023\, 1-4 PM.\n\nDetails for registration are on the poster.
URL:https://alum.up.edu.ph/event/4th-philippine-association-of-medical-journal-editors-annual-convention/
END:VEVENT
BEGIN:VEVENT
DTSTART;TZID=UTC:20230317T080000
DTEND;TZID=UTC:20230317T170000
DTSTAMP:20260423T012224
CREATED:20230222T214055Z
LAST-MODIFIED:20230222T214055Z
UID:7866-1679040000-1679072400@alum.up.edu.ph
SUMMARY:Mandatory Continuing Legal Education (MCLE) Synchronous Online Seminar
DESCRIPTION:The UP Institute for the Administration of Justice will be conducting a March Program of the Synchronous MCLE Online Seminar (via Zoom) for the period of 3\, 10\, 17\, 24\, and 31 March 2023.\n\nInterested participants may register thru http://uplaw.ph/mclemarch2023program.\n\nRegistration is until 1 March 2023 on a First Come First Serve basis.\n\nClick this link for more details https://law.upd.edu.ph/mcle/.\n\n#UPCollegeofLaw #UPLaw #UPLawMCLE\n\nSource: University of the Philippines College of Law Facebook
URL:https://alum.up.edu.ph/event/mandatory-continuing-legal-education-mcle-synchronous-online-seminar-3/
END:VEVENT
BEGIN:VEVENT
DTSTART;TZID=UTC:20230317T083000
DTEND;TZID=UTC:20230317T120000
DTSTAMP:20260423T012224
CREATED:20230308T185308Z
LAST-MODIFIED:20230308T185308Z
UID:8226-1679041800-1679054400@alum.up.edu.ph
SUMMARY:16th UP Mindanao Supply Chain Management Forum
DESCRIPTION:ANNOUNCEMENT: FREE WEBINAR\n\nIn celebration of the 28th University of the Philippines Mindanao Anniversary\, the School of Management invites the public to attend the 16th UP Mindanao Supply Chain Management Forum with the theme Agribusiness-led Inclusive Value Chain Development for Smallholder Farming Systems in the Philippines.\n\nThis will be on March 17\, 2023\, 8:30 AM to 12 Noon via Zoom.\n\nThe speakers are from the Australian Centre for International Research (ACIAR) funded project AGB 2018 196 https://www.aciar.gov.au/project/agb-2018-196.\n\nThe Resource Speakers will present the general introduction of the project framework and methodologies. They will also present initial results of the rapid marketing assessment and farm systems analysis.\n\nRegistration is FREE via bit.ly/16thUPMinSCMF.\n\nFor more information\, contact the School of Management through email at som.upmindanao@up.edu.ph and telephone number: (63-82) 295-2188.\n\nSource: UP Mindanao School of Management Facebook
URL:https://alum.up.edu.ph/event/16th-up-mindanao-supply-chain-management-forum/
END:VEVENT
BEGIN:VEVENT
DTSTART;TZID=UTC:20230317T101500
DTEND;TZID=UTC:20230317T111500
DTSTAMP:20260423T012224
CREATED:20230315T164234Z
LAST-MODIFIED:20230315T164234Z
UID:8569-1679048100-1679051700@alum.up.edu.ph
SUMMARY:UP Atin ‘To
DESCRIPTION:Subaybayan ang mga bagong episode ng UP Atin ‘To ng DZUP 1602 simula ngayong Marso 13 hanggang Marso 17\, 10:15 n.u.\n\nMapapakinggan ito sa AM radio 1602 kHZ at sa https://dzup.org/.\n\nMapapanood din ito nang live sa DZUP Facebook page.
URL:https://alum.up.edu.ph/event/up-atin-to-20/
END:VEVENT
BEGIN:VEVENT
DTSTART;TZID=UTC:20230317T120000
DTEND;TZID=UTC:20230317T130000
DTSTAMP:20260423T012224
CREATED:20230312T181107Z
LAST-MODIFIED:20230312T181107Z
UID:8403-1679054400-1679058000@alum.up.edu.ph
SUMMARY:“PARADIGM SHIFT IN DYSLIPIDEMIA MANAGEMENT”
DESCRIPTION:Join us as we discuss the “PARADIGM SHIFT IN DYSLIPIDEMIA MANAGEMENT” on Mar 17\, Friday\, 12NN. This webinar is brought to you by this year’s Silver Jubilarians\, the UP College of Medicine Class of 1998.\n\n• Zoom (early registration) – https://bit.ly/3lSGg55\n• Facebook (membership required) – bit.ly/3HKjseV\n• UP Manila Livestream – bit.ly/3jIitnI\n\nUP College of Medicine\nUniversity of the Philippines Manila\n\nSource: UP Med Webinars Facebook
URL:https://alum.up.edu.ph/event/paradigm-shift-in-dyslipidemia-management/
END:VEVENT
BEGIN:VEVENT
DTSTART;TZID=UTC:20230317T120000
DTEND;TZID=UTC:20230317T140000
DTSTAMP:20260423T012224
CREATED:20230126T233420Z
LAST-MODIFIED:20230314T232848Z
UID:7116-1679054400-1679061600@alum.up.edu.ph
SUMMARY:Stop COVID Deaths Webinar #138 “Labanan ang Kanser: Next Generation Sequencing (NGS) Parating Na!”
DESCRIPTION:The University of the Philippines in partnership with\nUP Manila-NIH National Telehealth Center and in cooperation with\nUP Philippine General Hospital and\nUP College of Medicine\nwould like to invite you to join the Fight Against COVID-19! \n  \nRegistration slots are limited to this SPECIAL EDITION of\nthe STOP C.O.V.I.D. DEATHS Webinar Series.\n(Current COVID-19 problems; Other outbreaks; Viruses; Infections; Disasters)\nSo sign up NOW:\nbit.ly/StopCOVIDDeathsWebinar138 \n  \nWebinar #138\nMarch 17\, 2023 (Friday) 12nn\n“LABANAN ANG KANSER: Next Generation Sequencing (NGS)\, Parating Na!”\n\nPresenter:\nDR. EUGENE G. ODOÑO I\nMedical Specialist III\, Department of Laboratories\nUP Philippine General Hospital\n\nReactors:\nDR. JANUARIO ANTONIO D. VELOSO\nChair\, Department of Laboratories\nUP Philippine General Hospital\n\nDR. DENNIS L. SACDALAN\nMedical Oncologist Consultant\, Department of Medicine\nUP Philippine General Hospital\nSynthesis & Closing Remarks:\n\nDR. MICHELE SIA H. DIWA\nChief\, Division of Molecular Pathology\, Department of Laboratories\nUP Philippine General Hospital\n\n———————————————————–\n\nMarch 17\, 2023 (Friday) 12nn\nWebinar #138\n“LABANAN ANG KANSER: Next Generation Sequencing (NGS)\, Parating Na!” \nOver the last 15 years\, cutting-edge research has made us better understand cancer as a genetic disease that is borne out of genomic disruptions\, which may be a single point mutation\, deletion or amplification of segments of chromosomes\, and structural rearrangements. These genomic disruptions have driven gene expression changes\, activate or silence genes\, and thereby alter gene networks and pathways. Globally\, efforts to study multiple cancer types continue to be conducted and these are likely to lead to compelling discoveries that may translate to new innovations in diagnostics\, prognostication\, and therapeutics.\n\nNext generation sequencing (NGS) is an incredible advancement in DNA sequencing wherein we can perform sequencing of a large number of DNA strands simultaneously. This major achievement has allowed us to map the entire human genome in less than 24 hours. What makes NGS different from older\, more traditional methods of sequencing is that it does not depend on chain termination. Instead\, a corresponding fluorescent signal is emitted and is then detected in real time. NGS has definitely replaced other high-throughput technologies\, such as microarrays\, for many genomic applications. On a per sample basis\, the sensitivity\, speed\, and reduced cost of performing NGS has made it highly appealing as the platform of choice compared to other sequencing modalities.\n\nIn this episode of STOP COVID DEATHS\, we take a closer look at innovations in early diagnosis and treatment for cancer involving NGS. Our main speaker is Dr. Eugene G. Odoño I\, who is a Medical Specialist III at the UP-PGH Department of Laboratories with reactions coming from Dr. Januario Antonio D. Veloso\, who is the Chair of the UP-PGH Department of Laboratories\, and Dr. Dennis L. Sacdalan\, a medical-oncologist and consultant with the UP-PGH Department of Medicine. The Synthesis and Closing Remarks will be delivered by Dr. Michele Sia H. Diwa\, who is the Chief of the Division of Molecular Pathology of the UP-PGH Department of Laboratories.\n\nJoin your credible online community in understanding how NGS can help cancer patients. Together\, we can STOP C.O.V.I.D. DEATHS!
URL:https://alum.up.edu.ph/event/stop-covid-deaths-webinar-138/
END:VEVENT
BEGIN:VEVENT
DTSTART;TZID=UTC:20230317T133000
DTEND;TZID=UTC:20230317T153000
DTSTAMP:20260423T012224
CREATED:20230316T175824Z
LAST-MODIFIED:20230316T175824Z
UID:8678-1679059800-1679067000@alum.up.edu.ph
SUMMARY:Enforcement Priorities Under Korea’s Competition Law
DESCRIPTION:Image from the LAW Facebook page\nEveryone is invited to the lecture “Enforcement Priorities Under Korea’s Competition Law” tomorrow\, March 17\, 1:30-3:30 p.m.\, at Room UG-4\, UP Bonifacio Global City and via Zoom. \nThe resource speaker is Sungjin Kang\, PhD\, a foreign legal counsel at Kim and Chang Law Firm and a lecturer in comparative competition law at the UP College of Law Master of Laws (LLM) Program. \nTo join\, register at https://uplaw.ph/upllmkoreancompetitionlaw or scan the QR code on the poster. \nSee photo for more details.
URL:https://alum.up.edu.ph/event/enforcement-priorities-under-koreas-competition-law/
END:VEVENT
BEGIN:VEVENT
DTSTART;TZID=UTC:20230317T140000
DTEND;TZID=UTC:20230317T170000
DTSTAMP:20260423T012224
CREATED:20230308T012741Z
LAST-MODIFIED:20230308T012741Z
UID:8202-1679061600-1679072400@alum.up.edu.ph
SUMMARY:Postscript to Wars of Extinction: Lumad Identity and Struggle
DESCRIPTION:Image from the UP Department of Linguistics Facebook page\nThe UP Diliman (UPD) Department of Linguistics will hold the lecture “Postscript to Wars of Extinction: Lumad Identity and Struggle” on March 17\, Friday\, 2 p.m.\, at the Palma Hall 2nd Floor Lobby.\n\nThe resource speaker is Arnold P. Alamon\, an associate professor from the Mindanao State University—Iligan Institute of Technology.\n\nTo join\, register at https://bit.ly/3CJPazLec until March 10.\n\nThe lecture is part of the “3rd Consuelo J. Paz Lecture” in celebration of the department’s centennial founding anniversary. It is also one of the activities for the UPD Arts and Culture Festival 2023\, with the theme “Kaloob Mula at Tungo sa Bayan: Artista-Iskolar-Manlilikha.”
URL:https://alum.up.edu.ph/event/postscript-to-wars-of-extinction-lumad-identity-and-struggle/
END:VEVENT
BEGIN:VEVENT
DTSTART;TZID=UTC:20230317T150000
DTEND;TZID=UTC:20230317T170000
DTSTAMP:20260423T012224
CREATED:20230222T212915Z
LAST-MODIFIED:20230222T212915Z
UID:7850-1679065200-1679072400@alum.up.edu.ph
SUMMARY:"Taxation in the Digital Age: The BEPS Two-Pillar Solution"
DESCRIPTION:The UP College of Law Tax Cluster\, in collaboration with the Tax Management Association of the Philippines (TMAP)\, invites faculty\, students\, and the public to “Taxation in the Digital Age: The BEPS Two-Pillar Solution.”\n\nTaxation in the Digital Age is a webinar that will provide an overview of the work done by the international community under BEPS Pillars One and Two.\n\nOn March 17\, 2023\, Mr. Bruno Silva\, known for his work on the taxation of the digital economy\, will be the speaker. Reactors from the TMAP\, the UP College of Law Tax Cluster\, and the Bureau of Internal Revenue (BIR) will also provide their insights. Atty. Charadine S. Bandon will facilitate the discussion.\n\nInterested attendees may register here: https://uplaw.ph/bepswebinar\n\n#BEPSWebinar #UPLaw #UPCollegeofLaw\n\nSource: University of the Philippines College of Law Facebook
URL:https://alum.up.edu.ph/event/taxation-in-the-digital-age-the-beps-two-pillar-solution/
END:VEVENT
BEGIN:VEVENT
DTSTART;TZID=UTC:20230317T150000
DTEND;TZID=UTC:20230317T170000
DTSTAMP:20260423T012224
CREATED:20230313T170943Z
LAST-MODIFIED:20230313T170943Z
UID:8458-1679065200-1679072400@alum.up.edu.ph
SUMMARY:Maceda\, Spahlinger and the Dialectics of a ‘New Music’ Praxis in Southeast Asian Modernity
DESCRIPTION:Image from the UP Center for Ethnomusicology\nEveryone is invited to the book launch of “Maceda\, Spahlinger and the Dialectics of a ‘New Music’ Praxis in Southeast Asian Modernity” by Jonas Baes\, PhD on March 17\, Friday\, 3 p.m.\, at the UP Vargas Museum.\n\nBaes is a professor at the UP Diliman (UPD) College of Music (CMu).\n\nThe event is organized by the UP System Office of the Vice President for Academic Affairs\, Goethe Institut-Philippinen\, UPD Office of the Chancellor\, UPD Office of the Vice Chancellor for Research and Development\, in cooperation with the UP Press\, together with the UPD Center for Ethnomusicology and the CMu.\n\nSee photo for more details.
URL:https://alum.up.edu.ph/event/maceda-spahlinger-and-the-dialectics-of-a-new-music-praxis-in-southeast-asian-modernity/
END:VEVENT
BEGIN:VEVENT
DTSTART;TZID=UTC:20230317T170000
DTEND;TZID=UTC:20230317T180000
DTSTAMP:20260423T012224
CREATED:20230131T213924Z
LAST-MODIFIED:20230313T170538Z
UID:7213-1679072400-1679076000@alum.up.edu.ph
SUMMARY:Himigsikan 2023 Kaloob-Tanghal: Mga Pagtatanghal ng mga Artista-Iskolar ng UP Diliman
DESCRIPTION:Imahe mula sa UPD OICA Facebook page\nMakiindak at maki-jam sa “Himigsikan: Kaloob-Tanghal ng mga Artista-Iskolar ng UP Diliman (UPD)” sa darating na Biyernes\, Marso 17\, 5 n.h.\, sa Acacia Courtyard\, UP Town Center.\n\nAng libreng programang ito ay handog ng UPD Office for Initiatives in Culture and the Arts bilang bahagi ng pagdiriwang ng UPD Arts and Culture Festival 2023 na may temang “Kaloob Mula at Tungo sa Bayan: Artista-Iskolar-Manlilikha.”
URL:https://alum.up.edu.ph/event/himigsikan-2023-kaloob-tanghal-mga-pagtatanghal-ng-mga-artista-iskolar-ng-up-diliman/
END:VEVENT
END:VCALENDAR