BEGIN:VCALENDAR
VERSION:2.0
PRODID:-//UP Alumni Website - ECPv6.15.16//NONSGML v1.0//EN
CALSCALE:GREGORIAN
METHOD:PUBLISH
X-WR-CALNAME:UP Alumni Website
X-ORIGINAL-URL:https://alum.up.edu.ph
X-WR-CALDESC:Events for UP Alumni Website
REFRESH-INTERVAL;VALUE=DURATION:PT1H
X-Robots-Tag:noindex
X-PUBLISHED-TTL:PT1H
BEGIN:VTIMEZONE
TZID:UTC
BEGIN:STANDARD
TZOFFSETFROM:+0000
TZOFFSETTO:+0000
TZNAME:UTC
DTSTART:20220101T000000
END:STANDARD
END:VTIMEZONE
BEGIN:VEVENT
DTSTART;TZID=UTC:20230130T100000
DTEND;TZID=UTC:20230715T160000
DTSTAMP:20260422T091404
CREATED:20230209T234249Z
LAST-MODIFIED:20230209T234249Z
UID:7577-1675072800-1689436800@alum.up.edu.ph
SUMMARY:Pagsalud han Dan-ag han Adlaw / Cupping the Flow of Sunlight (Gleanings from the Natural and Cultural Heritage of Eastern Visayas) Exhibit + Origami-making
DESCRIPTION:In celebration of National Arts Month this February 2023\, the Leyte Samar Heritage Center is offering the following activities:\n\nPagsalud han Dan-ag han Adlaw / Cupping the Flow of Sunlight (Gleanings from the Natural and Cultural Heritage of Eastern Visayas) Exhibit + Origami-making\nExhibit run: 30 January – 15 July 2023\nGallery hours: Monday – Friday | 10:00 AM – 4:00 PM\n\nBook here [https://forms.gle/Sm9iMDqcyExDhyFd6]\n\nSiday Magnet Poem Workshop\n15 February – 15 July 2023\nWednesdays | 10:00 AM – 3:00 PM\n\nBook here [https://forms.gle/jeRi7uRD3wJ5v6ST7]\n\nVisit us and learn more about the biodiversity\, arts\, and culture of Eastern Visayas!\n\nAdmission is free!\n\n#NationalArtsMonth2023\n#UPTaclobanat50\n\nSource: UPVTC Leyte Samar Heritage Center Facebook
URL:https://alum.up.edu.ph/event/pagsalud-han-dan-ag-han-adlaw-cupping-the-flow-of-sunlight-gleanings-from-the-natural-and-cultural-heritage-of-eastern-visayas-exhibit-origami-making/
END:VEVENT
BEGIN:VEVENT
DTSTART;TZID=UTC:20230215T100000
DTEND;TZID=UTC:20230715T150000
DTSTAMP:20260422T091404
CREATED:20230209T234351Z
LAST-MODIFIED:20230209T234351Z
UID:7580-1676455200-1689433200@alum.up.edu.ph
SUMMARY:Siday Magnet Poem Workshop
DESCRIPTION:In celebration of National Arts Month this February 2023\, the Leyte Samar Heritage Center is offering the following activities:\n\nPagsalud han Dan-ag han Adlaw / Cupping the Flow of Sunlight (Gleanings from the Natural and Cultural Heritage of Eastern Visayas) Exhibit + Origami-making\nExhibit run: 30 January – 15 July 2023\nGallery hours: Monday – Friday | 10:00 AM – 4:00 PM\n\nBook here [https://forms.gle/Sm9iMDqcyExDhyFd6]\n\nSiday Magnet Poem Workshop\n15 February – 15 July 2023\nWednesdays | 10:00 AM – 3:00 PM\n\nBook here [https://forms.gle/jeRi7uRD3wJ5v6ST7]\n\nVisit us and learn more about the biodiversity\, arts\, and culture of Eastern Visayas!\n\nAdmission is free!\n\n#NationalArtsMonth2023\n#UPTaclobanat50\n\nSource: UPVTC Leyte Samar Heritage Center Facebook
URL:https://alum.up.edu.ph/event/siday-magnet-poem-workshop/
END:VEVENT
BEGIN:VEVENT
DTSTART;VALUE=DATE:20230301
DTEND;VALUE=DATE:20230401
DTSTAMP:20260422T091404
CREATED:20230313T174752Z
LAST-MODIFIED:20230313T174752Z
UID:8469-1677628800-1680307199@alum.up.edu.ph
SUMMARY:UP CAMP Online Refresher Course for Occupational Therapy and Physical Therapy
DESCRIPTION:The CAMP Refresher Course for Occupational Therapy and Physical Therapy is now accepting enrollees for the April to August run of the course!\n\nTo access the application form and additional information\, click this link: https://tinyurl.com/CAMPRefresher2023\n\nFor any inquiries\, please send an email to upmcamprefreshercourse@gmail.com.\n\nSource: UP College of Allied Medical Professions Facebook
URL:https://alum.up.edu.ph/event/up-camp-online-refresher-course-for-occupational-therapy-and-physical-therapy/
END:VEVENT
BEGIN:VEVENT
DTSTART;TZID=UTC:20230302T100000
DTEND;TZID=UTC:20230401T150000
DTSTAMP:20260422T091404
CREATED:20230301T224954Z
LAST-MODIFIED:20230315T164508Z
UID:8100-1677751200-1680361200@alum.up.edu.ph
SUMMARY:UPOU Wearable Futures
DESCRIPTION:To kick off the celebration of the 28th founding anniversary of the University Philippines Open University\, with the theme University of the Future: Reimaginations\, Reconfigurations\, Realizations\, a one-week mini-exhibition by FICS-run BUKAS Lab will be held from 02 March to 08 March 2023 at the Oblation Hall\, UPOU Headquarters\, Los Baños\, Laguna.\n\nThe exhibition\, called Wearable Futures\, has two major components and will present the following:\n\n•Undergraduate student outputs from the Wearable Futures Hackathon\n•Works-in-progress by the 2022 fellows of the Emerging Futurist Residency\n\nThe initiative is led by FICS Dean Dr. Diego Maranan\, with support from research assistants Jerome Suplemento and Lucky Vengua\, in partnership with Space Ecologies Art and Design (SEADS) and the Metafurism Lab.\n\nThe event is free and open to the public during the exhibition opening on 02 March\, with scheduled visits required during the rest of the exhibition run.\n\nTo book a visit\, please sign up at https://bit.ly/WFExhibitBookingForm.\n\nFor inquiries kindly contact jerome.suplemento@upou.edu.ph.\n\nPlease see this link for more information about the event: https://www.upou.edu.ph/…/fics-to-hold-wearable…/\n\n#UPOpenUniversity #wearablefuture #bukaslab\n\nSource:
URL:https://alum.up.edu.ph/event/upou-wearable-futures/
END:VEVENT
BEGIN:VEVENT
DTSTART;TZID=UTC:20230313T080000
DTEND;TZID=UTC:20230319T170000
DTSTAMP:20260422T091404
CREATED:20230315T165817Z
LAST-MODIFIED:20230315T165826Z
UID:8576-1678694400-1679245200@alum.up.edu.ph
SUMMARY:UP Press 58th ANNIVERSARY SALE
DESCRIPTION:We’re celebrating our anniversary with a most-awaited sale across all our stores! Purchase through our Lazada\, Shopee\, and UP Press online stores and get up to 20 off on regular-priced titles from March 13 – 17\, 2023!\nUPpershelf sale is also happening from March 18 – 19\, 2023!\n\nSource: UP Press Twitter
URL:https://alum.up.edu.ph/event/up-press-58th-anniversary-sale/
END:VEVENT
BEGIN:VEVENT
DTSTART;TZID=UTC:20230318T080000
DTEND;TZID=UTC:20230318T181500
DTSTAMP:20260422T091404
CREATED:20230131T215512Z
LAST-MODIFIED:20230131T215512Z
UID:7220-1679126400-1679163300@alum.up.edu.ph
SUMMARY:UP Law Center Mandatory Continuing Legal Education (MCLE)
DESCRIPTION:The UP Institute for the Administration of Justice (UP IAJ) will be conducting a FACE to FACE Saturday Program of the Mandatory Continuing Legal Education (MCLE)\, for the period of 4\, 11\, 18 and 25 March 2023.\n\nInterested participants may register thru uplaw.ph/f2fmclemarch2023program.\n\nRegistration is until 28 February 2023 on a First Come First Serve basis.\n\nClick this link for more details https://law.upd.edu.ph/mcle/.\n\n#UPCollegeofLaw #UPIAJ #UPLawMCLE #UPLaw\n\nSource: University of the Philippines College of Law Facebook
URL:https://alum.up.edu.ph/event/up-law-center-mandatory-continuing-legal-education-mcle-3/
END:VEVENT
BEGIN:VEVENT
DTSTART;TZID=UTC:20230318T083000
DTEND;TZID=UTC:20230318T120000
DTSTAMP:20260422T091404
CREATED:20230316T221420Z
LAST-MODIFIED:20230316T221420Z
UID:8728-1679128200-1679140800@alum.up.edu.ph
SUMMARY:"Morning Walk With Pets"
DESCRIPTION:The UPLB Saturday Bazaar in partnership with UP Venerable Knight Veterinarians Fraternity presents ” Morning Walk With Pets” A Pawshion Show on March 18\, 2023\, 8:30am at the Baker Hall outdoor basketball court\, Mariano M. Mondoñedo Ave. UPLB\, College\, Laguna.\n\nWe also like to thank our sponsors:\n\nBingo’s Pet Mart\nBonbon & Nala’s Pet Supplies\n\nSource: UPLB Business Affairs Office Facebook
URL:https://alum.up.edu.ph/event/morning-walk-with-pets/
END:VEVENT
BEGIN:VEVENT
DTSTART;TZID=UTC:20230318T090000
DTEND;TZID=UTC:20230318T140000
DTSTAMP:20260422T091404
CREATED:20230315T000517Z
LAST-MODIFIED:20230315T000517Z
UID:8510-1679130000-1679148000@alum.up.edu.ph
SUMMARY:Japanese Studies in the Philippines: 5th Japanese Studies in the Philippines Research Competition
DESCRIPTION:The “Japanese Studies in the Philippines: 5th Japanese Studies in the Philippines Research Competition” will be held on Saturday\, March 18\, 9 a.m.-2 p.m.\, via Zoom.\n\nThis is organized by the UP Diliman Asian Center\, in partnership with the Japan Foundation Manila.\n\nRegister and know more by visiting bit.ly/jsrc5318.
URL:https://alum.up.edu.ph/event/japanese-studies-in-the-philippines-5th-japanese-studies-in-the-philippines-research-competition/
END:VEVENT
BEGIN:VEVENT
DTSTART;TZID=UTC:20230318T090000
DTEND;TZID=UTC:20230318T160000
DTSTAMP:20260422T091404
CREATED:20230222T220137Z
LAST-MODIFIED:20230222T220137Z
UID:7879-1679130000-1679155200@alum.up.edu.ph
SUMMARY:SineMaestra: Women’s Masterclasses 2023
DESCRIPTION:In celebration of Women’s Month\, the UP Film Institute (UPFI) will hold the “SineMaestra: Women’s Masterclasses 2023” on March 18 at the UPFI Videotheque and on March 25 at the Cine Adarna of the UPFI Film Center.\n\nTo join\, register via https://docs.google.com/…/1FAIpQLSeHgDQCx4Q6u6…/viewform or scan the QR code on the poster.\n\nSee photo for more details.
URL:https://alum.up.edu.ph/event/sinemaestra-womens-masterclasses-2023/
END:VEVENT
BEGIN:VEVENT
DTSTART;TZID=UTC:20230318T100000
DTEND;TZID=UTC:20230318T120000
DTSTAMP:20260422T091404
CREATED:20230315T000411Z
LAST-MODIFIED:20230315T000411Z
UID:8507-1679133600-1679140800@alum.up.edu.ph
SUMMARY:Suara Babai: Remembering Jabidah Massacre
DESCRIPTION:The forum “Suara Babai: Remembering Jabidah Massacre” will be held on Saturday\, March 18\, 10 a.m.-12 p.m.\, via Zoom and Facebook Live.\n\nThis is organized by the UP Diliman (UPD) College of Social Work and Community Development Research and Extension for Development Office\, in partnership with Moro and Christian Peoples Alliance\, Sandugo Movement of Moro and Indigenous Peoples for Self-Determination\, Bai Indigenous Women’s Network\, Katribu Kalipunan ng Katutubong Mamamayan ng Pilipinas\, and UPD Gender Office.\n\nTo join\, register at tinyurl.com/SuaraBabai.\n\nWatch the livestream at Sandugo Facebook page.\n\nSee post for more details.
URL:https://alum.up.edu.ph/event/suara-babai-remembering-jabidah-massacre/
END:VEVENT
BEGIN:VEVENT
DTSTART;TZID=UTC:20230318T100000
DTEND;TZID=UTC:20230318T120000
DTSTAMP:20260422T091404
CREATED:20230315T003718Z
LAST-MODIFIED:20230315T003727Z
UID:8547-1679133600-1679140800@alum.up.edu.ph
SUMMARY:Career advancement with UP LLM
DESCRIPTION:The University of the Philippines (UP) Master of Laws (LLM) Program cordially invites judges and lawyers in Western Visayas to a conversation on:\n\n*Career advancement with UP LLM*\n18 March 2023\, Saturday\n10:00 a.m.\, at UP Visayas Iloilo City Campus.\n\nPresented in cooperation with UP Visayas\, the UP Alumni Association (Iloilo Chapter)\, and the Integrated Bar of the Philippines (Iloilo Chapter).\n\nRegister to attend https://uplaw.ph/llm2023ilo\n\nSource: University of the Philippines Visayas Facebook
URL:https://alum.up.edu.ph/event/career-advancement-with-up-llm/
END:VEVENT
BEGIN:VEVENT
DTSTART;TZID=UTC:20230318T130000
DTEND;TZID=UTC:20230318T150000
DTSTAMP:20260422T091404
CREATED:20230312T234205Z
LAST-MODIFIED:20230312T234205Z
UID:8430-1679144400-1679151600@alum.up.edu.ph
SUMMARY:UP Baguio Environmental Symposium
DESCRIPTION:𝐄𝐍𝐕𝐈 𝐒𝐘𝐌𝐏𝐎𝐒𝐈𝐔𝐌 𝐑𝐄𝐆𝐈𝐒𝐓𝐑𝐀𝐓𝐈𝐎𝐍 𝐈𝐒 𝐍𝐎𝐖 𝐎𝐏𝐄𝐍!\n\nThe UP Baguio University Student Council invites the UPB community to the environmental symposium which will be held on March 18 (1:00 PM) at the Himnasyo Amianan.\n\nInterested participants may sign up using this link: https://tinyurl.com/EnviSymposiumUPB\n\nThe first talk will be a situationer on the Philippine Environment to be given by Teddy Baguilat. The second discussion will revolve around the theme “Green Activism: Women Fighting for the Environment” with Daisy Macapanpan as the resource speaker.\n\n#1stUPBEnviMonth\n\nSource: UP Baguio University Student Council Facebook
URL:https://alum.up.edu.ph/event/up-baguio-environmental-symposium/
END:VEVENT
END:VCALENDAR