BEGIN:VCALENDAR
VERSION:2.0
PRODID:-//UP Alumni Website - ECPv6.15.16//NONSGML v1.0//EN
CALSCALE:GREGORIAN
METHOD:PUBLISH
X-WR-CALNAME:UP Alumni Website
X-ORIGINAL-URL:https://alum.up.edu.ph
X-WR-CALDESC:Events for UP Alumni Website
REFRESH-INTERVAL;VALUE=DURATION:PT1H
X-Robots-Tag:noindex
X-PUBLISHED-TTL:PT1H
BEGIN:VTIMEZONE
TZID:UTC
BEGIN:STANDARD
TZOFFSETFROM:+0000
TZOFFSETTO:+0000
TZNAME:UTC
DTSTART:20220101T000000
END:STANDARD
END:VTIMEZONE
BEGIN:VEVENT
DTSTART;TZID=UTC:20230130T100000
DTEND;TZID=UTC:20230715T160000
DTSTAMP:20260424T125011
CREATED:20230209T234249Z
LAST-MODIFIED:20230209T234249Z
UID:7577-1675072800-1689436800@alum.up.edu.ph
SUMMARY:Pagsalud han Dan-ag han Adlaw / Cupping the Flow of Sunlight (Gleanings from the Natural and Cultural Heritage of Eastern Visayas) Exhibit + Origami-making
DESCRIPTION:In celebration of National Arts Month this February 2023\, the Leyte Samar Heritage Center is offering the following activities:\n\nPagsalud han Dan-ag han Adlaw / Cupping the Flow of Sunlight (Gleanings from the Natural and Cultural Heritage of Eastern Visayas) Exhibit + Origami-making\nExhibit run: 30 January – 15 July 2023\nGallery hours: Monday – Friday | 10:00 AM – 4:00 PM\n\nBook here [https://forms.gle/Sm9iMDqcyExDhyFd6]\n\nSiday Magnet Poem Workshop\n15 February – 15 July 2023\nWednesdays | 10:00 AM – 3:00 PM\n\nBook here [https://forms.gle/jeRi7uRD3wJ5v6ST7]\n\nVisit us and learn more about the biodiversity\, arts\, and culture of Eastern Visayas!\n\nAdmission is free!\n\n#NationalArtsMonth2023\n#UPTaclobanat50\n\nSource: UPVTC Leyte Samar Heritage Center Facebook
URL:https://alum.up.edu.ph/event/pagsalud-han-dan-ag-han-adlaw-cupping-the-flow-of-sunlight-gleanings-from-the-natural-and-cultural-heritage-of-eastern-visayas-exhibit-origami-making/
END:VEVENT
BEGIN:VEVENT
DTSTART;TZID=UTC:20230215T100000
DTEND;TZID=UTC:20230715T150000
DTSTAMP:20260424T125011
CREATED:20230209T234351Z
LAST-MODIFIED:20230209T234351Z
UID:7580-1676455200-1689433200@alum.up.edu.ph
SUMMARY:Siday Magnet Poem Workshop
DESCRIPTION:In celebration of National Arts Month this February 2023\, the Leyte Samar Heritage Center is offering the following activities:\n\nPagsalud han Dan-ag han Adlaw / Cupping the Flow of Sunlight (Gleanings from the Natural and Cultural Heritage of Eastern Visayas) Exhibit + Origami-making\nExhibit run: 30 January – 15 July 2023\nGallery hours: Monday – Friday | 10:00 AM – 4:00 PM\n\nBook here [https://forms.gle/Sm9iMDqcyExDhyFd6]\n\nSiday Magnet Poem Workshop\n15 February – 15 July 2023\nWednesdays | 10:00 AM – 3:00 PM\n\nBook here [https://forms.gle/jeRi7uRD3wJ5v6ST7]\n\nVisit us and learn more about the biodiversity\, arts\, and culture of Eastern Visayas!\n\nAdmission is free!\n\n#NationalArtsMonth2023\n#UPTaclobanat50\n\nSource: UPVTC Leyte Samar Heritage Center Facebook
URL:https://alum.up.edu.ph/event/siday-magnet-poem-workshop/
END:VEVENT
BEGIN:VEVENT
DTSTART;VALUE=DATE:20230301
DTEND;VALUE=DATE:20230401
DTSTAMP:20260424T125011
CREATED:20230313T174752Z
LAST-MODIFIED:20230313T174752Z
UID:8469-1677628800-1680307199@alum.up.edu.ph
SUMMARY:UP CAMP Online Refresher Course for Occupational Therapy and Physical Therapy
DESCRIPTION:The CAMP Refresher Course for Occupational Therapy and Physical Therapy is now accepting enrollees for the April to August run of the course!\n\nTo access the application form and additional information\, click this link: https://tinyurl.com/CAMPRefresher2023\n\nFor any inquiries\, please send an email to upmcamprefreshercourse@gmail.com.\n\nSource: UP College of Allied Medical Professions Facebook
URL:https://alum.up.edu.ph/event/up-camp-online-refresher-course-for-occupational-therapy-and-physical-therapy/
END:VEVENT
BEGIN:VEVENT
DTSTART;TZID=UTC:20230302T100000
DTEND;TZID=UTC:20230401T150000
DTSTAMP:20260424T125011
CREATED:20230301T224954Z
LAST-MODIFIED:20230315T164508Z
UID:8100-1677751200-1680361200@alum.up.edu.ph
SUMMARY:UPOU Wearable Futures
DESCRIPTION:To kick off the celebration of the 28th founding anniversary of the University Philippines Open University\, with the theme University of the Future: Reimaginations\, Reconfigurations\, Realizations\, a one-week mini-exhibition by FICS-run BUKAS Lab will be held from 02 March to 08 March 2023 at the Oblation Hall\, UPOU Headquarters\, Los Baños\, Laguna.\n\nThe exhibition\, called Wearable Futures\, has two major components and will present the following:\n\n•Undergraduate student outputs from the Wearable Futures Hackathon\n•Works-in-progress by the 2022 fellows of the Emerging Futurist Residency\n\nThe initiative is led by FICS Dean Dr. Diego Maranan\, with support from research assistants Jerome Suplemento and Lucky Vengua\, in partnership with Space Ecologies Art and Design (SEADS) and the Metafurism Lab.\n\nThe event is free and open to the public during the exhibition opening on 02 March\, with scheduled visits required during the rest of the exhibition run.\n\nTo book a visit\, please sign up at https://bit.ly/WFExhibitBookingForm.\n\nFor inquiries kindly contact jerome.suplemento@upou.edu.ph.\n\nPlease see this link for more information about the event: https://www.upou.edu.ph/…/fics-to-hold-wearable…/\n\n#UPOpenUniversity #wearablefuture #bukaslab\n\nSource:
URL:https://alum.up.edu.ph/event/upou-wearable-futures/
END:VEVENT
BEGIN:VEVENT
DTSTART;TZID=UTC:20230320T080000
DTEND;TZID=UTC:20230324T170000
DTSTAMP:20260424T125011
CREATED:20230313T171641Z
LAST-MODIFIED:20230313T171721Z
UID:8461-1679299200-1679677200@alum.up.edu.ph
SUMMARY:Conquering Boundaries: University Job Fair 2023
DESCRIPTION:Image from the UP University Job Fair Facebook page\nGraduating students and job seekers are invited to the “Conquering Boundaries: University Job Fair (UJF) 2023” on March 20-24 at the Mess Hall\, 2F Student Union Building\, UP Diliman. \nRegister at bit.ly/UJF2023Registration. \nSee photo for more details. \nFor more information\, visit the UJF Facebook page.
URL:https://alum.up.edu.ph/event/conquering-boundaries-university-job-fair-2023/
END:VEVENT
BEGIN:VEVENT
DTSTART;TZID=UTC:20230320T130000
DTEND;TZID=UTC:20230325T170000
DTSTAMP:20260424T125011
CREATED:20230222T220325Z
LAST-MODIFIED:20230222T220347Z
UID:7882-1679317200-1679763600@alum.up.edu.ph
SUMMARY:Workers’ Institute on Labor Laws Class 185
DESCRIPTION:Join the UP Diliman School of Labor and Industrial Relations’ webinar “Workers’ Institute on Labor Laws Class 185” on March 20-25\, 1-5 p.m.\, via Zoom.\n\nRegister by visiting https://forms.gle/e7BBs4ivWwTzVsQK6.\n\nSee photo for more details.\n\nFor reservation and inquiries\, email solair@upd.edu.ph.
URL:https://alum.up.edu.ph/event/workers-institute-on-labor-laws-class-185/
END:VEVENT
BEGIN:VEVENT
DTSTART;VALUE=DATE:20230321
DTEND;VALUE=DATE:20230403
DTSTAMP:20260424T125011
CREATED:20230312T233128Z
LAST-MODIFIED:20230312T233128Z
UID:8424-1679356800-1680479999@alum.up.edu.ph
SUMMARY:UPOU Flower and Garden Show
DESCRIPTION:Ever heard of #RevengeTravel? Now what about #RevengeShopping for plantitos and plantitas out there? Get your bags and carts out because this coming 21 March to 02 April 2023\, the return of the much anticipated Los Baños Flower and Garden Show will be held at the Centennial Plaza\, UP Open University Headquarters\, Los Banos\, Laguna!\n\nThis is part of the celebration of the International Day of Forests and National Women’s Month. With over 4 garden exhibitors and 42 concessionaires\, the 12-day event will feature ornamental plants and trees\, gardening materials\, native crafts\, crochet products and bag handles.\n\nThe event is open to the public\, especially for plant lovers\, designers and design enthusiasts\, and landscape experts. Further announcements about the event will be made through the FMDS FB Page (https://www.facebook.com/fmds.upou).\n\n#UPOpenUniversity #FMDSUPOU #LBHSI #LosBanosFlowerAndGardenShow\n\nSource: UPOU Faculty of Management & Development Studies Facebook
URL:https://alum.up.edu.ph/event/upou-flower-and-garden-show/
END:VEVENT
BEGIN:VEVENT
DTSTART;VALUE=DATE:20230321
DTEND;VALUE=DATE:20230323
DTSTAMP:20260424T125011
CREATED:20230319T191325Z
LAST-MODIFIED:20230319T191349Z
UID:8792-1679356800-1679529599@alum.up.edu.ph
SUMMARY:UPOU  International Day of Forest and Women's Month Celebration
DESCRIPTION:Mark your calendars and get ready to celebrate International Day of Forest and Women’s Month on 21-22 March 2023! Join us for a series of exciting activities organized by the UPOU Faculty of Management & Development Studies. From educational talks to outdoor activities\, there’s something for everyone to enjoy. Don’t miss this opportunity to learn\, connect with nature\, and support gender equality initiatives.\n\nFor more details\, visit https://fmds.upou.edu.ph/news-and-events/.\n\nSee you there! #NationalWomensMonth #InternationalWomensDay #InternationDayOfForests\n\nSource: UP Open University (UPOU) Facebook
URL:https://alum.up.edu.ph/event/upou-international-day-of-forest-and-womens-month-celebration/
END:VEVENT
BEGIN:VEVENT
DTSTART;TZID=UTC:20230321T070000
DTEND;TZID=UTC:20230324T170000
DTSTAMP:20260424T125011
CREATED:20230319T175657Z
LAST-MODIFIED:20230319T175704Z
UID:8772-1679382000-1679677200@alum.up.edu.ph
SUMMARY:Short Course in Health Information Management
DESCRIPTION:This short course aims to capacitate all local government unit stakeholders on designing and re-engineering their local health information systems to guide decision-making and facilitate primary care service delivery. Doing so ensures that health will be universal\, inclusive\, and responsive to every Filipino’s health needs.\n\nAll government and private health professionals interested in the Universal Health Care law (RA 11223) mandate of integration of the Local Health Systems into Province-wide and City-wide Health Systems (P/CWHS) are invited to attend.\n\n#GlobalGoals #SDGs #SDG3 #SDG4 #SDG8 #2022UPCPHSDG3 #2022UPCPHSDG4 #2022UPCPHSDG8\n\nSource: College of Public Health\, University of the Philippines Facebook
URL:https://alum.up.edu.ph/event/short-course-in-health-information-management/
END:VEVENT
BEGIN:VEVENT
DTSTART;TZID=UTC:20230321T080000
DTEND;TZID=UTC:20230321T090000
DTSTAMP:20260424T125011
CREATED:20230308T213921Z
LAST-MODIFIED:20230308T213936Z
UID:8249-1679385600-1679389200@alum.up.edu.ph
SUMMARY:UPOU Launching of the Permaculture Systems Design Thinking (PSDT)
DESCRIPTION:See you on March 21 as the Faculty of Management and Development Studies conducts the launch of its newest Continuing Education Program on Permaculture Systems Design Thinking (PSDT). The course will run from 21 March until 11 July 2023. The launch is part of the faculty’s celebration of the International Day of Forests.\n\nInterested applicants may accomplish the Online Sign Up Form which you can access in the QR Code provided. For more information about the course go to the FMDS Website at fmds.upou.edu.ph\n\nSource: UPOU Faculty of Management & Development Studies Facebook
URL:https://alum.up.edu.ph/event/launching-of-the-permaculture-systems-design-thinking-psdt/
END:VEVENT
BEGIN:VEVENT
DTSTART;TZID=UTC:20230321T080000
DTEND;TZID=UTC:20230323T170000
DTSTAMP:20260424T125011
CREATED:20230321T184053Z
LAST-MODIFIED:20230321T184053Z
UID:8882-1679385600-1679590800@alum.up.edu.ph
SUMMARY:UP Baguio Blood Donation Drive
DESCRIPTION:Be a hero in someone’s life\, donate blood and give the gift of life. Join us today at UP Baguio Alumni Center Lobby\, let us all make a difference and give a gift from the heart.\n\nSource: University of the Philippines Baguio Facebook
URL:https://alum.up.edu.ph/event/up-baguio-blood-donation-drive/
END:VEVENT
BEGIN:VEVENT
DTSTART;TZID=UTC:20230321T130000
DTEND;TZID=UTC:20230321T140000
DTSTAMP:20260424T125011
CREATED:20230315T003533Z
LAST-MODIFIED:20230315T003533Z
UID:8544-1679403600-1679407200@alum.up.edu.ph
SUMMARY:“Marine Oil Spills in the Philippines”
DESCRIPTION:The Institute of Marine Fisheries and Oceanology (UPV-CFOS-IMFO) warmly invites you to 𝐈𝐒𝐓𝐎𝐑𝐘𝐀 𝐋𝐀𝐖𝐎𝐃: Stories of our ocean. Our 16th session is about “Marine Oil Spills in the Philippines” and will be delivered by Dr. Resurreccion B. Sadaba. The discussant for this session is Dr. Cristy S. Acabado.\n\nThis is a free webinar!\n\nTo register\, kindly click this link (https://tinyurl.com/562t2eyc) or scan the QR code below. Please mark your calendars on March 21\, 2022\, Tuesday (1:00 PM). Zoom will open at 12:30 PM.\n\nSee you\, and let’s have a meaningful discussion about the future of our oceans!\n\nSource: Institute of Marine Fisheries and Oceanology\, CFOS\, UPV Facebook
URL:https://alum.up.edu.ph/event/marine-oil-spills-in-the-philippines/
END:VEVENT
BEGIN:VEVENT
DTSTART;TZID=UTC:20230321T140000
DTEND;TZID=UTC:20230321T153000
DTSTAMP:20260424T125011
CREATED:20230315T190657Z
LAST-MODIFIED:20230315T190657Z
UID:8638-1679407200-1679412600@alum.up.edu.ph
SUMMARY:“Advancing Gender Equality\, Sustainability\, and Inclusive Society: Role of Permaculture\, Community Forest Development\, and Native Trees as Sustainable-Based Livelihoods in the Philippines”
DESCRIPTION:The Faculty of Management and Development Studies (FMDS) will hold a seminar titled “Advancing Gender Equality\, Sustainability\, and Inclusive Society: Role of Permaculture\, Community Forest Development\, and Native Trees as Sustainable-Based Livelihoods in the Philippines” on 21 March 2023\, at 2:00 PM at the Centennial Center for Digital Learning (CCDL) as part of the UP Open University’s celebration of #NationalWomensMonth\, #InternationalWomensDay\, and #InternationalDayofForests.\n\nInterested participants may register for free at https://bit.ly/FMDSSeminar21 until 17 March 2023. The event will also be streamed live via UPOU Networks\, UPOU Networks Facebook page\, and UPOU Ne#UPOpenUniversity\n\nRead more at https://fmds.upou.edu.ph/archives/news-and-events/3249/\n\n#FMDSUPOU #UPOpenUniversity\n\nSource: UPOU Faculty of Management & Development Studies Facebook
URL:https://alum.up.edu.ph/event/advancing-gender-equality-sustainability-and-inclusive-society-role-of-permaculture-community-forest-development-and-native-trees-as-sustainable-based-livelihoods-in-the-philippines/
END:VEVENT
BEGIN:VEVENT
DTSTART;TZID=UTC:20230321T140000
DTEND;TZID=UTC:20230321T160000
DTSTAMP:20260424T125011
CREATED:20230319T165835Z
LAST-MODIFIED:20230319T165854Z
UID:8745-1679407200-1679414400@alum.up.edu.ph
SUMMARY:The Geopolitics of South China Sea / West Philippine Sea: A Public Lecture
DESCRIPTION:Image from the AC Facebook page\nJoin the public lecture “The Geopolitics of South China Sea / West Philippine Sea” on March 21\, Tuesday\, 2 p.m.\, at the GT-Toyota Seminar Room\, UP Diliman Asian Center.\n\nThe guest speaker is John Rennie Short\, PhD\, a professor at the School of Public Policy\, University of Maryland\, USA\, and a visiting Fulbright ASEAN professor.\n\nRegister and know more by visiting bit.ly/wpsgeopol321.
URL:https://alum.up.edu.ph/event/the-geopolitics-of-south-china-sea-west-philippine-sea-a-public-lecture/
END:VEVENT
END:VCALENDAR