BEGIN:VCALENDAR
VERSION:2.0
PRODID:-//UP Alumni Website - ECPv6.15.16//NONSGML v1.0//EN
CALSCALE:GREGORIAN
METHOD:PUBLISH
X-WR-CALNAME:UP Alumni Website
X-ORIGINAL-URL:https://alum.up.edu.ph
X-WR-CALDESC:Events for UP Alumni Website
REFRESH-INTERVAL;VALUE=DURATION:PT1H
X-Robots-Tag:noindex
X-PUBLISHED-TTL:PT1H
BEGIN:VTIMEZONE
TZID:UTC
BEGIN:STANDARD
TZOFFSETFROM:+0000
TZOFFSETTO:+0000
TZNAME:UTC
DTSTART:20220101T000000
END:STANDARD
END:VTIMEZONE
BEGIN:VEVENT
DTSTART;TZID=UTC:20230130T100000
DTEND;TZID=UTC:20230715T160000
DTSTAMP:20260420T235321
CREATED:20230209T234249Z
LAST-MODIFIED:20230209T234249Z
UID:7577-1675072800-1689436800@alum.up.edu.ph
SUMMARY:Pagsalud han Dan-ag han Adlaw / Cupping the Flow of Sunlight (Gleanings from the Natural and Cultural Heritage of Eastern Visayas) Exhibit + Origami-making
DESCRIPTION:In celebration of National Arts Month this February 2023\, the Leyte Samar Heritage Center is offering the following activities:\n\nPagsalud han Dan-ag han Adlaw / Cupping the Flow of Sunlight (Gleanings from the Natural and Cultural Heritage of Eastern Visayas) Exhibit + Origami-making\nExhibit run: 30 January – 15 July 2023\nGallery hours: Monday – Friday | 10:00 AM – 4:00 PM\n\nBook here [https://forms.gle/Sm9iMDqcyExDhyFd6]\n\nSiday Magnet Poem Workshop\n15 February – 15 July 2023\nWednesdays | 10:00 AM – 3:00 PM\n\nBook here [https://forms.gle/jeRi7uRD3wJ5v6ST7]\n\nVisit us and learn more about the biodiversity\, arts\, and culture of Eastern Visayas!\n\nAdmission is free!\n\n#NationalArtsMonth2023\n#UPTaclobanat50\n\nSource: UPVTC Leyte Samar Heritage Center Facebook
URL:https://alum.up.edu.ph/event/pagsalud-han-dan-ag-han-adlaw-cupping-the-flow-of-sunlight-gleanings-from-the-natural-and-cultural-heritage-of-eastern-visayas-exhibit-origami-making/
END:VEVENT
BEGIN:VEVENT
DTSTART;TZID=UTC:20230215T100000
DTEND;TZID=UTC:20230715T150000
DTSTAMP:20260420T235321
CREATED:20230209T234351Z
LAST-MODIFIED:20230209T234351Z
UID:7580-1676455200-1689433200@alum.up.edu.ph
SUMMARY:Siday Magnet Poem Workshop
DESCRIPTION:In celebration of National Arts Month this February 2023\, the Leyte Samar Heritage Center is offering the following activities:\n\nPagsalud han Dan-ag han Adlaw / Cupping the Flow of Sunlight (Gleanings from the Natural and Cultural Heritage of Eastern Visayas) Exhibit + Origami-making\nExhibit run: 30 January – 15 July 2023\nGallery hours: Monday – Friday | 10:00 AM – 4:00 PM\n\nBook here [https://forms.gle/Sm9iMDqcyExDhyFd6]\n\nSiday Magnet Poem Workshop\n15 February – 15 July 2023\nWednesdays | 10:00 AM – 3:00 PM\n\nBook here [https://forms.gle/jeRi7uRD3wJ5v6ST7]\n\nVisit us and learn more about the biodiversity\, arts\, and culture of Eastern Visayas!\n\nAdmission is free!\n\n#NationalArtsMonth2023\n#UPTaclobanat50\n\nSource: UPVTC Leyte Samar Heritage Center Facebook
URL:https://alum.up.edu.ph/event/siday-magnet-poem-workshop/
END:VEVENT
BEGIN:VEVENT
DTSTART;VALUE=DATE:20230301
DTEND;VALUE=DATE:20230401
DTSTAMP:20260420T235321
CREATED:20230313T174752Z
LAST-MODIFIED:20230313T174752Z
UID:8469-1677628800-1680307199@alum.up.edu.ph
SUMMARY:UP CAMP Online Refresher Course for Occupational Therapy and Physical Therapy
DESCRIPTION:The CAMP Refresher Course for Occupational Therapy and Physical Therapy is now accepting enrollees for the April to August run of the course!\n\nTo access the application form and additional information\, click this link: https://tinyurl.com/CAMPRefresher2023\n\nFor any inquiries\, please send an email to upmcamprefreshercourse@gmail.com.\n\nSource: UP College of Allied Medical Professions Facebook
URL:https://alum.up.edu.ph/event/up-camp-online-refresher-course-for-occupational-therapy-and-physical-therapy/
END:VEVENT
BEGIN:VEVENT
DTSTART;TZID=UTC:20230302T100000
DTEND;TZID=UTC:20230401T150000
DTSTAMP:20260420T235321
CREATED:20230301T224954Z
LAST-MODIFIED:20230315T164508Z
UID:8100-1677751200-1680361200@alum.up.edu.ph
SUMMARY:UPOU Wearable Futures
DESCRIPTION:To kick off the celebration of the 28th founding anniversary of the University Philippines Open University\, with the theme University of the Future: Reimaginations\, Reconfigurations\, Realizations\, a one-week mini-exhibition by FICS-run BUKAS Lab will be held from 02 March to 08 March 2023 at the Oblation Hall\, UPOU Headquarters\, Los Baños\, Laguna.\n\nThe exhibition\, called Wearable Futures\, has two major components and will present the following:\n\n•Undergraduate student outputs from the Wearable Futures Hackathon\n•Works-in-progress by the 2022 fellows of the Emerging Futurist Residency\n\nThe initiative is led by FICS Dean Dr. Diego Maranan\, with support from research assistants Jerome Suplemento and Lucky Vengua\, in partnership with Space Ecologies Art and Design (SEADS) and the Metafurism Lab.\n\nThe event is free and open to the public during the exhibition opening on 02 March\, with scheduled visits required during the rest of the exhibition run.\n\nTo book a visit\, please sign up at https://bit.ly/WFExhibitBookingForm.\n\nFor inquiries kindly contact jerome.suplemento@upou.edu.ph.\n\nPlease see this link for more information about the event: https://www.upou.edu.ph/…/fics-to-hold-wearable…/\n\n#UPOpenUniversity #wearablefuture #bukaslab\n\nSource:
URL:https://alum.up.edu.ph/event/upou-wearable-futures/
END:VEVENT
BEGIN:VEVENT
DTSTART;VALUE=DATE:20230321
DTEND;VALUE=DATE:20230403
DTSTAMP:20260420T235321
CREATED:20230312T233128Z
LAST-MODIFIED:20230312T233128Z
UID:8424-1679356800-1680479999@alum.up.edu.ph
SUMMARY:UPOU Flower and Garden Show
DESCRIPTION:Ever heard of #RevengeTravel? Now what about #RevengeShopping for plantitos and plantitas out there? Get your bags and carts out because this coming 21 March to 02 April 2023\, the return of the much anticipated Los Baños Flower and Garden Show will be held at the Centennial Plaza\, UP Open University Headquarters\, Los Banos\, Laguna!\n\nThis is part of the celebration of the International Day of Forests and National Women’s Month. With over 4 garden exhibitors and 42 concessionaires\, the 12-day event will feature ornamental plants and trees\, gardening materials\, native crafts\, crochet products and bag handles.\n\nThe event is open to the public\, especially for plant lovers\, designers and design enthusiasts\, and landscape experts. Further announcements about the event will be made through the FMDS FB Page (https://www.facebook.com/fmds.upou).\n\n#UPOpenUniversity #FMDSUPOU #LBHSI #LosBanosFlowerAndGardenShow\n\nSource: UPOU Faculty of Management & Development Studies Facebook
URL:https://alum.up.edu.ph/event/upou-flower-and-garden-show/
END:VEVENT
BEGIN:VEVENT
DTSTART;VALUE=DATE:20230327
DTEND;VALUE=DATE:20230328
DTSTAMP:20260420T235321
CREATED:20230212T225346Z
LAST-MODIFIED:20230212T225346Z
UID:7608-1679875200-1679961599@alum.up.edu.ph
SUMMARY:Integrating Technology in Health Professions Education: Integrating Technology in the Classroom
DESCRIPTION:
URL:https://alum.up.edu.ph/event/integrating-technology-in-health-professions-education-integrating-technology-in-the-classroom/
END:VEVENT
BEGIN:VEVENT
DTSTART;VALUE=DATE:20230327
DTEND;VALUE=DATE:20230616
DTSTAMP:20260420T235321
CREATED:20230323T183429Z
LAST-MODIFIED:20230323T183429Z
UID:8922-1679875200-1686873599@alum.up.edu.ph
SUMMARY:UPAA Iloilo Chapter Call for Nominations for the 2023 Outstanding Professional Awards
DESCRIPTION:UPAA ILOILO CHAPTER CALL FOR NOMINATIONS\n\nUPAA Iloilo Chapter Professional Awards:\nMarch 15\, 2023 to June 15\, 2023.\n\nMarch 15\, 2023\nNomination forms available at the Office of Alumni Relations (OAR)/ UPAA Office & FB page\n\nYou can also download nomination forms at:\n\nhttps://docs.google.com/…/1CA7NyTE1Xwc9zsP…/edit…\n\nMarch 27\, 2023 to June 15\, 2023\nSubmission & acceptance of Nomination Forms & documents at the Office of Alumni Relations\n\nFor information & guidance\n\nAtty Shiella Olid\nChairman\nProfessional Award Committee\n\nFor more information:\nPlease contact\nMs @Almera Blando- Facto\n033-3368837\n\nor email at upaa.iloilo@gmail.com\n\nSource: UPAA Iloilo Chapter Facebook
URL:https://alum.up.edu.ph/event/upaa-iloilo-chapter-call-for-nominations-for-the-2023-outstanding-professional-awards/
END:VEVENT
BEGIN:VEVENT
DTSTART;TZID=UTC:20230327T080000
DTEND;TZID=UTC:20230331T170000
DTSTAMP:20260420T235321
CREATED:20230308T013351Z
LAST-MODIFIED:20230308T013408Z
UID:8210-1679904000-1680282000@alum.up.edu.ph
SUMMARY:Operational and Process Excellence
DESCRIPTION:Image from the UP National Engineering Center Training Facebook page\nThe UP Diliman National Engineering Center will conduct the training “Operational and Process Excellence” on March 27-31.\n\nInterested participants may register at bit.ly/2023UPNECRegister.\n\nRead the payment guidelines here: bit.ly/2023UPDPayment.\n\nVisit bit.ly/CoursesCatalogue for the course catalog.
URL:https://alum.up.edu.ph/event/operational-and-process-excellence/
END:VEVENT
BEGIN:VEVENT
DTSTART;TZID=UTC:20230327T090000
DTEND;TZID=UTC:20230327T110000
DTSTAMP:20260420T235321
CREATED:20230316T180744Z
LAST-MODIFIED:20230320T214728Z
UID:8692-1679907600-1679914800@alum.up.edu.ph
SUMMARY:VOLUNTEER OPPORTUNITY - UPD Ugnayan ng Pahinungod
DESCRIPTION:The UPD Ugnayan ng Pahinungod is a constituent office of the UP System Ugnayan ng Pahinungod which serves as the institutional system-wide volunteer service program of the University of the Philippines. It aims to articulate the social responsibility of UP as a national university to serve the Filipino people\, while also serving as a values education program for the students\, faculty\, staff\, and alumni of the University to develop and manifest their love of the country.\n\nAs part of their efforts to reach a wider audience and mobilize the UP community for service\, they extend their invitation to everyone regarding the available volunteer opportunities offered by our office.\n\nFOR 2023\, THEY HAVE NOW OPENED THEIR VOLUNTEER INTEREST FORM FOR UPCOMING GRAND GENERAL ASSEMBLY AND ORIENTATION ON MARCH 27\, 2023\, 9:00 – 11:00 AM VIA ZOOM.\n\nHEED THE CALL OF OBLATION AND BECOME A VOLUNTEER THROUGH ANSWERING THE FORM BELOW:\nhttps://tinyurl.com/UPDPahinungod2023\n\nVIEW AND SHARE THE ORIGINAL FACEBOOK POST HERE: https://web.facebook.com/updpahinungod2/posts/159137047005884\n\nLike and follow them on Facebook at www.facebook.com/updpahinungod2 to keep posted on their  upcoming volunteer opportunities!\n\nMakibahagi\, Makipamuhay\, MagPahinungod!
URL:https://alum.up.edu.ph/event/volunteer-opportunity-ugnayan-ng-pahinungod/
END:VEVENT
BEGIN:VEVENT
DTSTART;TZID=UTC:20230327T090000
DTEND;TZID=UTC:20230327T120000
DTSTAMP:20260420T235321
CREATED:20230315T002751Z
LAST-MODIFIED:20230315T002751Z
UID:8534-1679907600-1679918400@alum.up.edu.ph
SUMMARY:4th Research Integrity Education Caravan
DESCRIPTION:The Office of Research Integrity (ORI)\, in coordination with the College of Arts and Sciences\, UP Manila\, invites you to the 4th Research Integrity Education Caravan.\n\nThis seminar will include basic lectures on Research Integrity followed by an interactive case discussion. This event is free and open to all who are interested to attend.\n\nMarch 27\, 2023 (Monday) | 9:00 AM TO 12:00 NN\nCAS Little Theatre (live via Zoom)\n\nYou may register through this link: https://bit.ly/UPMORIcas23\n\nCertificates will be given to those who will attend and complete the evaluation after the event.\n\nSource: University of the Philippines Manila Facebook
URL:https://alum.up.edu.ph/event/4th-research-integrity-education-caravan/
END:VEVENT
BEGIN:VEVENT
DTSTART;TZID=UTC:20230327T100000
DTEND;TZID=UTC:20230327T120000
DTSTAMP:20260420T235321
CREATED:20230322T171447Z
LAST-MODIFIED:20230322T171447Z
UID:8885-1679911200-1679918400@alum.up.edu.ph
SUMMARY:AI and the Writing Classroom
DESCRIPTION:Join the webinar “AI and the Writing Classroom” of the UP Diliman Department of English and Comparative Literature on March 27\, Monday\, 10 a.m.-12 p.m.\, via Zoom.\n\nTo join\, register at https://up-edu.zoom.us/…/regi…/WN_cxBVYULVRKOYajkVjBmGdA.\n\nSee post for more details.
URL:https://alum.up.edu.ph/event/ai-and-the-writing-classroom/
END:VEVENT
BEGIN:VEVENT
DTSTART;TZID=UTC:20230327T130000
DTEND;TZID=UTC:20230327T150000
DTSTAMP:20260420T235321
CREATED:20230321T173224Z
LAST-MODIFIED:20230321T173224Z
UID:8873-1679922000-1679929200@alum.up.edu.ph
SUMMARY:Bakawan: Kahalagahan\, Isyus\, at Pagpapanumbalik
DESCRIPTION:Catch the premier of “Bakawan: Kahalagahan\, Isyus\, at Pagpapanumbalik” (Bakawan) on March 27\, Monday\, 1-3 p.m.\, at the UP Diliman (UPD) Institute of Biology Auditorium.\n\nBakawan is an educational film directed by Lemnuel V. Aragones\, PhD\, a professor at the UPD Institute of Environmental Science and Meteorology\, in collaboration with the UP Film Institute (UPFI) and Nick Deocampo\, a filmmaker and an associate professor at the UPFI.\n\nWatch the full teaser trailer at https://youtu.be/VlnSo3gn73U.
URL:https://alum.up.edu.ph/event/bakawan-kahalagahan-isyus-at-pagpapanumbalik/
END:VEVENT
BEGIN:VEVENT
DTSTART;TZID=UTC:20230327T130000
DTEND;TZID=UTC:20230327T150000
DTSTAMP:20260420T235321
CREATED:20230326T182920Z
LAST-MODIFIED:20230326T182920Z
UID:8936-1679922000-1679929200@alum.up.edu.ph
SUMMARY:Layag: Explore the Depths of Learning
DESCRIPTION:Catch the UP Diliman Human Resource Development Office’s (HRDO) “Layag: Explore the Depths of Learning” on March 27\, Monday\, 1 p.m.\, via Facebook and YouTube Live.\n\nThe event is part of HRDO’s “2023 Learning and Development Caravan.”\n\nWatch the livestream at the HRDO Facebook page and YouTube channel.
URL:https://alum.up.edu.ph/event/layag-explore-the-depths-of-learning/
END:VEVENT
BEGIN:VEVENT
DTSTART;TZID=UTC:20230327T130000
DTEND;TZID=UTC:20230327T160000
DTSTAMP:20260420T235321
CREATED:20230316T221613Z
LAST-MODIFIED:20230316T221613Z
UID:8732-1679922000-1679932800@alum.up.edu.ph
SUMMARY:“Poetry Inspired by the Environment”: A poetry writing workshop
DESCRIPTION:“Poetry Inspired by the Environment”: A poetry writing workshop\n\nWe are inviting everyone to a poetry writing workshop featuring virtual artist\, Nicolei Buendia Gupit at the SESAM Library\, UPLB on 27 March 2023\, 1PM-4PM.\n\nThe workshop involves guided short writing exercises and reading together poems by Claudia Rankine\, Edgar Allan Poe\, & Craig Santos Perez. The event is free & open to all writing levels. No previous poetry experience needed!\n\nAll writing materials will be provided. This is FREE and OPEN TO ALL!\n\nPlease register at tinyurl.com/yc487e6v\n\nThis workshop is part of Nicolei’s ongoing research on the human toll of climate change in the Philippines as a US Fulbright scholar & guest visual artist at UPLB-SESAM.\n\nSource: UPLB School of Environmental Science and Management Facebook
URL:https://alum.up.edu.ph/event/poetry-inspired-by-the-environment-a-poetry-writing-workshop/
END:VEVENT
BEGIN:VEVENT
DTSTART;TZID=UTC:20230327T130000
DTEND;TZID=UTC:20230327T160000
DTSTAMP:20260420T235321
CREATED:20230320T164705Z
LAST-MODIFIED:20230320T164705Z
UID:8825-1679922000-1679932800@alum.up.edu.ph
SUMMARY:UGNAYAN (Usapang Guro at Pamayanan\, konsultatibong pagpupulong ng Opisina ng Faculty Regent)
DESCRIPTION:Inaanyayahan ang kaguruan ng University of the Philippines – School of Health Sciences sa Baler\, Aurora sa UGNAYAN o Usapang Guro at Pamayanan\, konsultatibong pagpupulong ng Opisina ng Faculty Regent sa Marso 27\, 1:00-4:00 ng hapon. Kasabay nito ang Ikot Unyon ng All UP Academic Employees Union – Manila Chapter.\n\nNarito ang karagdagang impormasyon tungkol sa UGNAYAN ng OFR: https://bit.ly/3ZCG8FS .\n\n#UGNAYAN #facultyregent\n\nSource: Opisina ng Faculty Regent Facebook
URL:https://alum.up.edu.ph/event/ugnayan-usapang-guro-at-pamayanan-konsultatibong-pagpupulong-ng-opisina-ng-faculty-regent/
END:VEVENT
BEGIN:VEVENT
DTSTART;TZID=UTC:20230327T130000
DTEND;TZID=UTC:20230327T170000
DTSTAMP:20260420T235321
CREATED:20230322T173334Z
LAST-MODIFIED:20230322T173334Z
UID:8900-1679922000-1679936400@alum.up.edu.ph
SUMMARY:"SPOTLIGHT: Women in Information and Communications Technology Research"
DESCRIPTION:ANNOUNCEMENT | UP Mindanao Office of Gender and Development (GAD) to hold the 3rd Virtual GAD Research Forum titled “SPOTLIGHT: Women in Information and Communications Technology Research”\n\nThe event will be held on 27 March 2023\, and will feature women leaders\, scientists\, and researchers in the fields of information and communications technology and artificial intelligence.\n\nRegister here: https://tinyurl.com/UPMinGenderResearchForum\n\nSource: University of the Philippines Mindanao Facebook
URL:https://alum.up.edu.ph/event/spotlight-women-in-information-and-communications-technology-research/
END:VEVENT
BEGIN:VEVENT
DTSTART;TZID=UTC:20230327T133000
DTEND;TZID=UTC:20230327T153000
DTSTAMP:20260420T235321
CREATED:20230322T171554Z
LAST-MODIFIED:20230322T171554Z
UID:8888-1679923800-1679931000@alum.up.edu.ph
SUMMARY:An Epidemiological Study of Dengue in the Philippines
DESCRIPTION:Everyone is invited to the seminar “An Epidemiological Study of Dengue in the Philippines” of the UP Diliman Institute of Biology (IB) on March 27\, Monday\, 1:30 p.m.\, at the IB Room 345.\n\nThe resource speaker is Martin Hibberd\, PhD\, a professor of emerging infectious diseases and head of the Department of Infection Biology at the London School of Hygiene and Tropical Medicine.\n\nSee photo for more details.
URL:https://alum.up.edu.ph/event/an-epidemiological-study-of-dengue-in-the-philippines/
END:VEVENT
BEGIN:VEVENT
DTSTART;TZID=UTC:20230327T133000
DTEND;TZID=UTC:20230327T153000
DTSTAMP:20260420T235321
CREATED:20230322T172731Z
LAST-MODIFIED:20230322T172731Z
UID:8897-1679923800-1679931000@alum.up.edu.ph
SUMMARY:Integrating Technology in the Classroom
DESCRIPTION:You are invited to attend the Monthly Seminar entitled: Integrating Technology in the Classroom on Monday\, March 27\, 2023 at 1:30 to 3:30 PM. via zoom.\n\nPlease register by clicking on this link: https://bit.ly/3ZCZIBI\n\nWe suggest registering in advance. If there is any problem with this link\, please contact the NTTCHP secretariat email: nttchp.upmanila@up.edu.ph. Thank you!\n\nAfter registering\, you will receive a confirmation email containing information about joining the meeting. Please note that this event is a first come first served basis. Thank you and see you there.\n\nSource: NTTCHP UP Manila Facebook
URL:https://alum.up.edu.ph/event/integrating-technology-in-the-classroom/
END:VEVENT
BEGIN:VEVENT
DTSTART;TZID=UTC:20230327T150000
DTEND;TZID=UTC:20230327T170000
DTSTAMP:20260420T235321
CREATED:20230315T001405Z
LAST-MODIFIED:20230315T001405Z
UID:8525-1679929200-1679936400@alum.up.edu.ph
SUMMARY:iStories
DESCRIPTION:Image from the UPD College of Science\n\nThe UP Diliman College of Science Innovation Team will launch the monthly webinar series “iStories” on March 27\, Monday\, at 3 p.m. via Zoom.\n\n“iStories” will feature innovation-related stories of local and international scientists.\n\nFor its pilot session\, the webinar “A Journey in Translating Fundamental Discoveries in Analytical Chemistry to Consumer Products” will be presented by guest speaker Carlito Lebrilla\, PhD\, a professor at the School of Medicine of the University of California.\n\nTo join\, register at https://bit.ly/3EocEmD.
URL:https://alum.up.edu.ph/event/istories/
END:VEVENT
BEGIN:VEVENT
DTSTART;TZID=UTC:20230327T180000
DTEND;TZID=UTC:20230330T200000
DTSTAMP:20260420T235321
CREATED:20230326T183030Z
LAST-MODIFIED:20230326T183112Z
UID:8941-1679940000-1680206400@alum.up.edu.ph
SUMMARY:Asian Music Week: Samot-Sari Ensemble Workshop and Culminating Night
DESCRIPTION:The UP Tugtugang Musika Asyatika will conduct the “Asian Music Week: Samot-Sari Ensemble Workshop and Culminating Night” from March 27 to 30\, 6 p.m.\, at the UP Diliman College of Music.\n\nRegister at https://tinyurl.com/yk4tntwb.\n\nSee post for more details.
URL:https://alum.up.edu.ph/event/asian-music-week-samot-sari-ensemble-workshop-and-culminating-night/
END:VEVENT
END:VCALENDAR