BEGIN:VCALENDAR
VERSION:2.0
PRODID:-//UP Alumni Website - ECPv6.15.16//NONSGML v1.0//EN
CALSCALE:GREGORIAN
METHOD:PUBLISH
X-WR-CALNAME:UP Alumni Website
X-ORIGINAL-URL:https://alum.up.edu.ph
X-WR-CALDESC:Events for UP Alumni Website
REFRESH-INTERVAL;VALUE=DURATION:PT1H
X-Robots-Tag:noindex
X-PUBLISHED-TTL:PT1H
BEGIN:VTIMEZONE
TZID:UTC
BEGIN:STANDARD
TZOFFSETFROM:+0000
TZOFFSETTO:+0000
TZNAME:UTC
DTSTART:20220101T000000
END:STANDARD
END:VTIMEZONE
BEGIN:VEVENT
DTSTART;TZID=UTC:20230130T100000
DTEND;TZID=UTC:20230715T160000
DTSTAMP:20260423T094217
CREATED:20230209T234249Z
LAST-MODIFIED:20230209T234249Z
UID:7577-1675072800-1689436800@alum.up.edu.ph
SUMMARY:Pagsalud han Dan-ag han Adlaw / Cupping the Flow of Sunlight (Gleanings from the Natural and Cultural Heritage of Eastern Visayas) Exhibit + Origami-making
DESCRIPTION:In celebration of National Arts Month this February 2023\, the Leyte Samar Heritage Center is offering the following activities:\n\nPagsalud han Dan-ag han Adlaw / Cupping the Flow of Sunlight (Gleanings from the Natural and Cultural Heritage of Eastern Visayas) Exhibit + Origami-making\nExhibit run: 30 January – 15 July 2023\nGallery hours: Monday – Friday | 10:00 AM – 4:00 PM\n\nBook here [https://forms.gle/Sm9iMDqcyExDhyFd6]\n\nSiday Magnet Poem Workshop\n15 February – 15 July 2023\nWednesdays | 10:00 AM – 3:00 PM\n\nBook here [https://forms.gle/jeRi7uRD3wJ5v6ST7]\n\nVisit us and learn more about the biodiversity\, arts\, and culture of Eastern Visayas!\n\nAdmission is free!\n\n#NationalArtsMonth2023\n#UPTaclobanat50\n\nSource: UPVTC Leyte Samar Heritage Center Facebook
URL:https://alum.up.edu.ph/event/pagsalud-han-dan-ag-han-adlaw-cupping-the-flow-of-sunlight-gleanings-from-the-natural-and-cultural-heritage-of-eastern-visayas-exhibit-origami-making/
END:VEVENT
BEGIN:VEVENT
DTSTART;TZID=UTC:20230215T100000
DTEND;TZID=UTC:20230715T150000
DTSTAMP:20260423T094217
CREATED:20230209T234351Z
LAST-MODIFIED:20230209T234351Z
UID:7580-1676455200-1689433200@alum.up.edu.ph
SUMMARY:Siday Magnet Poem Workshop
DESCRIPTION:In celebration of National Arts Month this February 2023\, the Leyte Samar Heritage Center is offering the following activities:\n\nPagsalud han Dan-ag han Adlaw / Cupping the Flow of Sunlight (Gleanings from the Natural and Cultural Heritage of Eastern Visayas) Exhibit + Origami-making\nExhibit run: 30 January – 15 July 2023\nGallery hours: Monday – Friday | 10:00 AM – 4:00 PM\n\nBook here [https://forms.gle/Sm9iMDqcyExDhyFd6]\n\nSiday Magnet Poem Workshop\n15 February – 15 July 2023\nWednesdays | 10:00 AM – 3:00 PM\n\nBook here [https://forms.gle/jeRi7uRD3wJ5v6ST7]\n\nVisit us and learn more about the biodiversity\, arts\, and culture of Eastern Visayas!\n\nAdmission is free!\n\n#NationalArtsMonth2023\n#UPTaclobanat50\n\nSource: UPVTC Leyte Samar Heritage Center Facebook
URL:https://alum.up.edu.ph/event/siday-magnet-poem-workshop/
END:VEVENT
BEGIN:VEVENT
DTSTART;VALUE=DATE:20230301
DTEND;VALUE=DATE:20230401
DTSTAMP:20260423T094217
CREATED:20230313T174752Z
LAST-MODIFIED:20230313T174752Z
UID:8469-1677628800-1680307199@alum.up.edu.ph
SUMMARY:UP CAMP Online Refresher Course for Occupational Therapy and Physical Therapy
DESCRIPTION:The CAMP Refresher Course for Occupational Therapy and Physical Therapy is now accepting enrollees for the April to August run of the course!\n\nTo access the application form and additional information\, click this link: https://tinyurl.com/CAMPRefresher2023\n\nFor any inquiries\, please send an email to upmcamprefreshercourse@gmail.com.\n\nSource: UP College of Allied Medical Professions Facebook
URL:https://alum.up.edu.ph/event/up-camp-online-refresher-course-for-occupational-therapy-and-physical-therapy/
END:VEVENT
BEGIN:VEVENT
DTSTART;TZID=UTC:20230302T100000
DTEND;TZID=UTC:20230401T150000
DTSTAMP:20260423T094217
CREATED:20230301T224954Z
LAST-MODIFIED:20230315T164508Z
UID:8100-1677751200-1680361200@alum.up.edu.ph
SUMMARY:UPOU Wearable Futures
DESCRIPTION:To kick off the celebration of the 28th founding anniversary of the University Philippines Open University\, with the theme University of the Future: Reimaginations\, Reconfigurations\, Realizations\, a one-week mini-exhibition by FICS-run BUKAS Lab will be held from 02 March to 08 March 2023 at the Oblation Hall\, UPOU Headquarters\, Los Baños\, Laguna.\n\nThe exhibition\, called Wearable Futures\, has two major components and will present the following:\n\n•Undergraduate student outputs from the Wearable Futures Hackathon\n•Works-in-progress by the 2022 fellows of the Emerging Futurist Residency\n\nThe initiative is led by FICS Dean Dr. Diego Maranan\, with support from research assistants Jerome Suplemento and Lucky Vengua\, in partnership with Space Ecologies Art and Design (SEADS) and the Metafurism Lab.\n\nThe event is free and open to the public during the exhibition opening on 02 March\, with scheduled visits required during the rest of the exhibition run.\n\nTo book a visit\, please sign up at https://bit.ly/WFExhibitBookingForm.\n\nFor inquiries kindly contact jerome.suplemento@upou.edu.ph.\n\nPlease see this link for more information about the event: https://www.upou.edu.ph/…/fics-to-hold-wearable…/\n\n#UPOpenUniversity #wearablefuture #bukaslab\n\nSource:
URL:https://alum.up.edu.ph/event/upou-wearable-futures/
END:VEVENT
BEGIN:VEVENT
DTSTART;VALUE=DATE:20230321
DTEND;VALUE=DATE:20230403
DTSTAMP:20260423T094217
CREATED:20230312T233128Z
LAST-MODIFIED:20230312T233128Z
UID:8424-1679356800-1680479999@alum.up.edu.ph
SUMMARY:UPOU Flower and Garden Show
DESCRIPTION:Ever heard of #RevengeTravel? Now what about #RevengeShopping for plantitos and plantitas out there? Get your bags and carts out because this coming 21 March to 02 April 2023\, the return of the much anticipated Los Baños Flower and Garden Show will be held at the Centennial Plaza\, UP Open University Headquarters\, Los Banos\, Laguna!\n\nThis is part of the celebration of the International Day of Forests and National Women’s Month. With over 4 garden exhibitors and 42 concessionaires\, the 12-day event will feature ornamental plants and trees\, gardening materials\, native crafts\, crochet products and bag handles.\n\nThe event is open to the public\, especially for plant lovers\, designers and design enthusiasts\, and landscape experts. Further announcements about the event will be made through the FMDS FB Page (https://www.facebook.com/fmds.upou).\n\n#UPOpenUniversity #FMDSUPOU #LBHSI #LosBanosFlowerAndGardenShow\n\nSource: UPOU Faculty of Management & Development Studies Facebook
URL:https://alum.up.edu.ph/event/upou-flower-and-garden-show/
END:VEVENT
BEGIN:VEVENT
DTSTART;VALUE=DATE:20230327
DTEND;VALUE=DATE:20230616
DTSTAMP:20260423T094217
CREATED:20230323T183429Z
LAST-MODIFIED:20230323T183429Z
UID:8922-1679875200-1686873599@alum.up.edu.ph
SUMMARY:UPAA Iloilo Chapter Call for Nominations for the 2023 Outstanding Professional Awards
DESCRIPTION:UPAA ILOILO CHAPTER CALL FOR NOMINATIONS\n\nUPAA Iloilo Chapter Professional Awards:\nMarch 15\, 2023 to June 15\, 2023.\n\nMarch 15\, 2023\nNomination forms available at the Office of Alumni Relations (OAR)/ UPAA Office & FB page\n\nYou can also download nomination forms at:\n\nhttps://docs.google.com/…/1CA7NyTE1Xwc9zsP…/edit…\n\nMarch 27\, 2023 to June 15\, 2023\nSubmission & acceptance of Nomination Forms & documents at the Office of Alumni Relations\n\nFor information & guidance\n\nAtty Shiella Olid\nChairman\nProfessional Award Committee\n\nFor more information:\nPlease contact\nMs @Almera Blando- Facto\n033-3368837\n\nor email at upaa.iloilo@gmail.com\n\nSource: UPAA Iloilo Chapter Facebook
URL:https://alum.up.edu.ph/event/upaa-iloilo-chapter-call-for-nominations-for-the-2023-outstanding-professional-awards/
END:VEVENT
BEGIN:VEVENT
DTSTART;TZID=UTC:20230327T080000
DTEND;TZID=UTC:20230331T170000
DTSTAMP:20260423T094217
CREATED:20230308T013351Z
LAST-MODIFIED:20230308T013408Z
UID:8210-1679904000-1680282000@alum.up.edu.ph
SUMMARY:Operational and Process Excellence
DESCRIPTION:Image from the UP National Engineering Center Training Facebook page\nThe UP Diliman National Engineering Center will conduct the training “Operational and Process Excellence” on March 27-31.\n\nInterested participants may register at bit.ly/2023UPNECRegister.\n\nRead the payment guidelines here: bit.ly/2023UPDPayment.\n\nVisit bit.ly/CoursesCatalogue for the course catalog.
URL:https://alum.up.edu.ph/event/operational-and-process-excellence/
END:VEVENT
BEGIN:VEVENT
DTSTART;TZID=UTC:20230328T080000
DTEND;TZID=UTC:20230331T170000
DTSTAMP:20260423T094217
CREATED:20230126T213844Z
LAST-MODIFIED:20230126T213914Z
UID:7082-1679990400-1680282000@alum.up.edu.ph
SUMMARY:Comprehensive Training Workshop on Microbial DNA Barcoding and Genomics
DESCRIPTION:The Microbiological Research and Services Laboratory (MRSL) of the UP-Natural Sciences Research Institute (NSRI)\, UP-Diliman\, is hosting a Comprehensive Training Workshop on Microbial DNA Barcoding and Genomics to be held at NSRI on March 28-31\, 2023. This will include lectures\, laboratory work\, and hands-on bioinformatics.\n\nLimited slots are available and you may apply through the QR code (see post below) or via bit.ly/MRSLBioinfoTraining2023.\n\nPlease note that applications will end on February 24\, 2023\, 11:59 PM. For more information\, see post: https://www.facebook.com/mrsl.upnsri/posts/214516857739346\n\nSource: Microbiological Research and Services Laboratory Facebook
URL:https://alum.up.edu.ph/event/comprehensive-training-workshop-on-microbial-dna-barcoding-and-genomics/
END:VEVENT
BEGIN:VEVENT
DTSTART;TZID=UTC:20230328T090000
DTEND;TZID=UTC:20230401T170000
DTSTAMP:20260423T094217
CREATED:20230329T002553Z
LAST-MODIFIED:20230329T002553Z
UID:9050-1679994000-1680368400@alum.up.edu.ph
SUMMARY:PAKARADYAAN: Women Weaving Mëranaw Culture
DESCRIPTION:PAKARADYAAN: Women Weaving Mëranaw Culture\nGT-Toyota Asian Center Auditorium and Palma Hall\, College of Social Sciences and Philosophy\nUniversity of the Philippines Diliman Quezon City\n28 March – 1 April 2023\n\nSource: U.P. College of Arts and Letters Facebook
URL:https://alum.up.edu.ph/event/pakaradyaan-women-weaving-meranaw-culture/
END:VEVENT
BEGIN:VEVENT
DTSTART;TZID=UTC:20230330T080000
DTEND;TZID=UTC:20230331T181500
DTSTAMP:20260423T094217
CREATED:20230222T213225Z
LAST-MODIFIED:20230222T213225Z
UID:7857-1680163200-1680286500@alum.up.edu.ph
SUMMARY:Mandatory Continuing Legal Education 7th and 8th compliance
DESCRIPTION:The UP Institute for the Administration of Justice in partnership with IBP Makati will be conducting an in-person Mandatory Continuing Legal Education 7th and 8th compliance\, for the period of 23-24 and 30-31 March 2023.\n\nInterested participants may register thru https://uplaw.ph/ibpmakatimcle2023.\n\nClick this link for more details https://law.upd.edu.ph/mcle/.\n\n#UPCollegeofLaw #UPLaw #UPLawMCLE\n\nSource: University of the Philippines College of Law Facebook
URL:https://alum.up.edu.ph/event/mandatory-continuing-legal-education-7th-and-8th-compliance-2/
END:VEVENT
BEGIN:VEVENT
DTSTART;TZID=UTC:20230331T080000
DTEND;TZID=UTC:20230331T170000
DTSTAMP:20260423T094217
CREATED:20230222T214140Z
LAST-MODIFIED:20230222T214140Z
UID:7870-1680249600-1680282000@alum.up.edu.ph
SUMMARY:Mandatory Continuing Legal Education (MCLE) Synchronous Online Seminar
DESCRIPTION:The UP Institute for the Administration of Justice will be conducting a March Program of the Synchronous MCLE Online Seminar (via Zoom) for the period of 3\, 10\, 17\, 24\, and 31 March 2023.\n\nInterested participants may register thru http://uplaw.ph/mclemarch2023program.\n\nRegistration is until 1 March 2023 on a First Come First Serve basis.\n\nClick this link for more details https://law.upd.edu.ph/mcle/.\n\n#UPCollegeofLaw #UPLaw #UPLawMCLE\n\nSource: University of the Philippines College of Law Facebook
URL:https://alum.up.edu.ph/event/mandatory-continuing-legal-education-mcle-synchronous-online-seminar-5/
END:VEVENT
BEGIN:VEVENT
DTSTART;TZID=UTC:20230331T090000
DTEND;TZID=UTC:20230331T120000
DTSTAMP:20260423T094217
CREATED:20230329T220128Z
LAST-MODIFIED:20230329T220128Z
UID:9090-1680253200-1680264000@alum.up.edu.ph
SUMMARY:“Public Forum on Health and Wellness: Taking Care of Our Bones”
DESCRIPTION:In celebration of the 2023 National Women’s Month\, the UPV Gender and Development and the Ugsad Regional Gender Resource Network invite everyone to attend the “Public Forum on Health and Wellness: Taking Care of Our Bones” on March 31\, 2023\, 9:00 AM-12:00 NN\, at the Little Theater\, UP Visayas\, Iloilo City.\n\nRESOURCE SPEAKERS:\n\n“Office Orthopaedics: Common Hand Conditions and their Treatment and Prevention”\nDR. LUCILLE P. DETOYATO\nHand Surgeon\nTraining Officer\, Department of Orthopaedics\nWestern Visayas Medical Center\n\n“Hip\, Knee and Spine Vitality”\nDR. RAOUL R. CAÑONERO\nJoints and Arthroplasty\, Sports Medicine\nChairperson\, Department of Orthopaedics\nWestern Visayas Medical Center\n\nSource: UPV Gender and Development Program Facebook
URL:https://alum.up.edu.ph/event/public-forum-on-health-and-wellness-taking-care-of-our-bones/
END:VEVENT
BEGIN:VEVENT
DTSTART;TZID=UTC:20230331T100000
DTEND;TZID=UTC:20230331T113000
DTSTAMP:20260423T094217
CREATED:20230322T172252Z
LAST-MODIFIED:20230322T172252Z
UID:8894-1680256800-1680262200@alum.up.edu.ph
SUMMARY:Balik Scientist Program (BSP) Exit Report of Dr. Heidie Cabanos
DESCRIPTION:The UP College of Medicine Department of Biochemistry and Molecular Biology invites you to the Exit Report Presentation of Balik Scientist Dr. Heidie Frisco Cabanos.\n\nMarch 31\, 2023 | 10:00 am via Zoom\n\nRegister at https://up-edu.zoom.us/…/regi…/WN_uz1nUHFwTEmJDskJwfz9Aw\n\nSource: University of the Philippines Manila Facebook
URL:https://alum.up.edu.ph/event/balik-scientist-program-bsp-exit-report-of-dr-heidie-cabanos/
END:VEVENT
BEGIN:VEVENT
DTSTART;TZID=UTC:20230331T120000
DTEND;TZID=UTC:20230331T130000
DTSTAMP:20260423T094217
CREATED:20230326T200902Z
LAST-MODIFIED:20230326T200902Z
UID:8963-1680264000-1680267600@alum.up.edu.ph
SUMMARY:CHECKPOINT INHIBITORS IN CERVICAL CANCER
DESCRIPTION:Join us as we discuss CHECKPOINT INHIBITORS IN CERVICAL CANCER on Mar 31\, Friday\, 12NN. This webinar is brought to you by this year’s Silver Jubilarians\, the UP College of Medicine Class of 1998.\n\n• Zoom (early registration) – https://bit.ly/3lSGg55\n• Facebook (membership required) – bit.ly/3HKjseV\n• UP Manila Livestream – bit.ly/3jIitnI\n\nSource: UP Med Webinars Facebook
URL:https://alum.up.edu.ph/event/checkpoint-inhibitors-in-cervical-cancer/
END:VEVENT
BEGIN:VEVENT
DTSTART;TZID=UTC:20230331T120000
DTEND;TZID=UTC:20230331T140000
DTSTAMP:20260423T094217
CREATED:20230126T233528Z
LAST-MODIFIED:20230329T184326Z
UID:7120-1680264000-1680271200@alum.up.edu.ph
SUMMARY:Stop COVID Deaths Webinar #140 “Poison Alert: Paanong Umiwas sa Lason?”
DESCRIPTION:The University of the Philippines in partnership with\nUP Manila-NIH National Telehealth Center and in cooperation with\nUP Philippine General Hospital and\nUP College of Medicine\nwould like to invite you to join the Fight Against COVID-19! \n  \nRegistration slots are limited to this SPECIAL EDITION of\nthe STOP C.O.V.I.D. DEATHS Webinar Series.\n(Current COVID-19 problems; Other outbreaks; Viruses; Infections; Disasters)\nSo sign up NOW:\nbit.ly/StopCOVIDDeathsWebinar140 \n  \nWebinar #140\nMarch 31\, 2023 (Friday) 12nn\n“Poison Alert: Paanong Umiwas sa Lason?”\n\nPresenter:\nDR. NELIA P. CORTES-MARAMBA\nProfessor Emeritus\, Department of Pharmacology & Toxicology\nUP College of Medicine\n\nReactor:\nDR. LYNN CRISANTA R. PANGANIBAN\nProfessor\, Department of Pharmacology & Toxicology\, UP College of Medicine\nConsultant & Former Head\, National Poison Management & Control Center\, UP Philippine General Hospital\n\nDR. IRMA R. MAKALINAO\nProfessor\, Department of Pharmacology & Toxicology\, UP College of Medicine\nConsultant & Former Training Officer\, National Poison Management & Control Center\, UP Philippine General Hospital\nInternational Expert on CBRNE\n\nDR. NERISSA M. DANDO\nAssociate Professor\, Department of Pharmacology & Toxicology\, UP College of Medicine\nHead\, National Poison Management & Control Center\, UP Philippine General Hospital\n\nSynthesis & Closing Remarks:\nDR. STELLA MARIE L. JOSE\nHead\, Office of Expanded Education and Training\nUP Philippine General Hospital\n\n———————————————————–\n\nMarch 31\, 2023 (Friday) 12nn\nWebinar #140\n“Poison Alert: Paanong Umiwas sa Lason?”\n\nAs of 2023\, the World Health Organization reports that only about half of all countries have a poison center.\n\nPoison centers are sources of expertise on the diagnosis and management of poisoning. Most centers provide emergency advice to the general public as well as to health professionals.\n\nThe Philippines is fortunate to have had a center since the 1970’s spearheaded by an esteemed pharmacologist\, Professor Emeritus Nelia Cortes-Maramba. The National Poison Management and Control Center (NPMCC) of the UP Philippine General Hospital was established in 1975 when the science of toxicology was introduced in the country. This was in response to the increasing incidence of poisoning brought about by indiscriminate use of pesticides. Activities of the NPMCC have focused on the management of acute poisoning cases and research. The center is the source of training for doctors\, nurses and other health professionals.\n\nOver time\, the types of poisonings encountered have changed from ingestion of anti-tuberculosis medications to a recent surge in abuse of antipyretics that can be bought over the counter. Alcohol intoxication and poisoning from lambanog has been reported. Poisoning from the use of disinfectants was reported during the pandemic. Snakebites and reactions to naturally-occurring poisons like calcium oxalates in certain household plants like the dieffenbachia plant (more commonly known as “dumb cane” or “leopard’s lily”) have been encountered\, among many other different types of exposures to poison. Emerging concerns about oil spills\, red tide/algae blooms\, as well as chemical\, biological\, radiation and nuclear exposures (CBRNE) linked to global security make the role of the center critical.\n\nIn this episode of STOP COVID DEATHS\, we will take a closer look at the NPMCC\, the leading causes of poisoning\, and basic information to help front liners on how to suspect\, diagnose\, and refer cases of poisoning. The main speaker is Dr. Nelia P. Cortes-Maramba\, Professor Emeritus of the Department of Pharmacology & Toxicology\, UP College of Medicine and is widely regarded as the Mother of Philippine Toxicology as she pioneered the science and practice of toxicology in the country. The reactors are Dr. Lynn Crisanta R. Panganiban\, who is the former Head of the NPMCC and who will be talking about toxicovigilance and poison information service; Dr. Irma R. Makalinao\, who is the former Training Officer of NPMCC and an international expert on CBRNE and will discuss the NPMCC training program and chemical emergencies among others; and Dr. Nerissa M. Dando\, who is the current Head of the NPMCC and will talk about NPMCC case statistics and ongoing initiatives.\n\nJoin your credible on-line community and learn more about poisons\, diagnosis and management. Together\, we can STOP C.O.V.I.D. DEATHS!
URL:https://alum.up.edu.ph/event/stop-covid-deaths-webinar-140/
END:VEVENT
BEGIN:VEVENT
DTSTART;TZID=UTC:20230331T130000
DTEND;TZID=UTC:20230331T170000
DTSTAMP:20260423T094217
CREATED:20230322T172010Z
LAST-MODIFIED:20230322T172010Z
UID:8891-1680267600-1680282000@alum.up.edu.ph
SUMMARY:Sulong Kababaihan! Cultural Concert
DESCRIPTION:Inaanyayahan ang buong komunidad ng UP Diliman (UPD) sa “Sulong Kababaihan! Cultural Concert” sa darating na Marso 31\, Biyernes\, 1 n.h.\, sa Quezon Hall.\n\nIto ay hatid ng UPD Gender Office.\n\nTingnan ang larawan para sa karagdagang detalye.
URL:https://alum.up.edu.ph/event/sulong-kababaihan-cultural-concert/
END:VEVENT
BEGIN:VEVENT
DTSTART;TZID=UTC:20230331T130000
DTEND;TZID=UTC:20230331T170000
DTSTAMP:20260423T094217
CREATED:20230328T172933Z
LAST-MODIFIED:20230328T172933Z
UID:9022-1680267600-1680282000@alum.up.edu.ph
SUMMARY:CSWCD Research Forum
DESCRIPTION:Images from the CSWCD Facebook page\nThe UP Diliman College of Social Work and Community Development (CSWCD) will hold the “CSWCD Research Forum” on Friday\, March 31\, 1-5 p.m.\, at the Bulwagang Tandang Sora and via online.\n\nThe hyflex event is in celebration of Social Work Month.\n\nTo join\, register at https://www.eventbrite.com/…/social-work-month-event….\n\nSee photos for more details.
URL:https://alum.up.edu.ph/event/cswcd-research-forum/
END:VEVENT
BEGIN:VEVENT
DTSTART;TZID=UTC:20230331T140000
DTEND;TZID=UTC:20230331T160000
DTSTAMP:20260423T094217
CREATED:20230326T191540Z
LAST-MODIFIED:20230326T191540Z
UID:8952-1680271200-1680278400@alum.up.edu.ph
SUMMARY:Ecosystem Approach to MSME Entrepreneurship Development
DESCRIPTION:Image from the ISSI Facebook page\nThe webinar “Ecosystem Approach to MSME Entrepreneurship Development” will be held on March 31\, Friday\, 2-4 p.m.\, via Zoom and Facebook Live.\n\nThis is part of the UP Diliman Institute for Small-Scale Industries’ (ISSI) Communities of Practice for Entrepreneurship Program.\n\nTo join\, register at https://bit.ly/upissiCOPE2023 or scan the QR code on the poster.\n\nWatch the livestream on the ISSI Facebook page.
URL:https://alum.up.edu.ph/event/ecosystem-approach-to-msme-entrepreneurship-development/
END:VEVENT
BEGIN:VEVENT
DTSTART;TZID=UTC:20230331T140000
DTEND;TZID=UTC:20230331T170000
DTSTAMP:20260423T094217
CREATED:20230327T174639Z
LAST-MODIFIED:20230327T174639Z
UID:8990-1680271200-1680282000@alum.up.edu.ph
SUMMARY:UPOU "Usaping Gender Equality\, Disability and Social Inclusion"
DESCRIPTION:As the UPOU’s National Women’s Month celebration ends\, we invite everyone to join us on March 31\, 2023 at 2:00-5:00PM through a discussion of Gender Equality\, Disability\, and Social Inclusion (GEDSI)!\n\nYou can watch us via our Facebook\, Youtube\, and UPOU Networks Livestream.\n\nHappy Women’s Month! Let us continue our discussions\, advocacy\, and actions.\n\nSource: UPOU Office of Gender Concerns Facebook
URL:https://alum.up.edu.ph/event/upou-usaping-gender-equality-disability-and-social-inclusion/
END:VEVENT
BEGIN:VEVENT
DTSTART;TZID=UTC:20230331T160000
DTEND;TZID=UTC:20230331T170000
DTSTAMP:20260423T094217
CREATED:20230326T191649Z
LAST-MODIFIED:20230326T191649Z
UID:8955-1680278400-1680282000@alum.up.edu.ph
SUMMARY:Dancing Kween: A Zumba Activity for Women and Everyone
DESCRIPTION:Imahe mula sa STAT Facebook page\nInaanyayahan ng UP Diliman School of Statistics (STAT) ang lahat na makiisa sa “Dancing Kween: A Zumba Activity for Women and Everyone” sa darating na Marso 31\, Biyernes\, 4-5 n.h.\, sa STAT Lobby.\n\nIto ay bahagi ng pagdiriwang ng “Buwan ng Kababaihan 2023.”\n\nUpang makilahok\, magrehistro sa bit.ly/StatZumbabae.
URL:https://alum.up.edu.ph/event/dancing-kween-a-zumba-activity-for-women-and-everyone/
END:VEVENT
BEGIN:VEVENT
DTSTART;TZID=UTC:20230331T160000
DTEND;TZID=UTC:20230331T180000
DTSTAMP:20260423T094217
CREATED:20230323T181347Z
LAST-MODIFIED:20230328T174247Z
UID:8913-1680278400-1680285600@alum.up.edu.ph
SUMMARY:IPS Research Hour "SCOPING OF PHARMACEUTICAL SCIENCES RESEARCHES"
DESCRIPTION:The Institute of Pharmaceutical Sciences would like to invite you to the 𝗜𝗣𝗦 𝗥𝗘𝗦𝗘𝗔𝗥𝗖𝗛 𝗛𝗢𝗨𝗥 to be held on March 31\, 2023 from 4-6 PM via Zoom!\n\nJoin us as Dr. RuAngelie Edrada-Ebel shares her expertise on “Scoping of Pharmaceutical Sciences Researches” to be followed by a discussion with a panel of reactors.\n\nREGISTRATION IS FREE. Please click the registration link below:\n\nhttps://bit.ly/IPSResearchHourMar2023\n\nSource: UP College of Pharmacy Facebook
URL:https://alum.up.edu.ph/event/ips-research-hour/
END:VEVENT
BEGIN:VEVENT
DTSTART;TZID=UTC:20230331T160000
DTEND;TZID=UTC:20230331T180000
DTSTAMP:20260423T094217
CREATED:20230328T172744Z
LAST-MODIFIED:20230328T172744Z
UID:9019-1680278400-1680285600@alum.up.edu.ph
SUMMARY:Geo Lecture Series: What if Children Created a Fictional City? Urban Imaginaries of Slum-Dwelling Children in San Jose del Monte City\, Philippines
DESCRIPTION:The lecture “What if Children Created a Fictional City? Urban Imaginaries of Slum-Dwelling Children in San Jose del Monte City\, Philippines” will happen on Friday\, March 31\, at 4 p.m. via Zoom.\n\nThis is the fourth installment of the “Heo/Geo Lecture Series” jointly sponsored by the UP Diliman Department of Geography and the Philippine Geographical Society.\n\nThe lecture will be presented by Aireen Grace Andal\, a PhD candidate under a Double-PhD track in Social Sciences from the Institute of Human Geography\, Macquarie University\, Australia.\n\nRegister at https://tinyurl.com/bdh74dhh.\n\nSee post for more details.
URL:https://alum.up.edu.ph/event/geo-lecture-series-what-if-children-created-a-fictional-city-urban-imaginaries-of-slum-dwelling-children-in-san-jose-del-monte-city-philippines/
END:VEVENT
BEGIN:VEVENT
DTSTART;TZID=UTC:20230331T160000
DTEND;TZID=UTC:20230331T180000
DTSTAMP:20260423T094217
CREATED:20230329T213535Z
LAST-MODIFIED:20230329T213535Z
UID:9056-1680278400-1680285600@alum.up.edu.ph
SUMMARY:UPSE-PCED Seminar: 138 Surveys of Poverty\, 1983-2022
DESCRIPTION:Catch the seminar “138 Surveys of Poverty\, 1983-2022” on Friday\, March 31\, 4 p.m.\, at the Encarnacion Hall\, Room 105\, UP Diliman School of Economics (SE) and via Zoom\, with guest speaker Mahar Mangahas\, PhD\, chair emeritus of the Social Weather Station.\n\nThe seminar is presented by the SE and the Philippine Center for Economic Development.\n\nRegister at https://bit.ly/3lwWG3j (on-site) and http://bit.ly/3FM0Db7 (via Zoom)\, or scan the QR codes on the poster.
URL:https://alum.up.edu.ph/event/upse-pced-seminar-138-surveys-of-poverty-1983-2022/
END:VEVENT
BEGIN:VEVENT
DTSTART;TZID=UTC:20230331T180000
DTEND;TZID=UTC:20230331T200000
DTSTAMP:20260423T094217
CREATED:20230328T191422Z
LAST-MODIFIED:20230328T191422Z
UID:9034-1680285600-1680292800@alum.up.edu.ph
SUMMARY:"Awit ng Kwerdas Handog kay Juana"
DESCRIPTION:In celebration of the Women’s Month 2023\, the UP College of Pharmacy Gender and Development Committee would like to invite everyone to “Awit ng Kwerdas Handog kay Juana” activity on March 31 (Friday) at 6PM via Zoom!\n\nWe will be having Prof. Rafael Ronquillo as our guest performer\, and Prof. Judy Taguiwalo as inspirational speaker during the event!\n\nSource: UP College of Pharmacy Facebook
URL:https://alum.up.edu.ph/event/awit-ng-kwerdas-handog-kay-juana/
END:VEVENT
BEGIN:VEVENT
DTSTART;TZID=UTC:20230331T183000
DTEND;TZID=UTC:20230331T203000
DTSTAMP:20260423T094217
CREATED:20230329T215914Z
LAST-MODIFIED:20230329T215914Z
UID:9086-1680287400-1680294600@alum.up.edu.ph
SUMMARY:UPAA Davao TRIVIA NIGHT
DESCRIPTION:You are invited to the first TRIVIA NIGHT of the UP Alumni Association of Davao on Friday\, March 31\, 2023. This is open to all UP Alumni\, Students & Friends. Yes\, you can even bring your family. Let’s have a night of quizzical fun while enjoying the numerous food choices at the KUKUN FOOD HALL in POBLACION MARKET CENTRAL\, C. Bangoy Street\, Davao City.\n\nRegistration is FREE. Registration shall start at 5:00 PM and end at 6:30 PM.\n\nYou’re also very welcome if you just want to hang out and watch the players battle it out. Drop us a message or text 09176340619 if you have questions.\n\nSee you there!\n\nSource: UP Alumni Association – Davao Facebook
URL:https://alum.up.edu.ph/event/upaa-davao-trivia-night/
END:VEVENT
BEGIN:VEVENT
DTSTART;TZID=UTC:20230331T190000
DTEND;TZID=UTC:20230331T210000
DTSTAMP:20260423T094217
CREATED:20230329T213702Z
LAST-MODIFIED:20230329T213702Z
UID:9059-1680289200-1680296400@alum.up.edu.ph
SUMMARY:Introduction to Fire Safety Engineering
DESCRIPTION:The UP Diliman Building Research Service (BRS) will conduct the webinar “Introduction to Fire Safety Engineering” on Friday\, March 31\, at 7 p.m. via Zoom.\n\nRegister at http://bit.ly/3LN4Sau or scan the QR code on the poster.\n\nFor updates and inquiries\, visit the BRS Facebook page.
URL:https://alum.up.edu.ph/event/introduction-to-fire-safety-engineering/
END:VEVENT
END:VCALENDAR