BEGIN:VCALENDAR
VERSION:2.0
PRODID:-//UP Alumni Website - ECPv6.15.16//NONSGML v1.0//EN
CALSCALE:GREGORIAN
METHOD:PUBLISH
X-WR-CALNAME:UP Alumni Website
X-ORIGINAL-URL:https://alum.up.edu.ph
X-WR-CALDESC:Events for UP Alumni Website
REFRESH-INTERVAL;VALUE=DURATION:PT1H
X-Robots-Tag:noindex
X-PUBLISHED-TTL:PT1H
BEGIN:VTIMEZONE
TZID:UTC
BEGIN:STANDARD
TZOFFSETFROM:+0000
TZOFFSETTO:+0000
TZNAME:UTC
DTSTART:20220101T000000
END:STANDARD
END:VTIMEZONE
BEGIN:VEVENT
DTSTART;TZID=UTC:20230130T100000
DTEND;TZID=UTC:20230715T160000
DTSTAMP:20260423T114622
CREATED:20230209T234249Z
LAST-MODIFIED:20230209T234249Z
UID:7577-1675072800-1689436800@alum.up.edu.ph
SUMMARY:Pagsalud han Dan-ag han Adlaw / Cupping the Flow of Sunlight (Gleanings from the Natural and Cultural Heritage of Eastern Visayas) Exhibit + Origami-making
DESCRIPTION:In celebration of National Arts Month this February 2023\, the Leyte Samar Heritage Center is offering the following activities:\n\nPagsalud han Dan-ag han Adlaw / Cupping the Flow of Sunlight (Gleanings from the Natural and Cultural Heritage of Eastern Visayas) Exhibit + Origami-making\nExhibit run: 30 January – 15 July 2023\nGallery hours: Monday – Friday | 10:00 AM – 4:00 PM\n\nBook here [https://forms.gle/Sm9iMDqcyExDhyFd6]\n\nSiday Magnet Poem Workshop\n15 February – 15 July 2023\nWednesdays | 10:00 AM – 3:00 PM\n\nBook here [https://forms.gle/jeRi7uRD3wJ5v6ST7]\n\nVisit us and learn more about the biodiversity\, arts\, and culture of Eastern Visayas!\n\nAdmission is free!\n\n#NationalArtsMonth2023\n#UPTaclobanat50\n\nSource: UPVTC Leyte Samar Heritage Center Facebook
URL:https://alum.up.edu.ph/event/pagsalud-han-dan-ag-han-adlaw-cupping-the-flow-of-sunlight-gleanings-from-the-natural-and-cultural-heritage-of-eastern-visayas-exhibit-origami-making/
END:VEVENT
BEGIN:VEVENT
DTSTART;TZID=UTC:20230215T100000
DTEND;TZID=UTC:20230715T150000
DTSTAMP:20260423T114622
CREATED:20230209T234351Z
LAST-MODIFIED:20230209T234351Z
UID:7580-1676455200-1689433200@alum.up.edu.ph
SUMMARY:Siday Magnet Poem Workshop
DESCRIPTION:In celebration of National Arts Month this February 2023\, the Leyte Samar Heritage Center is offering the following activities:\n\nPagsalud han Dan-ag han Adlaw / Cupping the Flow of Sunlight (Gleanings from the Natural and Cultural Heritage of Eastern Visayas) Exhibit + Origami-making\nExhibit run: 30 January – 15 July 2023\nGallery hours: Monday – Friday | 10:00 AM – 4:00 PM\n\nBook here [https://forms.gle/Sm9iMDqcyExDhyFd6]\n\nSiday Magnet Poem Workshop\n15 February – 15 July 2023\nWednesdays | 10:00 AM – 3:00 PM\n\nBook here [https://forms.gle/jeRi7uRD3wJ5v6ST7]\n\nVisit us and learn more about the biodiversity\, arts\, and culture of Eastern Visayas!\n\nAdmission is free!\n\n#NationalArtsMonth2023\n#UPTaclobanat50\n\nSource: UPVTC Leyte Samar Heritage Center Facebook
URL:https://alum.up.edu.ph/event/siday-magnet-poem-workshop/
END:VEVENT
BEGIN:VEVENT
DTSTART;VALUE=DATE:20230327
DTEND;VALUE=DATE:20230616
DTSTAMP:20260423T114622
CREATED:20230323T183429Z
LAST-MODIFIED:20230323T183429Z
UID:8922-1679875200-1686873599@alum.up.edu.ph
SUMMARY:UPAA Iloilo Chapter Call for Nominations for the 2023 Outstanding Professional Awards
DESCRIPTION:UPAA ILOILO CHAPTER CALL FOR NOMINATIONS\n\nUPAA Iloilo Chapter Professional Awards:\nMarch 15\, 2023 to June 15\, 2023.\n\nMarch 15\, 2023\nNomination forms available at the Office of Alumni Relations (OAR)/ UPAA Office & FB page\n\nYou can also download nomination forms at:\n\nhttps://docs.google.com/…/1CA7NyTE1Xwc9zsP…/edit…\n\nMarch 27\, 2023 to June 15\, 2023\nSubmission & acceptance of Nomination Forms & documents at the Office of Alumni Relations\n\nFor information & guidance\n\nAtty Shiella Olid\nChairman\nProfessional Award Committee\n\nFor more information:\nPlease contact\nMs @Almera Blando- Facto\n033-3368837\n\nor email at upaa.iloilo@gmail.com\n\nSource: UPAA Iloilo Chapter Facebook
URL:https://alum.up.edu.ph/event/upaa-iloilo-chapter-call-for-nominations-for-the-2023-outstanding-professional-awards/
END:VEVENT
BEGIN:VEVENT
DTSTART;VALUE=DATE:20230417
DTEND;VALUE=DATE:20230523
DTSTAMP:20260423T114622
CREATED:20230320T173526Z
LAST-MODIFIED:20230320T173526Z
UID:8831-1681689600-1684799999@alum.up.edu.ph
SUMMARY:BE THE BIDA: OBLATION CUP ‘23
DESCRIPTION:BE THE BIDA: ANG PAGHAHANDA\n\nBago natin lunukin ang bato ni Darna\, magshapeshift gaya ni Lastikman\, at hugutin ang espada ni Panday\, tumungo muna tayo sa ating OBLATION CUP ‘23 GUIDELINES para sa mga dapat nating malaman bago mag-umpisa ang REGISTRATION PERIOD sa darating na MARSO 22\, 2023 7 PM.\n\nNarito na rin ang CALENDAR OF ACTIVITIES para matukoy kung aling sports events ang hindi maaaring pagsabayin ng ating mga manlalaro. Para naman sa naghahanap ng mga makakasama sa tagisan ng bawat kolehiyo\, narito ang BIDA SHEETS para sainyo!\n\nCAC: https://bit.ly/BidaSheetsCAC\nCS: https://bit.ly/BidaSheetsCS\nCSS: https://bit.ly/BidaSheetsCSS\n\n#BeTheBida #OblationCup2023 #SportsAarangkada\n\nPublication by Gene Carlo Vicente\n\nSource: UP Baguio Facebook
URL:https://alum.up.edu.ph/event/be-the-bida-oblation-cup-23/
END:VEVENT
BEGIN:VEVENT
DTSTART;TZID=UTC:20230418T100000
DTEND;TZID=UTC:20230429T160000
DTSTAMP:20260423T114622
CREATED:20230412T000138Z
LAST-MODIFIED:20230413T220758Z
UID:9217-1681812000-1682784000@alum.up.edu.ph
SUMMARY:Wearable Futures Exhibition Goes to UP Fine Arts Gallery
DESCRIPTION:After its successful exhibition run in March 2023 at the UP Open University 28th Founding Anniversary in Los Baños\, Wearable Futures is slated to re-exhibit from 18 April until 29 April 2023 at the Multi-Purpose Hall of the UP Fine Arts Gallery in Diliman\, Quezon City.\n\nThe Wearable Futures exhibition is organized by the FICS-run BUKAS Lab and has two major components:\n  \n\nUndergraduate student outputs from the Wearable Futures Hackathon\, a 12-week-long hybrid learning experience collaboratively created with and for undergraduate students at UPOU. During the course\, students explored wearable technology\, e-textiles\, speculative design\, and futures thinking. The exhibit features five wearable prototypes exploring information security\, physical safety\, human movement\, farming\, and climate change\, by sixteen students of the Bachelor of Arts in Multimedia Studies program: Hannah Beraquit\, Arvic Angelo B. Cruz\, Joshua Albert C. Dema-ala\, Airiel Licca Depante\, Sapphire Marilag M. Dulorzo\, Vernice Bethel C. Gica\, Michelle Lado. Faye Anjeli S. Lopez. Laryze Lozano\, Patricia Martillano\, Pauliana Jamie R. Nicolas\, Wrynz Dale Sumande\, Rajmyrr S. Suva\, Myles Lorraine Tuason\, Rel Daryle Dane R. Valle\, and Marciano C. Virola III.\n\n  \n\nWorks-in-progress by the 2022 Fellows of the Emerging Futurist Residency\, a research and creative program focused on supporting and nurturing exploration of the future by multidisciplinary teams. The residency program aims to deconstruct dominant paradigms about the future and develops alternative models through a combination of critical inquiry and hands-on experimentation. The 2022 Fellows––fashion designer-architect JJ Aquino\, researcher-creative producer Franchesca Casauay\, and fashion designer-illustrator Renz Reyes–explored various aspects of the Terno\, arguably the Philippines’ most iconic national dress. With Casauay guiding the overall creative production\, Aquino and Reyes reimagine and reshape the Terno’s materiality\, construction\, and sociocultural function\, experimenting on how a Terno might look\, move\, and come to be in the near future.\n\nThe initiative is led by FICS Dean Dr. Diego Maranan\, with support from research assistants Jerome Suplemento and Lucky Vengua\, in partnership with Space Ecologies Art and Design (SEADS) and the MetaFuturism Lab.\n\nFor inquiries\, kindly contact jerome.suplemento@upou.edu.ph.\n—\nExhibition opening:\n18 Apr 2023 // 2:00PM–5:00PM\n\nRegular exhibition run:\n19 Apr–29 Apr 2023 // 10:00AM-4:00PM\n*Closed on Sun & Mon\n\nVenue:\nMulti-Purpose Hall\, UP Fine Arts Gallery\,\nDiliman\, Quezon City
URL:https://alum.up.edu.ph/event/wearable-futures/
END:VEVENT
BEGIN:VEVENT
DTSTART;TZID=UTC:20230419T090000
DTEND;TZID=UTC:20230419T110000
DTSTAMP:20260423T114622
CREATED:20230412T211036Z
LAST-MODIFIED:20230412T211036Z
UID:9242-1681894800-1681902000@alum.up.edu.ph
SUMMARY:“Trans-Atlantic meets Indo-Pacific: US and EU strategic outlooks toward the region”
DESCRIPTION:Catch Dr. Jan Hornat—from Charles University—on his upcoming talk titled “Trans-Atlantic meets Indo-Pacific: US and EU strategic outlooks toward the region”. This is Part 2 of the CAS International Lecture Series.\n\nThe forum will be one of the anticipated talks in the upcoming DSS Week. It will commence on April 19\, 2023\, from 9 AM – 11 AM via Zoom.\n\nThis activity is spearheaded by the CAS Office of the Associate Dean for Academic Affairs in partnership with:\nOrganization of Area Studies Majors\nArea Studies Program\nDepartment of Social Sciences\n\nRegister through the QR code below or use the link: https://bit.ly/CASILSPart2\n\nSee you there!\n\nSource: College of Arts and Sciences\, UP Manila Facebook
URL:https://alum.up.edu.ph/event/trans-atlantic-meets-indo-pacific-us-and-eu-strategic-outlooks-toward-the-region/
END:VEVENT
BEGIN:VEVENT
DTSTART;TZID=UTC:20230419T100000
DTEND;TZID=UTC:20230419T120000
DTSTAMP:20260423T114622
CREATED:20230329T214212Z
LAST-MODIFIED:20230329T214212Z
UID:9068-1681898400-1681905600@alum.up.edu.ph
SUMMARY:Nature Inside Out: An Introduction to Computed Tomography (CT) Scanning for Natural History and Biodiversity Studies
DESCRIPTION:Image from the IB Facebook page\nJoin the seminar “Nature Inside Out: An Introduction to Computed Tomography (CT) Scanning for Natural History and Biodiversity Studies” on April 19\, Wednesday\, 10 a.m.\, at the UP Diliman Institute of Biology Room 117.\n\nThe guest speaker is Stephanie M. Smith\, PhD\, a distinguished bass postdoctoral fellow at the Negaunee Integrative Research Center Field Museum of Natural History.
URL:https://alum.up.edu.ph/event/nature-inside-out-an-introduction-to-computed-tomography-ct-scanning-for-natural-history-and-biodiversity-studies/
END:VEVENT
BEGIN:VEVENT
DTSTART;TZID=UTC:20230419T100000
DTEND;TZID=UTC:20230419T120000
DTSTAMP:20260423T114622
CREATED:20230412T211422Z
LAST-MODIFIED:20230412T211422Z
UID:9245-1681898400-1681905600@alum.up.edu.ph
SUMMARY:"Textile Talks - Stories of the T'Nalak: Traditional weaving among the T'Boli of Lake Sebu\, Cotabato"
DESCRIPTION:CordiTex is inviting everyone to a webinar entitled “Textile Talks – Stories of the T’Nalak: Traditional weaving among the T’Boli of Lake Sebu\, Cotabato” happening on April 19\, 2023.\n\nPlease see attached photo for more information.\n\nRegister here: https://bit.ly/3zSoYJ2\n\nSource: University of the Philippines Baguio Facebook
URL:https://alum.up.edu.ph/event/textile-talks-stories-of-the-tnalak-traditional-weaving-among-the-tboli-of-lake-sebu-cotabato/
END:VEVENT
BEGIN:VEVENT
DTSTART;TZID=UTC:20230419T120000
DTEND;TZID=UTC:20230419T140000
DTSTAMP:20260423T114622
CREATED:20230416T183908Z
LAST-MODIFIED:20230416T183908Z
UID:9331-1681905600-1681912800@alum.up.edu.ph
SUMMARY:Binalot Talks: The Stratigraphy of a Community: 150 Years of Language Contact and Change in Babuyan Claro\, Philippines
DESCRIPTION:Join the UP Diliman (UPD) School of Archaeology’s Binalot Talks “The Stratigraphy of a Community: 150 Years of Language Contact and Change in Babuyan Claro\, Philippines” on April 19\, Wednesday\, 12 p.m.\, at the Albert Hall Seminar Room 2.\n\nThe resource speaker is Maria Kristina S. Gallego\, PhD\, chair of the UPD Department of Linguistics.
URL:https://alum.up.edu.ph/event/binalot-talks-the-stratigraphy-of-a-community-150-years-of-language-contact-and-change-in-babuyan-claro-philippines/
END:VEVENT
BEGIN:VEVENT
DTSTART;TZID=UTC:20230419T130000
DTEND;TZID=UTC:20230419T150000
DTSTAMP:20260423T114622
CREATED:20230319T173524Z
LAST-MODIFIED:20230319T173524Z
UID:8766-1681909200-1681916400@alum.up.edu.ph
SUMMARY:“Sufficiency Economy Philosophy and Sustainability”
DESCRIPTION:SEAMEO SEPS\, Bangkok\, Thailand is inviting you to their webinar on “Sufficiency Economy Philosophy and Sustainability” to share their expertise and knowledge on a foundation of Sufficiency Economy Philosophy (SEP) and how this philosophy can be practically integrated into education as a key concept to improve a better quality of life. The webinar will be held 19 on April 2023 starting 13:00 to 15″00 hrs (GMT+7\, BKK time).\n\nFree registration is available for all interested audiences at link: https://docs.google.com/…/1VUL7pWpr4T1Y…/edit\n\nSource: College of Public Health\, University of the Philippines Facebook
URL:https://alum.up.edu.ph/event/sufficiency-economy-philosophy-and-sustainability/
END:VEVENT
BEGIN:VEVENT
DTSTART;TZID=UTC:20230419T140000
DTEND;TZID=UTC:20230419T150000
DTSTAMP:20260423T114622
CREATED:20230416T184204Z
LAST-MODIFIED:20230416T184204Z
UID:9334-1681912800-1681916400@alum.up.edu.ph
SUMMARY:Frameworks for Understanding Bitcoin
DESCRIPTION:Everyone is invited to the lecture “Frameworks for Understanding Bitcoin” by Florin T. Hilbay on April 19\, Wednesday\, 2 p.m.\, at the Malcolm Theater\, UP Diliman College of Law (LAW).\n\nHilbay is dean of the Silliman University College of Law.\n\nThis will also be livestreamed on the LAW Facebook page.
URL:https://alum.up.edu.ph/event/frameworks-for-understanding-bitcoin/
END:VEVENT
BEGIN:VEVENT
DTSTART;TZID=UTC:20230419T140000
DTEND;TZID=UTC:20230419T153000
DTSTAMP:20260423T114622
CREATED:20230413T171243Z
LAST-MODIFIED:20230413T171243Z
UID:9277-1681912800-1681918200@alum.up.edu.ph
SUMMARY:DNA Vaccines for fish: Emphasis on Viral Diseases
DESCRIPTION:Making Waves in Aquatic Animal Health: Exploring the Advantages of DNA Vaccines for Fishes\n\nDiseases of viral origin have been a problem in the aquaculture industry because they affect the various life stages of the fish\, leading to mass mortality and heavy economic losses. Several management interventions have been carried out to mitigate the devastating effects of viral diseases. Among them\, vaccination to prevent disease is used routinely in finfish aquaculture.\n\nJoin us for another episode of the Division of Biological Sciences Webinar Series on April 19\, 2023\, 2:00 PM as Dr. Christopher Caipang discusses the protective effects and the mechanisms of action of DNA vaccines in controlling viral diseases in fish. Don’t miss out on this exciting opportunity!\n\nRegister now by clicking this link: https://up-edu.zoom.us/…/regi…/WN_5t1ZKFnCQoqFjKgXNHGYkQ\n\nSource: UPV Division of Biological Sciences Facebook
URL:https://alum.up.edu.ph/event/dna-vaccines-for-fish-emphasis-on-viral-diseases/
END:VEVENT
BEGIN:VEVENT
DTSTART;TZID=UTC:20230419T140000
DTEND;TZID=UTC:20230419T170000
DTSTAMP:20260423T114622
CREATED:20230412T192606Z
LAST-MODIFIED:20230412T192606Z
UID:9233-1681912800-1681923600@alum.up.edu.ph
SUMMARY:LLM and Generative AI Transforms New Order of Applications
DESCRIPTION:Image from the UP EEEI Facebook Page\nThe forum “LLM and Generative AI Transforms New Order of Applications” will be held on April 19\, Wednesday\, at 2 p.m. via Zoom.\n\nThis is organized by the UP Diliman Electrical and Electronics Engineering Institute (EEEI)\, together with NVIDIA.\n\nThe guest speakers are Deb Goswami\, PhD\, Big Data and Structured AI technologist\, and Ettikan Kandasamy Karuppiah\, PhD\, technologist/director at NVIDIA Asia Pacific South Region.\n\nTo join\, register at https://bit.ly/EEEINVIDIATALK3.\n\nThis will also be livestreamed on the EEEI Facebook page (https://www.facebook.com/upeeei).
URL:https://alum.up.edu.ph/event/llm-and-generative-ai-transforms-new-order-of-applications/
END:VEVENT
BEGIN:VEVENT
DTSTART;TZID=UTC:20230419T143000
DTEND;TZID=UTC:20230419T163000
DTSTAMP:20260423T114622
CREATED:20230416T184422Z
LAST-MODIFIED:20230416T184422Z
UID:9337-1681914600-1681921800@alum.up.edu.ph
SUMMARY:Moving From Local to Systemic Scales of Resilience in Coral Reefs and How That Helps Us Manage Them
DESCRIPTION:The seminar “Moving From Local to Systemic Scales of Resilience in Coral Reefs and How That Helps Us Manage Them” will be held on April 19\, Wednesday\, 2:30 p.m.\, at the UP Diliman Marine Science Institute Audio Visual Room.\n\nThe resource speaker is Peter J. Mumby\, PhD\, a professor and head of the Marine Spatial Ecology Lab\, School of Biological Sciences\, University of Queensland\, St. Lucia Campus\, Brisbane\, Australia.\n\nSee photo for more details.
URL:https://alum.up.edu.ph/event/moving-from-local-to-systemic-scales-of-resilience-in-coral-reefs-and-how-that-helps-us-manage-them/
END:VEVENT
END:VCALENDAR