BEGIN:VCALENDAR
VERSION:2.0
PRODID:-//UP Alumni Website - ECPv6.15.16//NONSGML v1.0//EN
CALSCALE:GREGORIAN
METHOD:PUBLISH
X-WR-CALNAME:UP Alumni Website
X-ORIGINAL-URL:https://alum.up.edu.ph
X-WR-CALDESC:Events for UP Alumni Website
REFRESH-INTERVAL;VALUE=DURATION:PT1H
X-Robots-Tag:noindex
X-PUBLISHED-TTL:PT1H
BEGIN:VTIMEZONE
TZID:UTC
BEGIN:STANDARD
TZOFFSETFROM:+0000
TZOFFSETTO:+0000
TZNAME:UTC
DTSTART:20220101T000000
END:STANDARD
END:VTIMEZONE
BEGIN:VEVENT
DTSTART;TZID=UTC:20230130T100000
DTEND;TZID=UTC:20230715T160000
DTSTAMP:20260422T094916
CREATED:20230209T234249Z
LAST-MODIFIED:20230209T234249Z
UID:7577-1675072800-1689436800@alum.up.edu.ph
SUMMARY:Pagsalud han Dan-ag han Adlaw / Cupping the Flow of Sunlight (Gleanings from the Natural and Cultural Heritage of Eastern Visayas) Exhibit + Origami-making
DESCRIPTION:In celebration of National Arts Month this February 2023\, the Leyte Samar Heritage Center is offering the following activities:\n\nPagsalud han Dan-ag han Adlaw / Cupping the Flow of Sunlight (Gleanings from the Natural and Cultural Heritage of Eastern Visayas) Exhibit + Origami-making\nExhibit run: 30 January – 15 July 2023\nGallery hours: Monday – Friday | 10:00 AM – 4:00 PM\n\nBook here [https://forms.gle/Sm9iMDqcyExDhyFd6]\n\nSiday Magnet Poem Workshop\n15 February – 15 July 2023\nWednesdays | 10:00 AM – 3:00 PM\n\nBook here [https://forms.gle/jeRi7uRD3wJ5v6ST7]\n\nVisit us and learn more about the biodiversity\, arts\, and culture of Eastern Visayas!\n\nAdmission is free!\n\n#NationalArtsMonth2023\n#UPTaclobanat50\n\nSource: UPVTC Leyte Samar Heritage Center Facebook
URL:https://alum.up.edu.ph/event/pagsalud-han-dan-ag-han-adlaw-cupping-the-flow-of-sunlight-gleanings-from-the-natural-and-cultural-heritage-of-eastern-visayas-exhibit-origami-making/
END:VEVENT
BEGIN:VEVENT
DTSTART;TZID=UTC:20230215T100000
DTEND;TZID=UTC:20230715T150000
DTSTAMP:20260422T094916
CREATED:20230209T234351Z
LAST-MODIFIED:20230209T234351Z
UID:7580-1676455200-1689433200@alum.up.edu.ph
SUMMARY:Siday Magnet Poem Workshop
DESCRIPTION:In celebration of National Arts Month this February 2023\, the Leyte Samar Heritage Center is offering the following activities:\n\nPagsalud han Dan-ag han Adlaw / Cupping the Flow of Sunlight (Gleanings from the Natural and Cultural Heritage of Eastern Visayas) Exhibit + Origami-making\nExhibit run: 30 January – 15 July 2023\nGallery hours: Monday – Friday | 10:00 AM – 4:00 PM\n\nBook here [https://forms.gle/Sm9iMDqcyExDhyFd6]\n\nSiday Magnet Poem Workshop\n15 February – 15 July 2023\nWednesdays | 10:00 AM – 3:00 PM\n\nBook here [https://forms.gle/jeRi7uRD3wJ5v6ST7]\n\nVisit us and learn more about the biodiversity\, arts\, and culture of Eastern Visayas!\n\nAdmission is free!\n\n#NationalArtsMonth2023\n#UPTaclobanat50\n\nSource: UPVTC Leyte Samar Heritage Center Facebook
URL:https://alum.up.edu.ph/event/siday-magnet-poem-workshop/
END:VEVENT
BEGIN:VEVENT
DTSTART;VALUE=DATE:20230327
DTEND;VALUE=DATE:20230616
DTSTAMP:20260422T094916
CREATED:20230323T183429Z
LAST-MODIFIED:20230323T183429Z
UID:8922-1679875200-1686873599@alum.up.edu.ph
SUMMARY:UPAA Iloilo Chapter Call for Nominations for the 2023 Outstanding Professional Awards
DESCRIPTION:UPAA ILOILO CHAPTER CALL FOR NOMINATIONS\n\nUPAA Iloilo Chapter Professional Awards:\nMarch 15\, 2023 to June 15\, 2023.\n\nMarch 15\, 2023\nNomination forms available at the Office of Alumni Relations (OAR)/ UPAA Office & FB page\n\nYou can also download nomination forms at:\n\nhttps://docs.google.com/…/1CA7NyTE1Xwc9zsP…/edit…\n\nMarch 27\, 2023 to June 15\, 2023\nSubmission & acceptance of Nomination Forms & documents at the Office of Alumni Relations\n\nFor information & guidance\n\nAtty Shiella Olid\nChairman\nProfessional Award Committee\n\nFor more information:\nPlease contact\nMs @Almera Blando- Facto\n033-3368837\n\nor email at upaa.iloilo@gmail.com\n\nSource: UPAA Iloilo Chapter Facebook
URL:https://alum.up.edu.ph/event/upaa-iloilo-chapter-call-for-nominations-for-the-2023-outstanding-professional-awards/
END:VEVENT
BEGIN:VEVENT
DTSTART;VALUE=DATE:20230417
DTEND;VALUE=DATE:20230523
DTSTAMP:20260422T094916
CREATED:20230320T173526Z
LAST-MODIFIED:20230320T173526Z
UID:8831-1681689600-1684799999@alum.up.edu.ph
SUMMARY:BE THE BIDA: OBLATION CUP ‘23
DESCRIPTION:BE THE BIDA: ANG PAGHAHANDA\n\nBago natin lunukin ang bato ni Darna\, magshapeshift gaya ni Lastikman\, at hugutin ang espada ni Panday\, tumungo muna tayo sa ating OBLATION CUP ‘23 GUIDELINES para sa mga dapat nating malaman bago mag-umpisa ang REGISTRATION PERIOD sa darating na MARSO 22\, 2023 7 PM.\n\nNarito na rin ang CALENDAR OF ACTIVITIES para matukoy kung aling sports events ang hindi maaaring pagsabayin ng ating mga manlalaro. Para naman sa naghahanap ng mga makakasama sa tagisan ng bawat kolehiyo\, narito ang BIDA SHEETS para sainyo!\n\nCAC: https://bit.ly/BidaSheetsCAC\nCS: https://bit.ly/BidaSheetsCS\nCSS: https://bit.ly/BidaSheetsCSS\n\n#BeTheBida #OblationCup2023 #SportsAarangkada\n\nPublication by Gene Carlo Vicente\n\nSource: UP Baguio Facebook
URL:https://alum.up.edu.ph/event/be-the-bida-oblation-cup-23/
END:VEVENT
BEGIN:VEVENT
DTSTART;VALUE=DATE:20230422
DTEND;VALUE=DATE:20230514
DTSTAMP:20260422T094916
CREATED:20230503T173050Z
LAST-MODIFIED:20230503T173050Z
UID:9775-1682121600-1684022399@alum.up.edu.ph
SUMMARY:2023 Extramural Classes for Filipino Language
DESCRIPTION:Image from the Filipino Extramural Classes – UP DFPP Facebook page\nThe UP Diliman Department of Filipino and Philippine Literature will hold the second cycle of the “2023 Extramural Classes for Filipino Language” from May 27 to July 29.\n\nInterested participants may register at https://bit.ly/3UThzD4 until May 13.\n\nSee photo for more details.
URL:https://alum.up.edu.ph/event/2023-extramural-classes-for-filipino-language/
END:VEVENT
BEGIN:VEVENT
DTSTART;VALUE=DATE:20230424
DTEND;VALUE=DATE:20230531
DTSTAMP:20260422T094916
CREATED:20230423T170716Z
LAST-MODIFIED:20230423T170716Z
UID:9391-1682294400-1685491199@alum.up.edu.ph
SUMMARY:Call for Abstracts: 1st International Conference on Entrepreneurship and SME (Small and Medium-sized Enterprises) Development 2023
DESCRIPTION:The UP Diliman (UPD) Institute for Small-Scale Industries (ISSI) is accepting abstracts for the “1st International Conference on Entrepreneurship and SME (Small and Medium-sized Enterprises) Development 2023” until May 30.\n\nWith the theme “Resilience and Relentlessness: Bouncing Back and Leaping Forward\,” the conference will be held from November 28 to 29 at the UPD National College of Public Administration and Governance Assembly Hall.\n\nKnow more about the conference guidelines at bit.ly/icesmed2023 or email the ISSI Research Division at issi.research@up.edu.ph.\n\nVisit https://beta.entrepreneurship.org.ph/…/up-issi…/ for more details.
URL:https://alum.up.edu.ph/event/call-for-abstracts-1st-international-conference-on-entrepreneurship-and-sme-small-and-medium-sized-enterprises-development-2023/
END:VEVENT
BEGIN:VEVENT
DTSTART;VALUE=DATE:20230424
DTEND;VALUE=DATE:20230603
DTSTAMP:20260422T094916
CREATED:20230423T171749Z
LAST-MODIFIED:20230423T171749Z
UID:9411-1682294400-1685750399@alum.up.edu.ph
SUMMARY:Call for Applications: Master of Business Administration
DESCRIPTION:The UP Diliman Cesar E.A. Virata School of Business is now accepting applicants for the Master of Business Administration program for Academic Year 2023-2024.\n\nInterested applicants may submit the application requirements until June 2.\n\nKnow more about the admission requirements and process by visiting https://www.vsb.upd.edu.ph/mba-msfinance-program/admission.
URL:https://alum.up.edu.ph/event/call-for-applications-master-of-business-administration/
END:VEVENT
BEGIN:VEVENT
DTSTART;TZID=UTC:20230424T080000
DTEND;TZID=UTC:20230512T170000
DTSTAMP:20260422T094916
CREATED:20230403T213807Z
LAST-MODIFIED:20230403T213807Z
UID:9138-1682323200-1683910800@alum.up.edu.ph
SUMMARY:Free Laboratory Animal Care and Use Online Course
DESCRIPTION:Organized by the UP Manila Institutional Animal Care and Use Committee\, the Free Basic Laboratory Animal Care and Use Training is an asynchronous and self-paced online course that will be open from April 24 to May 12\, 2023\, for UP Manila faculty\, students\, and staff who are doing or practicing biomedical research in the academe\, government\, and private institution.\n\nThe free basic online course covers topics on animal welfare\, legal bases\, and the institutional animal care and use committee. Certificate of completion will be awarded to participants who complete the online module and pass 70% of the assessment within the given timeframe.\n\nRegister through bit.ly/freeacut23 or scan the QR code found in the poster. Registration will close on April 14\, 2023.\n\nFor more information and other concerns\, kindly contact the IACUC Secretariat at iacuc.upmanila@up.edu.ph.\n\nOffice hours are Monday to Friday from 8:00 AM to 5:00 PM.\n\nOr\, you can visit and follow the Institutional Animal Care and Use Committee UP Manila Facebook page for future activities and services.\n\nSource: University of the Philippines Manila Facebook\n  ·
URL:https://alum.up.edu.ph/event/free-laboratory-animal-care-and-use-online-course/
END:VEVENT
BEGIN:VEVENT
DTSTART;TZID=UTC:20230502T070000
DTEND;TZID=UTC:20230531T173000
DTSTAMP:20260422T094916
CREATED:20230503T175914Z
LAST-MODIFIED:20230503T175914Z
UID:9787-1683010800-1685554200@alum.up.edu.ph
SUMMARY:”Kababaihan: Sa Kasaysayan ng mga Kaisipan"
DESCRIPTION:We are hosting an outdoor exhibit entitled ”Kababaihan: Sa Kasaysayan ng mga Kaisipan.” The exhibit will highlight eight (😎 Filipinas who greatly contributed to Filipino history and culture in their respective fields—women who were able to go beyond the standards set for women during their time and leave important marks in history.\n\nThe exhibit will involve two (2) 6×20 ft murals to be created in partnership with UP Manila Center for Gender and Women Studies UGATLahi Artist Collective\n\nThe mural is currently displayed publicly on the UPM Museum parking lot from May 2 – 31\, 2023\, as the main building is currently closed due to ongoing renovations.\n\nSource: UP Manila – Museum Of A History Of Ideas Facebook
URL:https://alum.up.edu.ph/event/kababaihan-sa-kasaysayan-ng-mga-kaisipan/
END:VEVENT
BEGIN:VEVENT
DTSTART;VALUE=DATE:20230503
DTEND;VALUE=DATE:20230511
DTSTAMP:20260422T094916
CREATED:20230502T164904Z
LAST-MODIFIED:20230502T164904Z
UID:9680-1683072000-1683763199@alum.up.edu.ph
SUMMARY:Call for Papers: International Association of Schools and Institutes of Administration 2023
DESCRIPTION:Image from the International Institute of Administrative Sciences Facebook page\nPublic administration scholars\, practitioners\, and PhD students are invited to submit contributions for the conference “International Association of Schools and Institutes of Administration 2023\,” with the theme “Building Better Futures of Governance towards Achieving the SDGs in a VUCA World.”\n\nThe conference will be held from July 31 to August 4 at UP Diliman.\n\nSubmit abstracts and panels at https://www.conftool.org/iasia-conference2023 until May 10.\n\nFor more information\, visit https://iasia-conference2023.org/.
URL:https://alum.up.edu.ph/event/call-for-papers-international-association-of-schools-and-institutes-of-administration-2023/
END:VEVENT
BEGIN:VEVENT
DTSTART;TZID=UTC:20230505T090000
DTEND;TZID=UTC:20230513T170000
DTSTAMP:20260422T094916
CREATED:20230504T211933Z
LAST-MODIFIED:20230504T212649Z
UID:9832-1683277200-1683997200@alum.up.edu.ph
SUMMARY:"Sala'am Magsukul at Mabuhay!" Mga Piling Pananaw\, Sining at Kultura ng mga Mamamayang Muslim o Moro sa Pilipinas
DESCRIPTION:The gallery invites you to visit these exhibitions and witness the works of Prof. Abraham P. Sakili and Heidi Mendoza.\n\nProfessor Abraham Sakili’s exhibition\, “𝑺𝒂𝒍𝒂’𝒂𝒎 𝑴𝒂𝒈𝒔𝒖𝒌𝒖𝒍 𝒂𝒕 𝑴𝒂𝒃𝒖𝒉𝒂𝒚!” 𝐌𝐠𝐚 𝐏𝐢𝐥𝐢𝐧𝐠 𝐏𝐚𝐧𝐚𝐧𝐚𝐰\, 𝐒𝐢𝐧𝐢𝐧𝐠 𝐚𝐭 𝐊𝐮𝐥𝐭𝐮𝐫𝐚 𝐧𝐠 𝐦𝐠𝐚 𝐌𝐚𝐦𝐚𝐦𝐚𝐲𝐚𝐧𝐠 𝐌𝐮𝐬𝐥𝐢𝐦 𝐨 𝐌𝐨𝐫𝐨 𝐬𝐚 𝐏𝐢𝐥𝐢𝐩𝐢𝐧𝐚𝐬 opens this Friday\, May 5\, 4 PM at the Plenary Hall. Dr. Sakili is a retired professor from the UP Department of Art Studies\, College of Arts and Letters. This exhibit shares his expertise in Muslim Art through paintings\, artifacts\, and writings.\n\n𝗟𝗮𝗸𝗮𝘀 𝗟𝗼𝗼𝗯: 𝗔 𝗦𝗼𝗹𝗼 𝗔𝗿𝘁 𝗘𝘅𝗵𝗶𝗯𝗶𝘁 𝗼𝗳 𝗛𝗘𝗜𝗗𝗜 𝗠𝗘𝗡𝗗𝗢𝗭𝗔\, former Undersecretary General for United Nations Office of Internal Oversight and former Commissioner of Commission of Audit. The launching program is on May 9\, 2023\, 10:00 AM at the UP Fine Arts Gallery\, Gallery Two.\n\nSource: UP Fine Arts Gallery Facebook
URL:https://alum.up.edu.ph/event/prof-abraham-p-sakilis-exhibition/
END:VEVENT
BEGIN:VEVENT
DTSTART;TZID=UTC:20230506T070000
DTEND;TZID=UTC:20230506T210000
DTSTAMP:20260422T094916
CREATED:20230315T005112Z
LAST-MODIFIED:20230504T180153Z
UID:8555-1683356400-1683406800@alum.up.edu.ph
SUMMARY:UP Baguio ALUMNI HOMECOMING
DESCRIPTION:EXCITED KA NA BA NA UMUWI SA U.P. BAGUIO SA MAYO 6\, 2023?\nKITA-KITS PO TAYO SA ATING ALUMNI HOMECOMING.\nPa-share po sa mga taga UP Baguio pips.\nPakibasa po at sundan ang mga susunod na detalye:\n\nREGISTRATION DETAILS:\nTo register for the event\, please follow these simple steps:\n\n1. Click on this registration link: https://forms.gle/g1RHE1qj81cfLah47\n\n2. Fill out the registration form with your details\, including your name\, contact information\, and preferred attendance option.\n\n3. Please pay your registration fee through bank deposit\, transfer\, or G-cash.\n\n4. Email your proof of payment or transaction to upaabaguionorthernluzon@gmail.com.\n\nONCE YOU HAVE COMPLETED THESE STEPS\, YOU WILL RECEIVE A CONFIRMATION EMAIL WITH YOUR REGISTRATION DETAILS AND A RECEIPT FOR YOUR PAYMENT.\n\nUPB College of Arts and Communication\nUPB College of Science\nUPB College of Social Sciences\n\nSource: University of the Philippines Baguio Facebook
URL:https://alum.up.edu.ph/event/up-baguio-alumni-homecoming/
END:VEVENT
BEGIN:VEVENT
DTSTART;TZID=UTC:20230506T080000
DTEND;TZID=UTC:20230506T120000
DTSTAMP:20260422T094916
CREATED:20230424T171346Z
LAST-MODIFIED:20230424T171346Z
UID:9486-1683360000-1683374400@alum.up.edu.ph
SUMMARY:BLOOD SPARKS FOR LIFE: A Blood Letting Event
DESCRIPTION:JOIN US in the BLOOD SPARKS FOR LIFE–A Blood Letting Event on May 6\, 2023\, 8:00 a.m. -12 NN at the UP Baguio Lobby brought to you by UP Alumni Association Baguio-Northern Luzon Chapter with UP Scintilla Juris and Philippine Red Cross-Baguio City.\n\nThis activity is part of “Pauwi sa Atin\,” UP Baguio Alumni Homecoming 2023.\n\nSEE YOU ALL!\n\nSource: University of the Philippines Baguio Facebook
URL:https://alum.up.edu.ph/event/blood-sparks-for-life-a-blood-letting-event/
END:VEVENT
BEGIN:VEVENT
DTSTART;TZID=UTC:20230506T120000
DTEND;TZID=UTC:20230506T130000
DTSTAMP:20260422T094916
CREATED:20230425T161834Z
LAST-MODIFIED:20230425T161834Z
UID:9539-1683374400-1683378000@alum.up.edu.ph
SUMMARY:The Informally Employed in the Philippines: Issues in Security of Tenure\, Social Security Coverage and Measurement
DESCRIPTION:Image from SOLAIR Facebook page\nEveryone is invited to the seminar “The Informally Employed in the Philippines: Issues in Security of Tenure\, Social Security Coverage and Measurement” on May 6\, Saturday\, 12-1 p.m.\, at the Lobby of the UP Diliman School of Labor and Industrial Relations (SOLAIR) New Building.\n\nThe resource speaker is Emily Christi A. Cabegin\, PhD\, a professor at SOLAIR.\n\nThe event is organized by the Center for Labor Justice of SOLAIR as part of its “4th Research Dissemination Seminar.”
URL:https://alum.up.edu.ph/event/the-informally-employed-in-the-philippines-issues-in-security-of-tenure-social-security-coverage-and-measurement/
END:VEVENT
BEGIN:VEVENT
DTSTART;TZID=UTC:20230506T180000
DTEND;TZID=UTC:20230506T210000
DTSTAMP:20260422T094916
CREATED:20230504T175822Z
LAST-MODIFIED:20230504T175822Z
UID:9815-1683396000-1683406800@alum.up.edu.ph
SUMMARY:UP Baguio Alumni Homecoming Gala
DESCRIPTION:“Far land\, whenever we go\, the feelings won’t change… ”\n-U.P. Naming Mahal\n\nOn the evening of May 6\, 2023 at 456 Le Grande Hotel\, Legarda\, Baguio City\, we will honor this year’s selected Outstanding Alumni. Let us congratulate the awardees who continue to display Honor and Excellence in their profession. Let us also thank them for their continued service to the country.\n\nThe Scholar of the Nation who came from the University of the Philippines Baguio is really different.\n\nSource: University of the Philippines Baguio Facebook
URL:https://alum.up.edu.ph/event/up-baguio-alumni-homecoming-gala/
END:VEVENT
END:VCALENDAR