BEGIN:VCALENDAR
VERSION:2.0
PRODID:-//UP Alumni Website - ECPv6.15.16//NONSGML v1.0//EN
CALSCALE:GREGORIAN
METHOD:PUBLISH
X-WR-CALNAME:UP Alumni Website
X-ORIGINAL-URL:https://alum.up.edu.ph
X-WR-CALDESC:Events for UP Alumni Website
REFRESH-INTERVAL;VALUE=DURATION:PT1H
X-Robots-Tag:noindex
X-PUBLISHED-TTL:PT1H
BEGIN:VTIMEZONE
TZID:UTC
BEGIN:STANDARD
TZOFFSETFROM:+0000
TZOFFSETTO:+0000
TZNAME:UTC
DTSTART:20220101T000000
END:STANDARD
END:VTIMEZONE
BEGIN:VEVENT
DTSTART;TZID=UTC:20230130T100000
DTEND;TZID=UTC:20230715T160000
DTSTAMP:20260422T110125
CREATED:20230209T234249Z
LAST-MODIFIED:20230209T234249Z
UID:7577-1675072800-1689436800@alum.up.edu.ph
SUMMARY:Pagsalud han Dan-ag han Adlaw / Cupping the Flow of Sunlight (Gleanings from the Natural and Cultural Heritage of Eastern Visayas) Exhibit + Origami-making
DESCRIPTION:In celebration of National Arts Month this February 2023\, the Leyte Samar Heritage Center is offering the following activities:\n\nPagsalud han Dan-ag han Adlaw / Cupping the Flow of Sunlight (Gleanings from the Natural and Cultural Heritage of Eastern Visayas) Exhibit + Origami-making\nExhibit run: 30 January – 15 July 2023\nGallery hours: Monday – Friday | 10:00 AM – 4:00 PM\n\nBook here [https://forms.gle/Sm9iMDqcyExDhyFd6]\n\nSiday Magnet Poem Workshop\n15 February – 15 July 2023\nWednesdays | 10:00 AM – 3:00 PM\n\nBook here [https://forms.gle/jeRi7uRD3wJ5v6ST7]\n\nVisit us and learn more about the biodiversity\, arts\, and culture of Eastern Visayas!\n\nAdmission is free!\n\n#NationalArtsMonth2023\n#UPTaclobanat50\n\nSource: UPVTC Leyte Samar Heritage Center Facebook
URL:https://alum.up.edu.ph/event/pagsalud-han-dan-ag-han-adlaw-cupping-the-flow-of-sunlight-gleanings-from-the-natural-and-cultural-heritage-of-eastern-visayas-exhibit-origami-making/
END:VEVENT
BEGIN:VEVENT
DTSTART;TZID=UTC:20230215T100000
DTEND;TZID=UTC:20230715T150000
DTSTAMP:20260422T110125
CREATED:20230209T234351Z
LAST-MODIFIED:20230209T234351Z
UID:7580-1676455200-1689433200@alum.up.edu.ph
SUMMARY:Siday Magnet Poem Workshop
DESCRIPTION:In celebration of National Arts Month this February 2023\, the Leyte Samar Heritage Center is offering the following activities:\n\nPagsalud han Dan-ag han Adlaw / Cupping the Flow of Sunlight (Gleanings from the Natural and Cultural Heritage of Eastern Visayas) Exhibit + Origami-making\nExhibit run: 30 January – 15 July 2023\nGallery hours: Monday – Friday | 10:00 AM – 4:00 PM\n\nBook here [https://forms.gle/Sm9iMDqcyExDhyFd6]\n\nSiday Magnet Poem Workshop\n15 February – 15 July 2023\nWednesdays | 10:00 AM – 3:00 PM\n\nBook here [https://forms.gle/jeRi7uRD3wJ5v6ST7]\n\nVisit us and learn more about the biodiversity\, arts\, and culture of Eastern Visayas!\n\nAdmission is free!\n\n#NationalArtsMonth2023\n#UPTaclobanat50\n\nSource: UPVTC Leyte Samar Heritage Center Facebook
URL:https://alum.up.edu.ph/event/siday-magnet-poem-workshop/
END:VEVENT
BEGIN:VEVENT
DTSTART;VALUE=DATE:20230327
DTEND;VALUE=DATE:20230616
DTSTAMP:20260422T110125
CREATED:20230323T183429Z
LAST-MODIFIED:20230323T183429Z
UID:8922-1679875200-1686873599@alum.up.edu.ph
SUMMARY:UPAA Iloilo Chapter Call for Nominations for the 2023 Outstanding Professional Awards
DESCRIPTION:UPAA ILOILO CHAPTER CALL FOR NOMINATIONS\n\nUPAA Iloilo Chapter Professional Awards:\nMarch 15\, 2023 to June 15\, 2023.\n\nMarch 15\, 2023\nNomination forms available at the Office of Alumni Relations (OAR)/ UPAA Office & FB page\n\nYou can also download nomination forms at:\n\nhttps://docs.google.com/…/1CA7NyTE1Xwc9zsP…/edit…\n\nMarch 27\, 2023 to June 15\, 2023\nSubmission & acceptance of Nomination Forms & documents at the Office of Alumni Relations\n\nFor information & guidance\n\nAtty Shiella Olid\nChairman\nProfessional Award Committee\n\nFor more information:\nPlease contact\nMs @Almera Blando- Facto\n033-3368837\n\nor email at upaa.iloilo@gmail.com\n\nSource: UPAA Iloilo Chapter Facebook
URL:https://alum.up.edu.ph/event/upaa-iloilo-chapter-call-for-nominations-for-the-2023-outstanding-professional-awards/
END:VEVENT
BEGIN:VEVENT
DTSTART;VALUE=DATE:20230417
DTEND;VALUE=DATE:20230523
DTSTAMP:20260422T110125
CREATED:20230320T173526Z
LAST-MODIFIED:20230320T173526Z
UID:8831-1681689600-1684799999@alum.up.edu.ph
SUMMARY:BE THE BIDA: OBLATION CUP ‘23
DESCRIPTION:BE THE BIDA: ANG PAGHAHANDA\n\nBago natin lunukin ang bato ni Darna\, magshapeshift gaya ni Lastikman\, at hugutin ang espada ni Panday\, tumungo muna tayo sa ating OBLATION CUP ‘23 GUIDELINES para sa mga dapat nating malaman bago mag-umpisa ang REGISTRATION PERIOD sa darating na MARSO 22\, 2023 7 PM.\n\nNarito na rin ang CALENDAR OF ACTIVITIES para matukoy kung aling sports events ang hindi maaaring pagsabayin ng ating mga manlalaro. Para naman sa naghahanap ng mga makakasama sa tagisan ng bawat kolehiyo\, narito ang BIDA SHEETS para sainyo!\n\nCAC: https://bit.ly/BidaSheetsCAC\nCS: https://bit.ly/BidaSheetsCS\nCSS: https://bit.ly/BidaSheetsCSS\n\n#BeTheBida #OblationCup2023 #SportsAarangkada\n\nPublication by Gene Carlo Vicente\n\nSource: UP Baguio Facebook
URL:https://alum.up.edu.ph/event/be-the-bida-oblation-cup-23/
END:VEVENT
BEGIN:VEVENT
DTSTART;VALUE=DATE:20230424
DTEND;VALUE=DATE:20230531
DTSTAMP:20260422T110125
CREATED:20230423T170716Z
LAST-MODIFIED:20230423T170716Z
UID:9391-1682294400-1685491199@alum.up.edu.ph
SUMMARY:Call for Abstracts: 1st International Conference on Entrepreneurship and SME (Small and Medium-sized Enterprises) Development 2023
DESCRIPTION:The UP Diliman (UPD) Institute for Small-Scale Industries (ISSI) is accepting abstracts for the “1st International Conference on Entrepreneurship and SME (Small and Medium-sized Enterprises) Development 2023” until May 30.\n\nWith the theme “Resilience and Relentlessness: Bouncing Back and Leaping Forward\,” the conference will be held from November 28 to 29 at the UPD National College of Public Administration and Governance Assembly Hall.\n\nKnow more about the conference guidelines at bit.ly/icesmed2023 or email the ISSI Research Division at issi.research@up.edu.ph.\n\nVisit https://beta.entrepreneurship.org.ph/…/up-issi…/ for more details.
URL:https://alum.up.edu.ph/event/call-for-abstracts-1st-international-conference-on-entrepreneurship-and-sme-small-and-medium-sized-enterprises-development-2023/
END:VEVENT
BEGIN:VEVENT
DTSTART;VALUE=DATE:20230424
DTEND;VALUE=DATE:20230603
DTSTAMP:20260422T110125
CREATED:20230423T171749Z
LAST-MODIFIED:20230423T171749Z
UID:9411-1682294400-1685750399@alum.up.edu.ph
SUMMARY:Call for Applications: Master of Business Administration
DESCRIPTION:The UP Diliman Cesar E.A. Virata School of Business is now accepting applicants for the Master of Business Administration program for Academic Year 2023-2024.\n\nInterested applicants may submit the application requirements until June 2.\n\nKnow more about the admission requirements and process by visiting https://www.vsb.upd.edu.ph/mba-msfinance-program/admission.
URL:https://alum.up.edu.ph/event/call-for-applications-master-of-business-administration/
END:VEVENT
BEGIN:VEVENT
DTSTART;TZID=UTC:20230502T070000
DTEND;TZID=UTC:20230531T173000
DTSTAMP:20260422T110125
CREATED:20230503T175914Z
LAST-MODIFIED:20230503T175914Z
UID:9787-1683010800-1685554200@alum.up.edu.ph
SUMMARY:”Kababaihan: Sa Kasaysayan ng mga Kaisipan"
DESCRIPTION:We are hosting an outdoor exhibit entitled ”Kababaihan: Sa Kasaysayan ng mga Kaisipan.” The exhibit will highlight eight (😎 Filipinas who greatly contributed to Filipino history and culture in their respective fields—women who were able to go beyond the standards set for women during their time and leave important marks in history.\n\nThe exhibit will involve two (2) 6×20 ft murals to be created in partnership with UP Manila Center for Gender and Women Studies UGATLahi Artist Collective\n\nThe mural is currently displayed publicly on the UPM Museum parking lot from May 2 – 31\, 2023\, as the main building is currently closed due to ongoing renovations.\n\nSource: UP Manila – Museum Of A History Of Ideas Facebook
URL:https://alum.up.edu.ph/event/kababaihan-sa-kasaysayan-ng-mga-kaisipan/
END:VEVENT
BEGIN:VEVENT
DTSTART;TZID=UTC:20230509T080000
DTEND;TZID=UTC:20230630T180000
DTSTAMP:20260422T110125
CREATED:20230509T212816Z
LAST-MODIFIED:20230509T212827Z
UID:9910-1683619200-1688148000@alum.up.edu.ph
SUMMARY:IMPRINTED IN THE WATER: A Solo Exhibit of NICOLEI BUENDIA GUPIT
DESCRIPTION:IMPRINTED IN THE WATER\n\nA Solo Exhibit of\nNICOLEI BUENDIA GUPIT\n\nSINING MAKILING GALLERY\nD.L. Umali Hall\, UPLB\n\nOpening on 9 May 2023\nExhibit runs until 30 June 2023\n\n————————-\n\nInspired by her surroundings in Los Baños\, Laguna\, Nicolei Buendia Gupit presents to us in her third solo show\, Imprinted in the Water\, a range of mediums and processes that highlight the impact of human activities on water resources.\n\nBy using prints of man-made objects\, Gupit highlights the ways in which we have come to rely on water resources for our own needs\, often at the expense of the environment and other human and non-human life. The wet pigment that she uses to dye her surfaces suggests the fluidity and mutability of water\, and the need for us to consider our effect on this vital resource. Its subdued palette emanates an ominous atmosphere that conveys the gloomy reality we face. Connecting this with images of marine life skeletons\, she concocts impressions of the devastating ramifications of pollution and overfishing on aquatic ecosystems. Uprooted trees hint at the destruction of natural habitats\, while flaky tin roofs allude to the consequences of climate change and natural disasters in the lives of marginalized Filipinos yearly. She also incorporates bottle-shaped resin works that carry paper money inside them—probing pieces that challenge viewers to consider the value we place on water and the attendant effects of its privatization.\n\nThrough her artworks\, Gupit challenges viewers to consider their own relationship with water and the ways in which our actions can have far-reaching consequences. She invites us to think about the imprint that we are leaving on the natural world\, and to consider how we might work to create a more sustainable and equitable future for all. (Omen)\n\nSource: UPLB Office for Initiatives in Culture and the Arts Facebook
URL:https://alum.up.edu.ph/event/imprinted-in-the-water/
END:VEVENT
BEGIN:VEVENT
DTSTART;TZID=UTC:20230512T090000
DTEND;TZID=UTC:20230531T180000
DTSTAMP:20260422T110125
CREATED:20230514T175825Z
LAST-MODIFIED:20230514T175825Z
UID:10069-1683882000-1685556000@alum.up.edu.ph
SUMMARY:“Kinutil: A Tribute Show Honoring Prof. Raymund Fernandez”
DESCRIPTION:The exhibition features more than seventy pieces of artwork created by former fine art students of Prof. Fernandez. The exhibition pays homage to his artistic vision and dedication\, opening new directions for Cebuano art to thrive.
URL:https://alum.up.edu.ph/event/kinutil-a-tribute-show-honoring-prof-raymund-fernandez/
END:VEVENT
BEGIN:VEVENT
DTSTART;TZID=UTC:20230515T080000
DTEND;TZID=UTC:20230521T200000
DTSTAMP:20260422T110125
CREATED:20230510T171041Z
LAST-MODIFIED:20230510T171041Z
UID:9941-1684137600-1684699200@alum.up.edu.ph
SUMMARY:BarriOSHFiesta 2023: The UP Diliman Residence Halls Festival
DESCRIPTION:Image from OSH Facebook page\nThe UP Diliman Office of Student Housing (OSH) released the schedule of activities for the “BarriOSHFiesta 2023: The UP Diliman Residence Halls Festival” which will be held from May 15 to 21.\n\nSee photo for more details.\n \nFor updates\, visit the OSH Facebook page.
URL:https://alum.up.edu.ph/event/barrioshfiesta-2023-the-up-diliman-residence-halls-festival/
END:VEVENT
BEGIN:VEVENT
DTSTART;TZID=UTC:20230515T130000
DTEND;TZID=UTC:20230526T170000
DTSTAMP:20260422T110125
CREATED:20230425T164039Z
LAST-MODIFIED:20230425T164039Z
UID:9555-1684155600-1685120400@alum.up.edu.ph
SUMMARY:UP Manila HOPE Course
DESCRIPTION:𝐑𝐞𝐠𝐢𝐬𝐭𝐫𝐚𝐭𝐢𝐨𝐧 𝐢𝐬 𝐧𝐨𝐰 𝐨𝐩𝐞𝐧 𝐟𝐨𝐫 𝐭𝐡𝐞 𝐇𝐎𝐏𝐄 𝐂𝐨𝐮𝐫𝐬𝐞! 𝐓𝐡𝐞 𝐧𝐞𝐱𝐭 𝐛𝐚𝐭𝐜𝐡 𝐟𝐨𝐫 𝐭𝐡𝐢𝐬 𝐲𝐞𝐚𝐫 𝐰𝐢𝐥𝐥 𝐛𝐞 𝐨𝐧 𝐌𝐚𝐲 𝟏𝟓-𝟐𝟔\, 𝟐𝟎𝟐𝟑\, 𝐟𝐫𝐨𝐦 𝟏 𝐏𝐌 𝐭𝐨 𝟓 𝐏𝐌 𝐝𝐚𝐢𝐥𝐲. 𝐓𝐡𝐢𝐬 𝐛𝐚𝐭𝐜𝐡 𝐡𝐚𝐬 𝟏𝟓𝟎 𝐂𝐌𝐄 𝐮𝐧𝐢𝐭𝐬 𝐠𝐫𝐚𝐧𝐭𝐞𝐝 𝐛𝐲 𝐭𝐡𝐞 𝐏𝐡𝐢𝐥𝐢𝐩𝐩𝐢𝐧𝐞 𝐂𝐨𝐥𝐥𝐞𝐠𝐞 𝐨𝐟 𝐄𝐦𝐞𝐫𝐠𝐞𝐧𝐜𝐲 𝐌𝐞𝐝𝐢𝐜𝐢𝐧𝐞 (𝐏𝐂𝐄𝐌).\n\nScan the QR code below\, or visit bit.ly/UPMHOPE to register.\n\nThe monthly schedule for this year is indicated below\, along with the answers to some of the frequently asked questions.\n\nHospital Preparedness for Emergencies (HOPE) is a course of the Program for Enhancement of Emergency Response that was developed by the United States Agency for International Development through its Office of U.S. Foreign Disaster Assistance in collaboration with the Asian Disaster Preparedness Center\, John Hopkins University\, National Society for Earthquake Technology-Nepal\, and a team of leading experts from the Asia Pacific region.\n\nThe course has been tested and delivered in Bangladesh\, Indonesia\, Nepal\, and the Philippines. A certificate that contains the logo of the Asian Disaster Preparedness Center: Program for Enhancement of Emergency Response will be handed to each participant after finishing the course.\n\nFor more information\, kindly refer to this link: https://bit.ly/3EIETvI.\n\nFor more inquiries\, kindly send us an email at upm-drrmh-list@up.edu.ph or ping us on Messenger.\n\nSource: UP Manila DRRM – H Center Facebook
URL:https://alum.up.edu.ph/event/up-manila-hope-course/
END:VEVENT
BEGIN:VEVENT
DTSTART;VALUE=DATE:20230517
DTEND;VALUE=DATE:20230829
DTSTAMP:20260422T110125
CREATED:20230516T164230Z
LAST-MODIFIED:20230516T164230Z
UID:10095-1684281600-1693267199@alum.up.edu.ph
SUMMARY:Call for Papers: HanPil: Studies on Korea and the Philippines\, Vol. 7
DESCRIPTION:Image from the KRC Facebook page\nThe UP Korea Research Center is accepting contributions for the “HanPil: Studies on Korea and the Philippines\, Vol. 7 (2024)” until August 28\, Monday\, 11:59 p.m.\n\nSubmit manuscripts\, with subject heading “2023 HanPil Submission – (Author’s Full Name)\,” at pkrc@up.edu.ph.\n\nKnow more about the submission guidelines at https://bit.ly/HanPil2023.\n\nSee photo for more details.
URL:https://alum.up.edu.ph/event/call-for-papers-hanpil-studies-on-korea-and-the-philippines-vol-7/
END:VEVENT
BEGIN:VEVENT
DTSTART;TZID=UTC:20230520T070000
DTEND;TZID=UTC:20230520T183000
DTSTAMP:20260422T110125
CREATED:20230515T172427Z
LAST-MODIFIED:20230515T172427Z
UID:10081-1684566000-1684607400@alum.up.edu.ph
SUMMARY:Pharmacy Seminar 2023
DESCRIPTION:Attention all pharmacy enthusiasts! We are thrilled to invite you to an upcoming seminar on contemporary pharmacy and health topics presented by senior students from the UP College of Pharmacy.\n\nThis seminar will provide you with an opportunity to learn about the latest developments in pharmacy research and practice. The senior students will be sharing their insights based on their systematic review of literature\, making this a valuable opportunity for those seeking to stay up-to-date in the field.\n\nThe seminar will take place at the Emilio T. Yap Auditorium of the UP College of Pharmacy on May 20\, 2023 from 7:00-6:30pm. You are free to attend any session that interest you. Don’t miss out on this unique opportunity to engage with our next generation of young professionals and learn about the most recent developments in pharmacy.\n\nRegister now to secure your spot at this exciting event. Please register using this link http://bit.ly/PharmSem23.\n\nWe look forward to seeing you there!\n\nSource: UP College of Pharmacy Facebook
URL:https://alum.up.edu.ph/event/pharmacy-seminar-2023/
END:VEVENT
BEGIN:VEVENT
DTSTART;TZID=UTC:20230520T090000
DTEND;TZID=UTC:20230520T120000
DTSTAMP:20260422T110125
CREATED:20230510T171721Z
LAST-MODIFIED:20230510T171721Z
UID:9948-1684573200-1684584000@alum.up.edu.ph
SUMMARY:Project KALAKALikasan
DESCRIPTION:The next recyclables and single-use plastics drop-off and collection drive of the UP Diliman (UPD) Environmental Management Office (DEMO) will be held on May 20\, Saturday\, 9 a.m.-12 p.m.\, at J.P. Laurel corner Roces St.\, UPD Campus.\n\nThis is part of Project KALAKALikasan\, a monthly recyclables and single-use plastics collection drive. It is organized by DEMO\, in partnership with the Quezon City Environment Multi-purpose Cooperative\, Inc.\n\nSee photos or visit bit.ly/3UF3SWY for more details.\n\nFor inquiries\, email demo.updiliman@up.edu.ph or call 8981 8500 local 4272.
URL:https://alum.up.edu.ph/event/project-kalakalikasan-3/
END:VEVENT
BEGIN:VEVENT
DTSTART;TZID=UTC:20230520T090000
DTEND;TZID=UTC:20230520T120000
DTSTAMP:20260422T110125
CREATED:20230518T190026Z
LAST-MODIFIED:20230518T191349Z
UID:10218-1684573200-1684584000@alum.up.edu.ph
SUMMARY:Junior Scholars Symposium on Public International Law
DESCRIPTION:Everyone is invited to watch via Facebook Live at facebook.com/uplawofficial.\nEvent 1. Junior Scholars Symposium on Public International Law\nSession 1. 20 May 2023\, Saturday\, UP Bonifacio Global City\nSession 2. 21 May 2023\, Sunday\, Bicol University (BU)\, Legazpi City\n\nThirty Juris Doctor (JD) students from UP Law and BU Law will present their case-studies on how rules of Public International Law under the Hague Conventions on apostille\, service of documents abroad\, child abduction\, adoption\, and child support\, have been domesticated into the Philippine legal system as Philippine legal rules that may be applied in Philippine cases.\n\nDownload the Book of Abstracts of case-studies\nhttps://uplaw.ph/pil2022s2abstracts\n\nView the 30-second teaser video clips for the case studies\nhttps://drive.google.com/…/1EMSBh3IZFh2RCPUbFxJ…/view…\n\nEvent 2. Junior Scholars Symposium on Private International Law\n10 June 2023\, Saturday\, UP Bonifacio Global City\n\nForty JD students from UP Law will present their case-studies on how foreign legal rights and obligations\, normally not recognized under Philippine law (e.g.\, right to divorce\, right to have a child through a surrogate\, right to enter into same-sex marriage\, right of same-sex spouses to jointly adopt or have joint child custody) may be enforced in Philippine cases through rules of Private International Law under the five Hague Conventions.\n\nSource: University of the Philippines College of Law Facebook
URL:https://alum.up.edu.ph/event/junior-scholars-symposium-on-public-international-law/
END:VEVENT
BEGIN:VEVENT
DTSTART;TZID=UTC:20230520T100000
DTEND;TZID=UTC:20230520T120000
DTSTAMP:20260422T110125
CREATED:20230516T203320Z
LAST-MODIFIED:20230516T203320Z
UID:10110-1684576800-1684584000@alum.up.edu.ph
SUMMARY:"Parched earth\, ardent spring" (Printmaking Talks and Demo)
DESCRIPTION:Collateral activities\n“Parched earth\, ardent spring”\n1/F Galleries\nUP Vargas Museum\n\nThe public is invited to attend the free online and onsite activities in line for the exhibition “Parched earth\, ardent spring.” Presented by the UP Vargas Museum together with Tin-aw Art Projects\, Filipino artists and printmakers Virgilio “Pandy” Aviado\, Diana Aviado\, and Rey Concepción will share their experiences and practices as printmakers. Pre-registration is required\, go to bit.ly/UPVMprint (case-sensitive); slots for all activities are limited.\n\nOn 20 May 2023 (Saturday)\, 10:00 a.m. Virgilio “Pandy” Aviado and Diana Aviado of Atelier Aviado will talk about the history of printmaking in the Philippines\, and demonstrate woodcut printing. Select participants will be able to make their own prints.\nOn 26 May 2023 (Friday)\, University of the Philippines College of Fine Arts Professor Rey “Ser Rey” Concepción will discuss the art of serigraphy followed by a demonstration of techniques associated with the art form. Two sessions will happen at 10:00-11:30 a.m. and 2:30-4:00 p.m.\n\nAbout the artists\n\nVirgilio “Pandy” Aviado is a renowned figure in fine printmaking. He mentors young printmakers and advocates for the development of the art of fine print. He was the President of the Art Association of the Philippines and Director of the Cultural Center of the Philippines Visual Arts Coordinating Center which allowed him to advocate for Philippine contemporary art on a global scale\, alongside setting up permanent workshops across the country.\nRey Concepción is an Associate Professor at the College of Fine Arts\, University of the Philippines. He has a Masters of Fine Art with a focus on serigraphy from the Pratt Institute in New York City. His practice centers on art education as a teacher of printmaking.\n“Parched earth\, ardent spring” will be on view at the 1/F Galleries of the UP Vargas Museum from 11 May to 7 June 2023. Write the vargasmuseum@up.edu.ph for details and related information. Walk-in visits are allowed. Guided tours may be requested using the “Book Now” tool on the museum’s Facebook Page @vargasmuseum.upd\, or reach out via Instagram @upvargasmuseum or email. The museum is located within the University of the Philippines Diliman Campus and is open from Tuesdays to Saturdays except holidays\, 9:00 a.m. to 5:00 p.m. For updates on events\, exhibitions\, and advisories check our socials on Facebook\, Instagram\, or Twitter @upvargasmuseum. Our website is https://vargasmuseum.org.\n\nSource: UP Vargas Museum Facebook
URL:https://alum.up.edu.ph/event/parched-earth-ardent-spring-printmaking-talks-and-demo/
END:VEVENT
BEGIN:VEVENT
DTSTART;TZID=UTC:20230520T130000
DTEND;TZID=UTC:20230520T160000
DTSTAMP:20260422T110125
CREATED:20230518T174715Z
LAST-MODIFIED:20230518T174715Z
UID:10215-1684587600-1684598400@alum.up.edu.ph
SUMMARY:UP Mindanao Urban and Regional Planning Graduate Program 2023 Research Colloquium
DESCRIPTION:2023 Research Colloquium\n1:00 – 4:00 PM 20 May 2023\n\nU.P. Mindanao Library Theater (LEMITO) and through Zoom\nhttps://up-edu.zoom.us/j/93227256727\n(Meeting ID: 932 2725 6727; Passcode: UPMINMAURP)\n\nPlease feel free to share!\n\nSource: UP Mindanao Urban and Regional Planning Graduate Program Facebook
URL:https://alum.up.edu.ph/event/up-mindanao-urban-and-regional-planning-graduate-program-2023-research-colloquium/
END:VEVENT
BEGIN:VEVENT
DTSTART;TZID=UTC:20230520T190000
DTEND;TZID=UTC:20230520T200000
DTSTAMP:20260422T110125
CREATED:20230517T180825Z
LAST-MODIFIED:20230517T180825Z
UID:10141-1684609200-1684612800@alum.up.edu.ph
SUMMARY:UP Manila NBS Continuity Clinics
DESCRIPTION:Saving newborns from mental retardation and early death doesn’t stop with screening and diagnosis. The long-term follow-up of patients is needed to ensure they are given the appropriate treatment and care management. This Saturday at Cignal TV channel 101 or Youtube.com/@TVUPPh\, let’s look into the roles of NBS Continuity Clinics (NBSCCs) and the Centers for Human Genetic Services (CHGS) in the continuity of care for confirmed patients of the NBS program.\n\nSource: Newborn Screening Society of the Philippines\, Inc. Facebook
URL:https://alum.up.edu.ph/event/up-manila-nbs-continuity-clinics/
END:VEVENT
END:VCALENDAR