BEGIN:VCALENDAR
VERSION:2.0
PRODID:-//UP Alumni Website - ECPv6.15.16//NONSGML v1.0//EN
CALSCALE:GREGORIAN
METHOD:PUBLISH
X-WR-CALNAME:UP Alumni Website
X-ORIGINAL-URL:https://alum.up.edu.ph
X-WR-CALDESC:Events for UP Alumni Website
REFRESH-INTERVAL;VALUE=DURATION:PT1H
X-Robots-Tag:noindex
X-PUBLISHED-TTL:PT1H
BEGIN:VTIMEZONE
TZID:UTC
BEGIN:STANDARD
TZOFFSETFROM:+0000
TZOFFSETTO:+0000
TZNAME:UTC
DTSTART:20220101T000000
END:STANDARD
END:VTIMEZONE
BEGIN:VEVENT
DTSTART;TZID=UTC:20230130T100000
DTEND;TZID=UTC:20230715T160000
DTSTAMP:20260422T101014
CREATED:20230209T234249Z
LAST-MODIFIED:20230209T234249Z
UID:7577-1675072800-1689436800@alum.up.edu.ph
SUMMARY:Pagsalud han Dan-ag han Adlaw / Cupping the Flow of Sunlight (Gleanings from the Natural and Cultural Heritage of Eastern Visayas) Exhibit + Origami-making
DESCRIPTION:In celebration of National Arts Month this February 2023\, the Leyte Samar Heritage Center is offering the following activities:\n\nPagsalud han Dan-ag han Adlaw / Cupping the Flow of Sunlight (Gleanings from the Natural and Cultural Heritage of Eastern Visayas) Exhibit + Origami-making\nExhibit run: 30 January – 15 July 2023\nGallery hours: Monday – Friday | 10:00 AM – 4:00 PM\n\nBook here [https://forms.gle/Sm9iMDqcyExDhyFd6]\n\nSiday Magnet Poem Workshop\n15 February – 15 July 2023\nWednesdays | 10:00 AM – 3:00 PM\n\nBook here [https://forms.gle/jeRi7uRD3wJ5v6ST7]\n\nVisit us and learn more about the biodiversity\, arts\, and culture of Eastern Visayas!\n\nAdmission is free!\n\n#NationalArtsMonth2023\n#UPTaclobanat50\n\nSource: UPVTC Leyte Samar Heritage Center Facebook
URL:https://alum.up.edu.ph/event/pagsalud-han-dan-ag-han-adlaw-cupping-the-flow-of-sunlight-gleanings-from-the-natural-and-cultural-heritage-of-eastern-visayas-exhibit-origami-making/
END:VEVENT
BEGIN:VEVENT
DTSTART;TZID=UTC:20230215T100000
DTEND;TZID=UTC:20230715T150000
DTSTAMP:20260422T101014
CREATED:20230209T234351Z
LAST-MODIFIED:20230209T234351Z
UID:7580-1676455200-1689433200@alum.up.edu.ph
SUMMARY:Siday Magnet Poem Workshop
DESCRIPTION:In celebration of National Arts Month this February 2023\, the Leyte Samar Heritage Center is offering the following activities:\n\nPagsalud han Dan-ag han Adlaw / Cupping the Flow of Sunlight (Gleanings from the Natural and Cultural Heritage of Eastern Visayas) Exhibit + Origami-making\nExhibit run: 30 January – 15 July 2023\nGallery hours: Monday – Friday | 10:00 AM – 4:00 PM\n\nBook here [https://forms.gle/Sm9iMDqcyExDhyFd6]\n\nSiday Magnet Poem Workshop\n15 February – 15 July 2023\nWednesdays | 10:00 AM – 3:00 PM\n\nBook here [https://forms.gle/jeRi7uRD3wJ5v6ST7]\n\nVisit us and learn more about the biodiversity\, arts\, and culture of Eastern Visayas!\n\nAdmission is free!\n\n#NationalArtsMonth2023\n#UPTaclobanat50\n\nSource: UPVTC Leyte Samar Heritage Center Facebook
URL:https://alum.up.edu.ph/event/siday-magnet-poem-workshop/
END:VEVENT
BEGIN:VEVENT
DTSTART;TZID=UTC:20230509T080000
DTEND;TZID=UTC:20230630T180000
DTSTAMP:20260422T101014
CREATED:20230509T212816Z
LAST-MODIFIED:20230509T212827Z
UID:9910-1683619200-1688148000@alum.up.edu.ph
SUMMARY:IMPRINTED IN THE WATER: A Solo Exhibit of NICOLEI BUENDIA GUPIT
DESCRIPTION:IMPRINTED IN THE WATER\n\nA Solo Exhibit of\nNICOLEI BUENDIA GUPIT\n\nSINING MAKILING GALLERY\nD.L. Umali Hall\, UPLB\n\nOpening on 9 May 2023\nExhibit runs until 30 June 2023\n\n————————-\n\nInspired by her surroundings in Los Baños\, Laguna\, Nicolei Buendia Gupit presents to us in her third solo show\, Imprinted in the Water\, a range of mediums and processes that highlight the impact of human activities on water resources.\n\nBy using prints of man-made objects\, Gupit highlights the ways in which we have come to rely on water resources for our own needs\, often at the expense of the environment and other human and non-human life. The wet pigment that she uses to dye her surfaces suggests the fluidity and mutability of water\, and the need for us to consider our effect on this vital resource. Its subdued palette emanates an ominous atmosphere that conveys the gloomy reality we face. Connecting this with images of marine life skeletons\, she concocts impressions of the devastating ramifications of pollution and overfishing on aquatic ecosystems. Uprooted trees hint at the destruction of natural habitats\, while flaky tin roofs allude to the consequences of climate change and natural disasters in the lives of marginalized Filipinos yearly. She also incorporates bottle-shaped resin works that carry paper money inside them—probing pieces that challenge viewers to consider the value we place on water and the attendant effects of its privatization.\n\nThrough her artworks\, Gupit challenges viewers to consider their own relationship with water and the ways in which our actions can have far-reaching consequences. She invites us to think about the imprint that we are leaving on the natural world\, and to consider how we might work to create a more sustainable and equitable future for all. (Omen)\n\nSource: UPLB Office for Initiatives in Culture and the Arts Facebook
URL:https://alum.up.edu.ph/event/imprinted-in-the-water/
END:VEVENT
BEGIN:VEVENT
DTSTART;VALUE=DATE:20230517
DTEND;VALUE=DATE:20230829
DTSTAMP:20260422T101014
CREATED:20230516T164230Z
LAST-MODIFIED:20230516T164230Z
UID:10095-1684281600-1693267199@alum.up.edu.ph
SUMMARY:Call for Papers: HanPil: Studies on Korea and the Philippines\, Vol. 7
DESCRIPTION:Image from the KRC Facebook page\nThe UP Korea Research Center is accepting contributions for the “HanPil: Studies on Korea and the Philippines\, Vol. 7 (2024)” until August 28\, Monday\, 11:59 p.m.\n\nSubmit manuscripts\, with subject heading “2023 HanPil Submission – (Author’s Full Name)\,” at pkrc@up.edu.ph.\n\nKnow more about the submission guidelines at https://bit.ly/HanPil2023.\n\nSee photo for more details.
URL:https://alum.up.edu.ph/event/call-for-papers-hanpil-studies-on-korea-and-the-philippines-vol-7/
END:VEVENT
BEGIN:VEVENT
DTSTART;TZID=UTC:20230522T080000
DTEND;TZID=UTC:20230623T170000
DTSTAMP:20260422T101014
CREATED:20230209T225148Z
LAST-MODIFIED:20230503T174534Z
UID:7555-1684742400-1687539600@alum.up.edu.ph
SUMMARY:Advanced Course in Mental Health and Psychiatric Nursing in the Inpatient Setting
DESCRIPTION:The UP College of Nursing and UP-Philippine General Hospital is inviting you to join our Advanced Course in Mental Health and Psychiatric Nursing in the Inpatient Setting!\n\nThis course is designed to equip BSN-prepared nurses with post-basic competencies in providing evidence-based\, safe\, and quality nursing care for patients with mental health and psychiatric problems in the acute inpatient setting. This 45-hours intensive and immersive advanced hybrid course will be delivered through 5 weeks of asynchronous module-guided sessions with once-a-week 2-hour synchronous discussion sessions\, and 1 week of an in-person workshop (including PGH-Behavioral Medicine Ward tour and observation).\n\nThere will be 5 modules of lectures and 1 module of workshops. The 5 modules are delivered per week with 3-4 hours of asynchronous lectures\, teaching-learning activities\, and 2 hours of weekly synchronous discussion. This will allow the participants to work at their own pace and at the same time truly immerse in the different concepts and topics. The topics include the therapeutic use of self\, therapeutic communication\, psychiatric assessment\, and interview\, interventions for different maladaptive behaviors\, discharge planning\, and community rehabilitation. For the last module\, an in-person workshop will be conducted which will focus on skills training in psychiatric interview and the management of maladaptive behaviors.\n\nThe intended participants will include all registered nurses with at least 1 year of clinical experience who want to specialize in Mental Health and Psychiatric Nursing\, Nurses who are currently practicing in a psychiatric facility or institution\, and Nursing Faculty who teach Psychiatric Nursing.\n\nThe registration fee is 7\,000 pesos. Participants who successfully finished the course will receive a Completion Certificate with corresponding CPD points. You may scan the QR code in the poster or by clicking this link https://forms.gle/FYXs78cL9P9wgfva7\n\nFor inquiries please email upcn-cecesp.upm@up.edu.ph\n\nThank you and see you!\n\nSource: UP College of Nursing Facebook
URL:https://alum.up.edu.ph/event/advanced-course-in-mental-health-and-psychiatric-nursing-in-the-inpatient-setting/
END:VEVENT
BEGIN:VEVENT
DTSTART;TZID=UTC:20230613T090000
DTEND;TZID=UTC:20230619T170000
DTSTAMP:20260422T101014
CREATED:20230425T164122Z
LAST-MODIFIED:20230425T164150Z
UID:9560-1686646800-1687194000@alum.up.edu.ph
SUMMARY:UP Manila HOPE Course (Face-to-Face)
DESCRIPTION:𝐑𝐞𝐠𝐢𝐬𝐭𝐫𝐚𝐭𝐢𝐨𝐧 𝐢𝐬 𝐧𝐨𝐰 𝐨𝐩𝐞𝐧 𝐟𝐨𝐫 𝐭𝐡𝐞 𝐇𝐎𝐏𝐄 𝐂𝐨𝐮𝐫𝐬𝐞! 𝐓𝐡𝐞 𝐧𝐞𝐱𝐭 𝐛𝐚𝐭𝐜𝐡 𝐟𝐨𝐫 𝐭𝐡𝐢𝐬 𝐲𝐞𝐚𝐫 𝐰𝐢𝐥𝐥 𝐛𝐞 𝐨𝐧 𝐌𝐚𝐲 𝟏𝟓-𝟐𝟔\, 𝟐𝟎𝟐𝟑\, 𝐟𝐫𝐨𝐦 𝟏 𝐏𝐌 𝐭𝐨 𝟓 𝐏𝐌 𝐝𝐚𝐢𝐥𝐲. 𝐓𝐡𝐢𝐬 𝐛𝐚𝐭𝐜𝐡 𝐡𝐚𝐬 𝟏𝟓𝟎 𝐂𝐌𝐄 𝐮𝐧𝐢𝐭𝐬 𝐠𝐫𝐚𝐧𝐭𝐞𝐝 𝐛𝐲 𝐭𝐡𝐞 𝐏𝐡𝐢𝐥𝐢𝐩𝐩𝐢𝐧𝐞 𝐂𝐨𝐥𝐥𝐞𝐠𝐞 𝐨𝐟 𝐄𝐦𝐞𝐫𝐠𝐞𝐧𝐜𝐲 𝐌𝐞𝐝𝐢𝐜𝐢𝐧𝐞 (𝐏𝐂𝐄𝐌).\n\nScan the QR code below\, or visit bit.ly/UPMHOPE to register.\n\nThe monthly schedule for this year is indicated below\, along with the answers to some of the frequently asked questions.\n\nHospital Preparedness for Emergencies (HOPE) is a course of the Program for Enhancement of Emergency Response that was developed by the United States Agency for International Development through its Office of U.S. Foreign Disaster Assistance in collaboration with the Asian Disaster Preparedness Center\, John Hopkins University\, National Society for Earthquake Technology-Nepal\, and a team of leading experts from the Asia Pacific region.\n\nThe course has been tested and delivered in Bangladesh\, Indonesia\, Nepal\, and the Philippines. A certificate that contains the logo of the Asian Disaster Preparedness Center: Program for Enhancement of Emergency Response will be handed to each participant after finishing the course.\n\nFor more information\, kindly refer to this link: https://bit.ly/3EIETvI.\n\nFor more inquiries\, kindly send us an email at upm-drrmh-list@up.edu.ph or ping us on Messenger.\n\nSource: UP Manila DRRM – H Center Facebook
URL:https://alum.up.edu.ph/event/up-manila-hope-course-2/
END:VEVENT
BEGIN:VEVENT
DTSTART;TZID=UTC:20230613T130000
DTEND;TZID=UTC:20230623T170000
DTSTAMP:20260422T101014
CREATED:20230425T164641Z
LAST-MODIFIED:20230425T164641Z
UID:9576-1686661200-1687539600@alum.up.edu.ph
SUMMARY:UP Manila HOPE Course (Virtual)
DESCRIPTION:𝐑𝐞𝐠𝐢𝐬𝐭𝐫𝐚𝐭𝐢𝐨𝐧 𝐢𝐬 𝐧𝐨𝐰 𝐨𝐩𝐞𝐧 𝐟𝐨𝐫 𝐭𝐡𝐞 𝐇𝐎𝐏𝐄 𝐂𝐨𝐮𝐫𝐬𝐞! 𝐓𝐡𝐞 𝐧𝐞𝐱𝐭 𝐛𝐚𝐭𝐜𝐡 𝐟𝐨𝐫 𝐭𝐡𝐢𝐬 𝐲𝐞𝐚𝐫 𝐰𝐢𝐥𝐥 𝐛𝐞 𝐨𝐧 𝐌𝐚𝐲 𝟏𝟓-𝟐𝟔\, 𝟐𝟎𝟐𝟑\, 𝐟𝐫𝐨𝐦 𝟏 𝐏𝐌 𝐭𝐨 𝟓 𝐏𝐌 𝐝𝐚𝐢𝐥𝐲. 𝐓𝐡𝐢𝐬 𝐛𝐚𝐭𝐜𝐡 𝐡𝐚𝐬 𝟏𝟓𝟎 𝐂𝐌𝐄 𝐮𝐧𝐢𝐭𝐬 𝐠𝐫𝐚𝐧𝐭𝐞𝐝 𝐛𝐲 𝐭𝐡𝐞 𝐏𝐡𝐢𝐥𝐢𝐩𝐩𝐢𝐧𝐞 𝐂𝐨𝐥𝐥𝐞𝐠𝐞 𝐨𝐟 𝐄𝐦𝐞𝐫𝐠𝐞𝐧𝐜𝐲 𝐌𝐞𝐝𝐢𝐜𝐢𝐧𝐞 (𝐏𝐂𝐄𝐌).\n\nScan the QR code below\, or visit bit.ly/UPMHOPE to register.\n\nThe monthly schedule for this year is indicated below\, along with the answers to some of the frequently asked questions.\n\nHospital Preparedness for Emergencies (HOPE) is a course of the Program for Enhancement of Emergency Response that was developed by the United States Agency for International Development through its Office of U.S. Foreign Disaster Assistance in collaboration with the Asian Disaster Preparedness Center\, John Hopkins University\, National Society for Earthquake Technology-Nepal\, and a team of leading experts from the Asia Pacific region.\n\nThe course has been tested and delivered in Bangladesh\, Indonesia\, Nepal\, and the Philippines. A certificate that contains the logo of the Asian Disaster Preparedness Center: Program for Enhancement of Emergency Response will be handed to each participant after finishing the course.\n\nFor more information\, kindly refer to this link: https://bit.ly/3EIETvI.\n\nFor more inquiries\, kindly send us an email at upm-drrmh-list@up.edu.ph or ping us on Messenger.\n\nSource: UP Manila DRRM – H Center Facebook
URL:https://alum.up.edu.ph/event/up-manila-hope-course-virtual/
END:VEVENT
BEGIN:VEVENT
DTSTART;VALUE=DATE:20230619
DTEND;VALUE=DATE:20230623
DTSTAMP:20260422T101014
CREATED:20230615T172626Z
LAST-MODIFIED:20230615T172626Z
UID:10852-1687132800-1687478399@alum.up.edu.ph
SUMMARY:National Poison Prevention Week
DESCRIPTION:📢 Attention\, everyone! 🌿🚫\n\nMark your calendars for an important event this June 19-23\, 2023: National Poison Prevention Week! 🎉🔐\n\n🌍 Theme: “Tungo sa Kaligtasan ng Kalusugan at Kapaligiran: Dinggin ang Panawagan” 🚀\n\nLet’s come together and prioritize the safety of our health and environment. 💚🌿 It’s time to raise awareness and take action against the risks of poison-related incidents.\n\nDuring this special week\, we will provide you with valuable information\, tips\, and resources on how to prevent poison-related accidents in our homes\, workplaces\, and communities. 📚💡\n\n🚨 Join us in spreading the word! Share this post with your family\, friends\, and colleagues. Together\, we can make a difference and protect our loved ones. 💪❤️\n\nStay tuned for engaging activities\, informative webinars\, and interactive discussions throughout the week. 🗓️📢 Let’s empower ourselves with knowledge and build a safer\, healthier future for all.\n\nRemember\, prevention is key! Let’s work hand in hand to create a poison-free environment. 🌿🚫\n\nSource: National Poison Management and Control Center Facebook
URL:https://alum.up.edu.ph/event/national-poison-prevention-week/
END:VEVENT
BEGIN:VEVENT
DTSTART;TZID=UTC:20230619T080000
DTEND;TZID=UTC:20230619T120000
DTSTAMP:20260422T101014
CREATED:20230618T175752Z
LAST-MODIFIED:20230618T175752Z
UID:10914-1687161600-1687176000@alum.up.edu.ph
SUMMARY:UP Mindanao Job Fair
DESCRIPTION:To all UP Min Graduating Students Class of 2023\, Previous batches who are soon to graduate\, and Alumni who are still looking for jobs\, may I have your attention\, please.\n\nThe CTS-OSA has prepared three (3) major career activities for you as shown in the pub mat hereunder.\n\nYou are cordially invited to please attend your CPOPES 2023 on June 19\, 8:00 am-12 noon at Lorenzo Hall; Campus Job Recruitment or Jobs Fair 2023 on June 21\, 9am-12noon at CHSS Rooms; Career Day with DXC Technology for students from BSCS & BSAM Juniors\, Seniors and Super seniors’ on 23 June\, 2pm-4pm. These endeavors are for you guys before you leave the portals of the University.\n\nSee you…..\n\nSource: UP Mindanao Counseling and Testing Section Facebook
URL:https://alum.up.edu.ph/event/up-mindanao-job-fair/
END:VEVENT
BEGIN:VEVENT
DTSTART;TZID=UTC:20230619T080000
DTEND;TZID=UTC:20230624T170000
DTSTAMP:20260422T101014
CREATED:20230619T171512Z
LAST-MODIFIED:20230619T171743Z
UID:10959-1687161600-1687626000@alum.up.edu.ph
SUMMARY:Queer Art Exhibit: Reclaiming Spaces
DESCRIPTION:Imahe mula sa DGO Facebook page\nBilang bahagi ng pagdiriwang ng “UP Diliman (UPD) Pride Month 2023\,” inaanyayahan ng UPD Gender Office (DGO) ang lahat sa “Queer Art Exhibit: Reclaiming Spaces” na matutunghayan mula Hunyo 19 hanggang 24 sa AS Lobby\, Palma Hall.\n\nTampok dito ang mga eksibit na “Queer I: Creating Visibility of Queer Filipino Stories in Illustration” and “The Filipina Unbound: Continuing the Intergenerational Radical Tradition of Making.”\n\nTunghayan din bukas\, Hunyo 20\, 2 n.h.\, sa AS Lobby ang inihandang programa para sa “Queen Art Fair.”\n\nIto ay handog ng DGO\, sa pakikipagtulungan sa UPD College of Fine Arts Gender and Development (GAD) Committee at UPD College of Social Sciences and Philosophy.
URL:https://alum.up.edu.ph/event/queer-art-exhibit-reclaiming-spaces/
END:VEVENT
BEGIN:VEVENT
DTSTART;TZID=UTC:20230619T090000
DTEND;TZID=UTC:20230627T160000
DTSTAMP:20260422T101014
CREATED:20230618T162849Z
LAST-MODIFIED:20230618T162849Z
UID:10883-1687165200-1687881600@alum.up.edu.ph
SUMMARY:Para Po! Tungo sa Pinapangarap na Destinasyon (UPD-CFA Student Exhibition for FA 10/11)
DESCRIPTION:Image from the UPD Fine Arts Gallery Facebook page\nThe exhibit “Para Po! Tungo sa Pinapangarap na Destinasyon” of the UP Diliman (UPD) College of Fine Arts students is now open for viewing at the Gallery 2 of the Parola: UPD Fine Arts Gallery.\n\nThe exhibit will run until June 27.\n\nWalk-in guests may visit the gallery from Tuesdays to Fridays.\n\nFor Monday and Saturday visits\, register at bit.ly/ParolaVisitorsForm.
URL:https://alum.up.edu.ph/event/para-po-tungo-sa-pinapangarap-na-destinasyon/
END:VEVENT
BEGIN:VEVENT
DTSTART;TZID=UTC:20230619T110000
DTEND;TZID=UTC:20230619T120000
DTSTAMP:20260422T101014
CREATED:20230615T163814Z
LAST-MODIFIED:20230615T163814Z
UID:10837-1687172400-1687176000@alum.up.edu.ph
SUMMARY:Chemistry in a Multidisciplinary World: Expanding the Impact Potentials of Your Discovery
DESCRIPTION:Image from DZUP Facebook page\nThe UP community is invited to the ACS Publications’ webinar “Chemistry in a Multidisciplinary World: Expanding the Impact Potentials of Your Discovery” on June 22\, Thursday\, 11 a.m.-12 p.m.\, via Zoom.\n\nTo join\, register at https://bit.ly/acswebinar-june23.\n\nSee photo for more details.
URL:https://alum.up.edu.ph/event/chemistry-in-a-multidisciplinary-world-expanding-the-impact-potentials-of-your-discovery/
END:VEVENT
BEGIN:VEVENT
DTSTART;TZID=UTC:20230619T120000
DTEND;TZID=UTC:20230619T130000
DTSTAMP:20260422T101014
CREATED:20230618T174719Z
LAST-MODIFIED:20230618T174719Z
UID:10911-1687176000-1687179600@alum.up.edu.ph
SUMMARY:UP Med Webinars: Dengue Revisited
DESCRIPTION:Join our webinar on DENGUE on June 19\, Monday\, 12NN. This is brought to you by this year’s Silver Jubilarians\, the UP College of Medicine Class of 1998.\n\n• Zoom (early registration) – https://bit.ly/3n1cxri\n• Facebook (membership required) – bit.ly/3HKjseV\n• UP Manila Livestream – bit.ly/3jIitnI\n\nSource: UP Med Webinars Facebook
URL:https://alum.up.edu.ph/event/up-med-webinars-dengue-revisited/
END:VEVENT
BEGIN:VEVENT
DTSTART;TZID=UTC:20230619T130000
DTEND;TZID=UTC:20230619T150000
DTSTAMP:20260422T101014
CREATED:20230618T163619Z
LAST-MODIFIED:20230618T163619Z
UID:10886-1687179600-1687186800@alum.up.edu.ph
SUMMARY:Towards Real-Time Information Processing Systems Based on Artificial Allosteric Proteins
DESCRIPTION:Image from the National Institute of Molecular Biology and Biotechnology UP Diliman Facebook page\nThe research seminar “Towards Real-Time Information Processing Systems Based on Artificial Allosteric Proteins” will happen on June 19\, Monday\, 1 p.m.\, at the UP Diliman College of Science Auditorium.\n \nKirill Alexandrov\, PhD\, a professor from CSIRO-QUT Synthetic Biology Alliance\, Queensland University of Technology\, is the guest speaker for this seminar.
URL:https://alum.up.edu.ph/event/towards-real-time-information-processing-systems-based-on-artificial-allosteric-proteins/
END:VEVENT
BEGIN:VEVENT
DTSTART;TZID=UTC:20230619T140000
DTEND;TZID=UTC:20230619T160000
DTSTAMP:20260422T101014
CREATED:20230614T181027Z
LAST-MODIFIED:20230614T181027Z
UID:10784-1687183200-1687190400@alum.up.edu.ph
SUMMARY:Itneg Inlaud: Serial Verb Constructions in Itneg Inlaud
DESCRIPTION:Image from the DLingg Facebook page\nThe lecture “Itneg Inlaud: Serial Verb Constructions in Itneg Inlaud” will be held on June 19\, Monday\, 2 p.m.\, via Facebook and YouTube Live.\n\nItneg Inlaud is a Meso-Cordilleran language spoken in Northern Luzon\, Philippines.\n\nRyn Jean Fe V. Gonzales\, a PhD candidate at the UP Diliman Department of Linguistics (DLingg)\, is the resource speaker for this session.\n\nWatch the livestream at the DLingg Facebook page and YouTube channel.\n\nThis is the sixth installment of the “Philippine Indigenous Languages Lecture Series” of the department in celebration of its 100th founding anniversary.\n\nSee post for more details.
URL:https://alum.up.edu.ph/event/itneg-inlaud-serial-verb-constructions-in-itneg-inlaud/
END:VEVENT
END:VCALENDAR