BEGIN:VCALENDAR
VERSION:2.0
PRODID:-//UP Alumni Website - ECPv6.15.16//NONSGML v1.0//EN
CALSCALE:GREGORIAN
METHOD:PUBLISH
X-WR-CALNAME:UP Alumni Website
X-ORIGINAL-URL:https://alum.up.edu.ph
X-WR-CALDESC:Events for UP Alumni Website
REFRESH-INTERVAL;VALUE=DURATION:PT1H
X-Robots-Tag:noindex
X-PUBLISHED-TTL:PT1H
BEGIN:VTIMEZONE
TZID:UTC
BEGIN:STANDARD
TZOFFSETFROM:+0000
TZOFFSETTO:+0000
TZNAME:UTC
DTSTART:20220101T000000
END:STANDARD
END:VTIMEZONE
BEGIN:VEVENT
DTSTART;VALUE=DATE:20230517
DTEND;VALUE=DATE:20230829
DTSTAMP:20260421T092348
CREATED:20230516T164230Z
LAST-MODIFIED:20230516T164230Z
UID:10095-1684281600-1693267199@alum.up.edu.ph
SUMMARY:Call for Papers: HanPil: Studies on Korea and the Philippines\, Vol. 7
DESCRIPTION:Image from the KRC Facebook page\nThe UP Korea Research Center is accepting contributions for the “HanPil: Studies on Korea and the Philippines\, Vol. 7 (2024)” until August 28\, Monday\, 11:59 p.m.\n\nSubmit manuscripts\, with subject heading “2023 HanPil Submission – (Author’s Full Name)\,” at pkrc@up.edu.ph.\n\nKnow more about the submission guidelines at https://bit.ly/HanPil2023.\n\nSee photo for more details.
URL:https://alum.up.edu.ph/event/call-for-papers-hanpil-studies-on-korea-and-the-philippines-vol-7/
END:VEVENT
BEGIN:VEVENT
DTSTART;TZID=UTC:20230628T183000
DTEND;TZID=UTC:20231018T193000
DTSTAMP:20260421T092348
CREATED:20230606T210516Z
LAST-MODIFIED:20230606T210537Z
UID:10651-1687977000-1697657400@alum.up.edu.ph
SUMMARY:"VISION and OCCUPATION: Tools and Techniques for Visual Rehabilitation"
DESCRIPTION:From UP Occupational Therapy Facebook\n📣 WORKSHOP ALERT\n\nThe UPManila Department of Occupational Therapy invites you to join us for a specialized training course on “VISION and OCCUPATION: Tools and Techniques for Visual Rehabilitation”!\n\n👉🏻 REGISTRATION IS NOW OPEN!\nRegister at: https://bit.ly/OTVisualRehab\n\n💡 In this workshop\, you will learn about various techniques and strategies used in the evaluation and treatment of individuals with visual impairments. More than that\, you will also get to apply your learnings through actual patient interactions.\n\n⭐️ Short on CPD Units? We’ve got you covered. This course has been accredited by the PRC for 16 CPD units.\n\nFollow the UP Occupational Therapy Facebook Page for more information and updates.\n\nWe hope you can join us!\n\nSource: UP Occupational Therapy Facebook
URL:https://alum.up.edu.ph/event/vision-and-occupation-tools-and-techniques-for-visual-rehabilitation/
END:VEVENT
BEGIN:VEVENT
DTSTART;TZID=UTC:20230708T120000
DTEND;TZID=UTC:20230811T150000
DTSTAMP:20260421T092348
CREATED:20230705T182345Z
LAST-MODIFIED:20230705T182418Z
UID:11356-1688817600-1691766000@alum.up.edu.ph
SUMMARY:The Listening Biennial
DESCRIPTION:Everyone is invited to the launch of “The Listening Biennial” and opening of the exhibits “There Is No Sound Artist\, Just Sound Art” and “Use Your Ears” on July 8\, 12 p.m.\, at the Ground Floor Lobby\, UP Diliman (UPD) Fine Arts Gallery.\n\n“The Listening Biennial” is a cross-disciplinal international festival\, which is focused on forging attentional ecologies by creating scholarly and creative opportunities for listening. Dayang Magdalena Nirvana T. Yraola\, PhD\, an associate professor from the UPD College of Fine Arts and curator of the UPD Fine Arts Gallery\, is one of the curators of the Biennial.\n\nOn July 26\, there will be a “Portfolio Presentation / Artist Talk” from 1 to 5 p.m.\n\n“The Listening Biennial Manila Symposium” will be on August 2\, 1 p.m.\, at the Atrium\, UPD Fine Arts Gallery.\n\nVisit The Listening Biennial Facebook page or the Inter-Asia Plus website (https://listeningbiennial2023.dayangyraola.com/) for updates.\n\nSee photos for more details.
URL:https://alum.up.edu.ph/event/the-listening-biennial/
END:VEVENT
BEGIN:VEVENT
DTSTART;TZID=UTC:20230724T080000
DTEND;TZID=UTC:20230725T170000
DTSTAMP:20260421T092348
CREATED:20230703T165504Z
LAST-MODIFIED:20230704T221436Z
UID:11328-1690185600-1690304400@alum.up.edu.ph
SUMMARY:UP BAGUIO A SEMINAR ON INDIGENOUS STUDIES AND INDIGENOUS PEOPLES IN ASIA
DESCRIPTION:A SEMINAR ON INDIGENOUS STUDIES AND INDIGENOUS PEOPLES IN ASIA\n24-25 July 2023\nCSS AVR\, University of the Philippines Baguio\n\nThis event is organized by the UP Baguio Indigenous Studies Program in partnership with Maleya Foundation\, Inc. and Tebtebba.\n\nThe resource persons are indigenous and non-indigenous scholars\, activists and advocates who are currently involved in the field of “Indigenous Studies.” The seminar provides a venue for self-reflexivity and dialogues amongst scholars\, advocates and activists on/for Indigenous Peoples.\n\nThis will be a hybrid of face to face and virtual. (Limited slots for the in person\, so majority will have to attend via Zoom.)\n\nYou can register through this link: https://forms.gle/yj9dp7LpbBWd5yu47\, to get the credentials for the virtual seminar.\n\nMore details to follow so please like and follow our page!\n\nSource: University of the Philippines Baguio Facebook
URL:https://alum.up.edu.ph/event/up-baguio-a-seminar-on-indigenous-studies-and-indigenous-peoples-in-asia/
END:VEVENT
BEGIN:VEVENT
DTSTART;TZID=UTC:20230724T080000
DTEND;TZID=UTC:20230728T170000
DTSTAMP:20260421T092348
CREATED:20230615T171330Z
LAST-MODIFIED:20230615T171330Z
UID:10847-1690185600-1690563600@alum.up.edu.ph
SUMMARY:88th Postgraduate Course in Occupational Health and Safety
DESCRIPTION:Poster from DEOH Facebook\nInterested to practice Occupational Health and Safety?\n\nJoin us in the 88th Postgraduate Course in Occupational Health and Safety on 17 to 21 and 24 to 28 July 2023\, to be offered online via Zoom and Google Classroom.\n\nThis is open to physicians\, nurses\, dentists\, physical therapists\, sanitary engineers\, and other professionals interested in OHS. This course offering aims to contribute to the achievement of #SDG3 #SDG8.\n\nTo register\, kindly email us at upm.cph.deoh@up.edu.ph or visit our website for more information https://sites.google.com/up.edu.ph/deoh-pgcohs/home\n\nSee you there!\n\nSource: Department of Environmental and Occupational Health Facebook
URL:https://alum.up.edu.ph/event/88th-postgraduate-course-in-occupational-health-and-safety-2/
END:VEVENT
END:VCALENDAR