BEGIN:VCALENDAR
VERSION:2.0
PRODID:-//UP Alumni Website - ECPv6.15.16//NONSGML v1.0//EN
CALSCALE:GREGORIAN
METHOD:PUBLISH
X-WR-CALNAME:UP Alumni Website
X-ORIGINAL-URL:https://alum.up.edu.ph
X-WR-CALDESC:Events for UP Alumni Website
REFRESH-INTERVAL;VALUE=DURATION:PT1H
X-Robots-Tag:noindex
X-PUBLISHED-TTL:PT1H
BEGIN:VTIMEZONE
TZID:UTC
BEGIN:STANDARD
TZOFFSETFROM:+0000
TZOFFSETTO:+0000
TZNAME:UTC
DTSTART:20220101T000000
END:STANDARD
END:VTIMEZONE
BEGIN:VEVENT
DTSTART;TZID=UTC:20230628T183000
DTEND;TZID=UTC:20231018T193000
DTSTAMP:20260424T000754
CREATED:20230606T210516Z
LAST-MODIFIED:20230606T210537Z
UID:10651-1687977000-1697657400@alum.up.edu.ph
SUMMARY:"VISION and OCCUPATION: Tools and Techniques for Visual Rehabilitation"
DESCRIPTION:From UP Occupational Therapy Facebook\n📣 WORKSHOP ALERT\n\nThe UPManila Department of Occupational Therapy invites you to join us for a specialized training course on “VISION and OCCUPATION: Tools and Techniques for Visual Rehabilitation”!\n\n👉🏻 REGISTRATION IS NOW OPEN!\nRegister at: https://bit.ly/OTVisualRehab\n\n💡 In this workshop\, you will learn about various techniques and strategies used in the evaluation and treatment of individuals with visual impairments. More than that\, you will also get to apply your learnings through actual patient interactions.\n\n⭐️ Short on CPD Units? We’ve got you covered. This course has been accredited by the PRC for 16 CPD units.\n\nFollow the UP Occupational Therapy Facebook Page for more information and updates.\n\nWe hope you can join us!\n\nSource: UP Occupational Therapy Facebook
URL:https://alum.up.edu.ph/event/vision-and-occupation-tools-and-techniques-for-visual-rehabilitation/
END:VEVENT
BEGIN:VEVENT
DTSTART;TZID=UTC:20230729T160000
DTEND;TZID=UTC:20230901T170000
DTSTAMP:20260424T000754
CREATED:20230726T172329Z
LAST-MODIFIED:20230726T172329Z
UID:11547-1690646400-1693587600@alum.up.edu.ph
SUMMARY:This is Our Children’s Museum
DESCRIPTION:This is Our Children’s Museum\n29 July–1 September 2023\n1/F Galleries\nUP Vargas Museum\n\nThe UP Vargas Museum\, in partnership with the Center for Art\, New Ventures & Sustainable Development (CANVAS)\, a non-profit organization dedicated to children’s literacy and greater awareness of Philippine art and culture\, presents the exhibition This is Our Children’s Museum that will open at the University of the Philippines Vargas Museum on 29 July 2023 (Saturday)\, at four o’clock in the afternoon.\n\nRead more in their Facebook Event page
URL:https://alum.up.edu.ph/event/this-is-our-childrens-museum/
END:VEVENT
BEGIN:VEVENT
DTSTART;TZID=UTC:20230901T120000
DTEND;TZID=UTC:20230901T130000
DTSTAMP:20260424T000754
CREATED:20230828T180819Z
LAST-MODIFIED:20230828T181003Z
UID:11922-1693569600-1693573200@alum.up.edu.ph
SUMMARY:HealthLead Episode #1 “Superstorms\, Superfires – What is Next?" Reflecting on Typhoon Haiyan (Philippines)\, Typhoon Mawar (Guam)\, and Maui Fires
DESCRIPTION:The University of the Philippines in partnership with\nNational Telehealth Center of the UP Manila-National Institutes of Health and in cooperation with the\nDepartment of Health – Philippines\nwould like to invite you to join the Health Leadership in Action (HealthLead)! \n  \nHealthLead is an international dialogue series on groundbreaking health initiatives by visionary leaders who take bold action. Conceptualized and developed to promote the use of technology for information exchange and international understanding\, HealthLead is a spin-off from the award-winning Stop C.O.V.I.D. Deaths webinar series.\nSo sign up NOW:\nbit.ly/StopCOVIDDeathsWebinar161 \n  \nSeptember 1\, 2023 (Friday) 12nn\nHealthLead Episode #1\nSuperstorms\, Superfires – What is Next?\n“Bagyo\, Sunog – Ano ang Susunod?”\n“Påkyo\, Guåfi – Hafa mas?”\n“Nā ‘ino nui\, nā ahi nui – He aha ka mea e hiki mai ana?”\nReflecting on Typhoon Haiyan (Philippines)\, Typhoon Mawar (Guam)\, and Maui Fires\n\nModerator:\nDR. SUSAN PINEDA-MERCADO\nOfficial Nominee of the Philippines and Guam to the Post of WHO WPRO Regional Director\n\nCo-host:\nDR. RAYMOND FRANCIS R. SARMIENTO\nDirector\, National Telehealth Center\nNational Institutes of Health\nUniversity of the Philippines Manila\n\nSpeakers:\nDR. TEODORO J. HERBOSA\nSecretary\, Department of Health – Philippines\n\nHON. LOURDES LEON GUERRERO\nGovernor\, Island of Guam\n\nMR. CHAD BUCK\nPresident\, Hawaii Food Service Alliance\n\nMR. DEXTER KISHIDA\nHead of the Plant Industry Administrator\nDeputy Chair\, Board of Agriculture\nDeputy Secretary of Agriculture\, State of Hawaii\n\n———————————————————–\n\nSeptember 1\, 2023 (Friday) 12nn\nHealthLead Episode #1\nSuperstorms\, Superfires – What is Next?\n“Bagyo\, Sunog – Ano ang Susunod?”\n“Påkyo\, Guåfi – Hafa mas?”\n“Nā ‘ino nui\, nā ahi nui – He aha ka mea e hiki mai ana?”\nReflecting on Typhoon Haiyan (Philippines)\, Typhoon Mawar (Guam)\, and Maui Fires\n\nThe world has been watching tragedy after tragedy unfold when catastrophic events of unprecedented magnitude and scope render devastation to thousands of people within a few hours.\n\nHow should leaders prepare to face these emergencies? What are the lessons learned and how do we build resilience in the health sector to cope with the physical and mental suffering from emergencies?\n\n“HealthLead: Health Leadership in Action” is a platform for international dialogue for health workers\, doctors\, nurses\, EMTs\, community health workers\, teachers and trainers on how to prepare for massive calamities. The webinar series will focus on skills and insight needed to achieve greater resiliency in the face of adversity\, It is produced by TVUP and the University of the Philippines in collaboration with the Philippines’ Department of Health – Bureau for International Cooperation.\n\nThe purpose of HealthLead is to share solutions for new health challenges related to COVID19\, conflict and climate change. Resource persons and participants are invited and welcome from around the world.\n\nIn this pilot episode of HealthLead\, the topic is on “Health Leadership in Emergencies” and features the Philippine Secretary of Health Dr. Teodoro Herbosa\, an expert in disaster management and emergency medicine; Guam’s Governor\, the Honorable Lourdes Leon-Guerrero\, a nurse by profession and a leader community leader; Dexter Kishida\, Hawaii’s food security and climate resiliency expert\, head of the Plant Industry Administrator and Deputy Chair of the Board of Agriculture; and Chad Buck\, business and industry leader of Hawaii\, President of the Hawaii Food Service Alliance and who was at ground zero during the Maui fires.\n\nThe webinar series is hosted by Dr. Susan Pineda-Mercado and Dr. Raymond Francis Sarmiento of the National Telehealth Center\, National Institutes of Health\, University of the Philippines Manila.
URL:https://alum.up.edu.ph/event/healthlead-episode-1superstorms-superfires-what-is-next/
END:VEVENT
END:VCALENDAR