BEGIN:VCALENDAR
VERSION:2.0
PRODID:-//UP Alumni Website - ECPv6.15.16//NONSGML v1.0//EN
CALSCALE:GREGORIAN
METHOD:PUBLISH
X-WR-CALNAME:UP Alumni Website
X-ORIGINAL-URL:https://alum.up.edu.ph
X-WR-CALDESC:Events for UP Alumni Website
REFRESH-INTERVAL;VALUE=DURATION:PT1H
X-Robots-Tag:noindex
X-PUBLISHED-TTL:PT1H
BEGIN:VTIMEZONE
TZID:UTC
BEGIN:STANDARD
TZOFFSETFROM:+0000
TZOFFSETTO:+0000
TZNAME:UTC
DTSTART:20220101T000000
END:STANDARD
END:VTIMEZONE
BEGIN:VEVENT
DTSTART;TZID=UTC:20230628T183000
DTEND;TZID=UTC:20231018T193000
DTSTAMP:20260425T081637
CREATED:20230606T210516Z
LAST-MODIFIED:20230606T210537Z
UID:10651-1687977000-1697657400@alum.up.edu.ph
SUMMARY:"VISION and OCCUPATION: Tools and Techniques for Visual Rehabilitation"
DESCRIPTION:From UP Occupational Therapy Facebook\n📣 WORKSHOP ALERT\n\nThe UPManila Department of Occupational Therapy invites you to join us for a specialized training course on “VISION and OCCUPATION: Tools and Techniques for Visual Rehabilitation”!\n\n👉🏻 REGISTRATION IS NOW OPEN!\nRegister at: https://bit.ly/OTVisualRehab\n\n💡 In this workshop\, you will learn about various techniques and strategies used in the evaluation and treatment of individuals with visual impairments. More than that\, you will also get to apply your learnings through actual patient interactions.\n\n⭐️ Short on CPD Units? We’ve got you covered. This course has been accredited by the PRC for 16 CPD units.\n\nFollow the UP Occupational Therapy Facebook Page for more information and updates.\n\nWe hope you can join us!\n\nSource: UP Occupational Therapy Facebook
URL:https://alum.up.edu.ph/event/vision-and-occupation-tools-and-techniques-for-visual-rehabilitation/
END:VEVENT
BEGIN:VEVENT
DTSTART;TZID=UTC:20230904T130000
DTEND;TZID=UTC:20230915T170000
DTSTAMP:20260425T081637
CREATED:20230425T164816Z
LAST-MODIFIED:20230425T164816Z
UID:9582-1693832400-1694797200@alum.up.edu.ph
SUMMARY:UP Manila HOPE Course (Virtual)
DESCRIPTION:𝐑𝐞𝐠𝐢𝐬𝐭𝐫𝐚𝐭𝐢𝐨𝐧 𝐢𝐬 𝐧𝐨𝐰 𝐨𝐩𝐞𝐧 𝐟𝐨𝐫 𝐭𝐡𝐞 𝐇𝐎𝐏𝐄 𝐂𝐨𝐮𝐫𝐬𝐞! 𝐓𝐡𝐞 𝐧𝐞𝐱𝐭 𝐛𝐚𝐭𝐜𝐡 𝐟𝐨𝐫 𝐭𝐡𝐢𝐬 𝐲𝐞𝐚𝐫 𝐰𝐢𝐥𝐥 𝐛𝐞 𝐨𝐧 𝐌𝐚𝐲 𝟏𝟓-𝟐𝟔\, 𝟐𝟎𝟐𝟑\, 𝐟𝐫𝐨𝐦 𝟏 𝐏𝐌 𝐭𝐨 𝟓 𝐏𝐌 𝐝𝐚𝐢𝐥𝐲. 𝐓𝐡𝐢𝐬 𝐛𝐚𝐭𝐜𝐡 𝐡𝐚𝐬 𝟏𝟓𝟎 𝐂𝐌𝐄 𝐮𝐧𝐢𝐭𝐬 𝐠𝐫𝐚𝐧𝐭𝐞𝐝 𝐛𝐲 𝐭𝐡𝐞 𝐏𝐡𝐢𝐥𝐢𝐩𝐩𝐢𝐧𝐞 𝐂𝐨𝐥𝐥𝐞𝐠𝐞 𝐨𝐟 𝐄𝐦𝐞𝐫𝐠𝐞𝐧𝐜𝐲 𝐌𝐞𝐝𝐢𝐜𝐢𝐧𝐞 (𝐏𝐂𝐄𝐌).\n\nScan the QR code below\, or visit bit.ly/UPMHOPE to register.\n\nThe monthly schedule for this year is indicated below\, along with the answers to some of the frequently asked questions.\n\nHospital Preparedness for Emergencies (HOPE) is a course of the Program for Enhancement of Emergency Response that was developed by the United States Agency for International Development through its Office of U.S. Foreign Disaster Assistance in collaboration with the Asian Disaster Preparedness Center\, John Hopkins University\, National Society for Earthquake Technology-Nepal\, and a team of leading experts from the Asia Pacific region.\n\nThe course has been tested and delivered in Bangladesh\, Indonesia\, Nepal\, and the Philippines. A certificate that contains the logo of the Asian Disaster Preparedness Center: Program for Enhancement of Emergency Response will be handed to each participant after finishing the course.\n\nFor more information\, kindly refer to this link: https://bit.ly/3EIETvI.\n\nFor more inquiries\, kindly send us an email at upm-drrmh-list@up.edu.ph or ping us on Messenger.\n\nSource: UP Manila DRRM – H Center Facebook
URL:https://alum.up.edu.ph/event/up-manila-hope-course-virtual-4/
END:VEVENT
BEGIN:VEVENT
DTSTART;TZID=UTC:20230908T080000
DTEND;TZID=UTC:20230909T170000
DTSTAMP:20260425T081638
CREATED:20230904T001307Z
LAST-MODIFIED:20230904T001307Z
UID:12015-1694160000-1694278800@alum.up.edu.ph
SUMMARY:Reimagining Education and Leadership: Looking to the Future of Education Institutions
DESCRIPTION:The international conference “Reimagining Education and Leadership: Looking to the Future of Education Institutions” will be held on September 8-9 at the UP Diliman Institute of Biology (IB) Auditorium\, National Science Complex.\n\nThis is part of the “4th International Conference and 2023 Annual National Convention” organized by the Metrobank Foundation\, Inc. Network of Outstanding Teachers and Educators\, in partnership with the IB.\n\nRegister at https://tinyurl.com/NOTEDConference2023Register until August 20.\n\nSee photo for more details.
URL:https://alum.up.edu.ph/event/reimagining-education-and-leadership-looking-to-the-future-of-education-institutions/
END:VEVENT
BEGIN:VEVENT
DTSTART;TZID=UTC:20230909T050000
DTEND;TZID=UTC:20230909T090000
DTSTAMP:20260425T081638
CREATED:20230906T170440Z
LAST-MODIFIED:20230906T170440Z
UID:12172-1694235600-1694250000@alum.up.edu.ph
SUMMARY:Resilience MARCH (Mass Assembly for Rescue and Care for Humanity) UP Diliman Challenge
DESCRIPTION:Everyone is invited to join the “Resilience MARCH (Mass Assembly for Rescue and Care for Humanity) UP Diliman (UPD) Challenge” on Saturday\, September 9\, from 5 to 9 a.m.\n\nThe event is organized by the UP Resilience Institute (UPRI). Interested participants may join the walking or biking challenge around the UPD campus from 5 to 8 a.m. This is followed by the advocacy talks at the UPD Sunken Garden.\n\nFor more information\, visit the UPRI Facebook page.
URL:https://alum.up.edu.ph/event/resilience-march-mass-assembly-for-rescue-and-care-for-humanity-up-diliman-challenge/
END:VEVENT
BEGIN:VEVENT
DTSTART;TZID=UTC:20230909T090000
DTEND;TZID=UTC:20230909T160000
DTSTAMP:20260425T081638
CREATED:20230905T175732Z
LAST-MODIFIED:20230905T175732Z
UID:12123-1694250000-1694275200@alum.up.edu.ph
SUMMARY:9th Digital Marketing Course
DESCRIPTION:Images from the ISSI Facebook page\nThe “9th Digital Marketing Course” of the UP Diliman Institute for Small-Scale Industries (ISSI) will be held on September 2\, 9\, 16\, 23\, 30 and October 7\, 9 a.m.-4 p.m.\, at the ISSI Building.\n\nTo join\, register at https://bit.ly/2023TrainingRegForm or scan the QR code on the poster.\n\nSee photos for more details.
URL:https://alum.up.edu.ph/event/9th-digital-marketing-course-6/
END:VEVENT
BEGIN:VEVENT
DTSTART;TZID=UTC:20230909T090000
DTEND;TZID=UTC:20230909T170000
DTSTAMP:20260425T081638
CREATED:20230731T221514Z
LAST-MODIFIED:20230731T221514Z
UID:11593-1694250000-1694278800@alum.up.edu.ph
SUMMARY:13th Advanced Leadership and Management Course
DESCRIPTION:The training program “13th Advanced Leadership and Management Course” of the UP Diliman Institute for Small-Scale Industries (ISSI) will be conducted for 11 Saturdays starting August 12 until October 21\, 9 a.m.-5 p.m.\, at the 3rd Floor\, ISSI Building.\n\nRegister at http://bit.ly/UPISSI_2023TrainingRegistration.\n\nFor inquiries\, email Jefferson Sumalabe (jcsumalabe@up.edu.ph) and Krystel Soria (ktsoria@up.edu.ph).\n\nSee photo for more details.
URL:https://alum.up.edu.ph/event/13th-advanced-leadership-and-management-course-5/
END:VEVENT
END:VCALENDAR