BEGIN:VCALENDAR
VERSION:2.0
PRODID:-//UP Alumni Website - ECPv6.15.16//NONSGML v1.0//EN
CALSCALE:GREGORIAN
METHOD:PUBLISH
X-WR-CALNAME:UP Alumni Website
X-ORIGINAL-URL:https://alum.up.edu.ph
X-WR-CALDESC:Events for UP Alumni Website
REFRESH-INTERVAL;VALUE=DURATION:PT1H
X-Robots-Tag:noindex
X-PUBLISHED-TTL:PT1H
BEGIN:VTIMEZONE
TZID:UTC
BEGIN:STANDARD
TZOFFSETFROM:+0000
TZOFFSETTO:+0000
TZNAME:UTC
DTSTART:20220101T000000
END:STANDARD
END:VTIMEZONE
BEGIN:VEVENT
DTSTART;TZID=UTC:20230628T183000
DTEND;TZID=UTC:20231018T193000
DTSTAMP:20260424T012042
CREATED:20230606T210516Z
LAST-MODIFIED:20230606T210537Z
UID:10651-1687977000-1697657400@alum.up.edu.ph
SUMMARY:"VISION and OCCUPATION: Tools and Techniques for Visual Rehabilitation"
DESCRIPTION:From UP Occupational Therapy Facebook\n📣 WORKSHOP ALERT\n\nThe UPManila Department of Occupational Therapy invites you to join us for a specialized training course on “VISION and OCCUPATION: Tools and Techniques for Visual Rehabilitation”!\n\n👉🏻 REGISTRATION IS NOW OPEN!\nRegister at: https://bit.ly/OTVisualRehab\n\n💡 In this workshop\, you will learn about various techniques and strategies used in the evaluation and treatment of individuals with visual impairments. More than that\, you will also get to apply your learnings through actual patient interactions.\n\n⭐️ Short on CPD Units? We’ve got you covered. This course has been accredited by the PRC for 16 CPD units.\n\nFollow the UP Occupational Therapy Facebook Page for more information and updates.\n\nWe hope you can join us!\n\nSource: UP Occupational Therapy Facebook
URL:https://alum.up.edu.ph/event/vision-and-occupation-tools-and-techniques-for-visual-rehabilitation/
END:VEVENT
BEGIN:VEVENT
DTSTART;TZID=UTC:20230904T130000
DTEND;TZID=UTC:20230915T170000
DTSTAMP:20260424T012042
CREATED:20230425T164816Z
LAST-MODIFIED:20230425T164816Z
UID:9582-1693832400-1694797200@alum.up.edu.ph
SUMMARY:UP Manila HOPE Course (Virtual)
DESCRIPTION:𝐑𝐞𝐠𝐢𝐬𝐭𝐫𝐚𝐭𝐢𝐨𝐧 𝐢𝐬 𝐧𝐨𝐰 𝐨𝐩𝐞𝐧 𝐟𝐨𝐫 𝐭𝐡𝐞 𝐇𝐎𝐏𝐄 𝐂𝐨𝐮𝐫𝐬𝐞! 𝐓𝐡𝐞 𝐧𝐞𝐱𝐭 𝐛𝐚𝐭𝐜𝐡 𝐟𝐨𝐫 𝐭𝐡𝐢𝐬 𝐲𝐞𝐚𝐫 𝐰𝐢𝐥𝐥 𝐛𝐞 𝐨𝐧 𝐌𝐚𝐲 𝟏𝟓-𝟐𝟔\, 𝟐𝟎𝟐𝟑\, 𝐟𝐫𝐨𝐦 𝟏 𝐏𝐌 𝐭𝐨 𝟓 𝐏𝐌 𝐝𝐚𝐢𝐥𝐲. 𝐓𝐡𝐢𝐬 𝐛𝐚𝐭𝐜𝐡 𝐡𝐚𝐬 𝟏𝟓𝟎 𝐂𝐌𝐄 𝐮𝐧𝐢𝐭𝐬 𝐠𝐫𝐚𝐧𝐭𝐞𝐝 𝐛𝐲 𝐭𝐡𝐞 𝐏𝐡𝐢𝐥𝐢𝐩𝐩𝐢𝐧𝐞 𝐂𝐨𝐥𝐥𝐞𝐠𝐞 𝐨𝐟 𝐄𝐦𝐞𝐫𝐠𝐞𝐧𝐜𝐲 𝐌𝐞𝐝𝐢𝐜𝐢𝐧𝐞 (𝐏𝐂𝐄𝐌).\n\nScan the QR code below\, or visit bit.ly/UPMHOPE to register.\n\nThe monthly schedule for this year is indicated below\, along with the answers to some of the frequently asked questions.\n\nHospital Preparedness for Emergencies (HOPE) is a course of the Program for Enhancement of Emergency Response that was developed by the United States Agency for International Development through its Office of U.S. Foreign Disaster Assistance in collaboration with the Asian Disaster Preparedness Center\, John Hopkins University\, National Society for Earthquake Technology-Nepal\, and a team of leading experts from the Asia Pacific region.\n\nThe course has been tested and delivered in Bangladesh\, Indonesia\, Nepal\, and the Philippines. A certificate that contains the logo of the Asian Disaster Preparedness Center: Program for Enhancement of Emergency Response will be handed to each participant after finishing the course.\n\nFor more information\, kindly refer to this link: https://bit.ly/3EIETvI.\n\nFor more inquiries\, kindly send us an email at upm-drrmh-list@up.edu.ph or ping us on Messenger.\n\nSource: UP Manila DRRM – H Center Facebook
URL:https://alum.up.edu.ph/event/up-manila-hope-course-virtual-4/
END:VEVENT
BEGIN:VEVENT
DTSTART;TZID=UTC:20230911T080000
DTEND;TZID=UTC:20230915T100000
DTSTAMP:20260424T012042
CREATED:20230911T002953Z
LAST-MODIFIED:20230911T002953Z
UID:12317-1694419200-1694772000@alum.up.edu.ph
SUMMARY:94th anniversary celebration of the UP Health Service
DESCRIPTION:Source: https://ovcca.upd.edu.ph/events/
URL:https://alum.up.edu.ph/event/94th-anniversary-celebration-of-the-up-health-service/
END:VEVENT
BEGIN:VEVENT
DTSTART;TZID=UTC:20230911T130000
DTEND;TZID=UTC:20230916T170000
DTSTAMP:20260424T012042
CREATED:20230904T001542Z
LAST-MODIFIED:20230904T001542Z
UID:12018-1694437200-1694883600@alum.up.edu.ph
SUMMARY:Workers’ Institute on Labor Laws Class 187
DESCRIPTION:Image from the UP Diliman School of Labor and Industrial Relations Facebook page\n\nJoin the webinar “Workers’ Institute on Labor Laws Class 187” from September 11 to 16\, 1-5 p.m.\, via Zoom.\n\nRegister by visiting https://bit.ly/WILL187.\n\nFor inquiries\, email solair@upd.edu.ph.\n\nSee photo for more details.
URL:https://alum.up.edu.ph/event/workers-institute-on-labor-laws-class-187/
END:VEVENT
BEGIN:VEVENT
DTSTART;TZID=UTC:20230911T130000
DTEND;TZID=UTC:20230922T170000
DTSTAMP:20260424T012042
CREATED:20230629T163526Z
LAST-MODIFIED:20230629T163526Z
UID:11257-1694437200-1695402000@alum.up.edu.ph
SUMMARY:Post Graduate Course on Basic Health Promotion
DESCRIPTION:The Department of Health Promotion and Education of UP Manila College of Public Health invites you to the Post Graduate Course on Basic Health Promotion on 11-22 September 2023. This ten half-day short course will cover the essential concepts and strategies in health promotion and education.\n\nFor more info and early registration\, go to https://bit.ly/HealthPromotion2023\n\nSource: College of Public Health\, University of the Philippines
URL:https://alum.up.edu.ph/event/post-graduate-course-on-basic-health-promotion/
END:VEVENT
BEGIN:VEVENT
DTSTART;TZID=UTC:20230913T080000
DTEND;TZID=UTC:20230914T100000
DTSTAMP:20260424T012042
CREATED:20230905T185715Z
LAST-MODIFIED:20230905T185715Z
UID:12138-1694592000-1694685600@alum.up.edu.ph
SUMMARY:Webinar on Conservation and Utilization of Taro (Colocasia esculenta) for Food Security and Livelihood in Southeast Asia
DESCRIPTION:[🗣📣𝙁𝙍𝙀𝙀 𝙒𝙀𝘽𝙄𝙉𝘼𝙍📣🗣]\n\nTara\, #UsapTARO!\n\nThe National Plant Genetic Resources Laboratory (𝐍𝐏𝐆𝐑𝐋) of the Institute of Plant Breeding\, in collaboration with the Malaysian Agricultural Research and Development Institute (𝐌𝐀𝐑𝐃𝐈) \, International Treaty for Plant Genetic Resources for Food and Agriculture (𝐈𝐓𝐏𝐆𝐑𝐅𝐀)\, Food and Agriculture Organization (𝐅𝐀𝐎)\, and Centre for Agriculture and Bioscience International (𝐂𝐀𝐁𝐈)\, presents\n\n“𝘼𝙣 𝙄𝙣𝙩𝙚𝙧𝙣𝙖𝙩𝙞𝙤𝙣𝙖𝙡 𝙒𝙚𝙗𝙞𝙣𝙖𝙧 𝙤𝙣 𝘾𝙤𝙣𝙨𝙚𝙧𝙫𝙖𝙩𝙞𝙤𝙣 𝙖𝙣𝙙 𝙐𝙩𝙞𝙡𝙞𝙯𝙖𝙩𝙞𝙤𝙣 𝙤𝙛 𝙏𝙖𝙧𝙤 (𝘾𝙤𝙡𝙤𝙘𝙖𝙨𝙞𝙖 𝙚𝙨𝙘𝙪𝙡𝙚𝙣𝙩𝙖) 𝙛𝙤𝙧 𝙁𝙤𝙤𝙙 𝙎𝙚𝙘𝙪𝙧𝙞𝙩𝙮 𝙖𝙣𝙙 𝙇𝙞𝙫𝙚𝙡𝙞𝙝𝙤𝙤𝙙 𝙞𝙣 𝙎𝙤𝙪𝙩𝙝𝙚𝙖𝙨𝙩 𝘼𝙨𝙞𝙖”\n\n🗓 𝐒𝐞𝐩𝐭𝐞𝐦𝐛𝐞𝐫 𝟏𝟑-𝟏𝟒\, 𝟐𝟎𝟐𝟑\n📍 𝐯𝐢𝐚 𝐙𝐨𝐨𝐦 𝐚𝐧𝐝 𝐅𝐚𝐜𝐞𝐛𝐨𝐨𝐤 𝐋𝐢𝐯𝐞.\n\nAs part of the research project “𝘛𝘩𝘦 𝘊𝘰𝘯𝘴𝘦𝘳𝘷𝘢𝘵𝘪𝘰𝘯 𝘢𝘯𝘥 𝘚𝘶𝘴𝘵𝘢𝘪𝘯𝘢𝘣𝘭𝘦 𝘜𝘵𝘪𝘭𝘪𝘻𝘢𝘵𝘪𝘰𝘯 𝘰𝘧 𝘵𝘩𝘦 𝘜𝘯𝘥𝘦𝘳𝘶𝘵𝘪𝘭𝘪𝘻𝘦𝘥 𝘛𝘢𝘳𝘰 𝘵𝘰 𝘐𝘯𝘤𝘳𝘦𝘢𝘴𝘦 𝘍𝘰𝘰𝘥 𝘚𝘦𝘤𝘶𝘳𝘪𝘵𝘺 𝘢𝘯𝘥 𝘐𝘮𝘱𝘳𝘰𝘷𝘦 𝘓𝘪𝘷𝘦𝘭𝘪𝘩𝘰𝘰𝘥 𝘰𝘧 𝘔𝘢𝘳𝘨𝘪𝘯𝘢𝘭𝘪𝘻𝘦𝘥 𝘊𝘰𝘮𝘮𝘶𝘯𝘪𝘵𝘪𝘦𝘴 𝘍𝘢𝘤𝘦𝘥 𝘸𝘪𝘵𝘩 𝘊𝘭𝘪𝘮𝘢𝘵𝘦 𝘊𝘩𝘢𝘯𝘨𝘦”\, this two-day webinar 💻 aims to support farmers to maintain and conserve taro in areas vulnerable to climate change and food insecurity\, and strengthen research and development to produce climate ready crops using taro as model crop in countries involved.\n\nSo what are you waiting for😁? Don’t miss out on this 𝐓𝐀𝐑𝐎-𝐟𝐢𝐜 🫰 opportunity to learn🧠!\n\n🔺Register Now!🔺\n✍ tinyurl.com/UsapTaro2023\n\nSource: University of the Philippines Los Baños Facebook
URL:https://alum.up.edu.ph/event/conservation-and-utilization-of-taro-for-food-security-and-livelihood-in-southeast-asia/
END:VEVENT
BEGIN:VEVENT
DTSTART;TZID=UTC:20230913T100000
DTEND;TZID=UTC:20230913T120000
DTSTAMP:20260424T012042
CREATED:20230910T204016Z
LAST-MODIFIED:20230910T204016Z
UID:12268-1694599200-1694606400@alum.up.edu.ph
SUMMARY:Balik-Scientist Seminar: Using Mouse Models to Study the Effects of Diet on Aging\, Metabolism\, and Cancer
DESCRIPTION:Image from the IB Facebook page\n\nEveryone is invited to the “Balik-Scientist Seminar: Using Mouse Models to Study the Effects of Diet on Aging\, Metabolism\, and Cancer” on September 13\, Wednesday\, 10 a.m.\, at the UP Diliman Institute of Biology Auditorium and via Zoom.\n\nThe resource speaker is Gene P. Ables\, DVM\, PhD\, an associate scientist at the Orentreich Foundation for the Advancement of Science\, Cold Spring\, New York\, USA.\n\nRegister at https://up-edu.zoom.us/…/tJ0lde6rpjkoGdQw1ORjK… or scan the QR code on the poster.
URL:https://alum.up.edu.ph/event/balik-scientist-seminar-using-mouse-models-to-study-the-effects-of-diet-on-aging-metabolism-and-cancer/
END:VEVENT
BEGIN:VEVENT
DTSTART;TZID=UTC:20230913T120000
DTEND;TZID=UTC:20230913T130000
DTSTAMP:20260424T012042
CREATED:20230911T002406Z
LAST-MODIFIED:20230911T002406Z
UID:12314-1694606400-1694610000@alum.up.edu.ph
SUMMARY:Binalot Talks: "You've got the wrong elephant? Updates on elephants and stegodons of the Philippines"
DESCRIPTION:Source\nBinalot Talks presents “You’ve got the wrong elephant? Updates on elephants and stegodons of the Philippines” by Pauline Basilia happening on September 13\, 2023 from 12:00pm to 1:00pm at Albert Hall\, UP Diliman\, Quezon City.\n\nYou may join us onsite or via Zoom (958 6828 5184\, BnltZOOM; or scan the QR code found at the bottom of the poster).\n\nRead more about the event here.
URL:https://alum.up.edu.ph/event/binalot-talks-youve-got-the-wrong-elephant-updates-on-elephants-and-stegodons-of-the-philippines/
END:VEVENT
BEGIN:VEVENT
DTSTART;TZID=UTC:20230913T143000
DTEND;TZID=UTC:20230913T163000
DTSTAMP:20260424T012042
CREATED:20230904T001816Z
LAST-MODIFIED:20230904T001816Z
UID:12021-1694615400-1694622600@alum.up.edu.ph
SUMMARY:IESM@20: Monthly Webinar Series
DESCRIPTION:Image from the IESM\nThe UP Diliman Institute of Environmental Science and Meteorology (IESM) invites everyone to the “IESM@20: Monthly Webinar Series\,” with the sub-theme “Environmental Modeling and Sustainability\,” on September 13\, Wednesday\, 2:30–4:30 p.m.\, via Zoom.\n\nThis is part of the year-long celebration of the IESM’s 20th anniversary.\n\nTo join\, register at https://tinyurl.com/UPIESM20September.\n\nThe webinar will also be livestreamed on the IESM Facebook page.\n\nSee photo for more details.
URL:https://alum.up.edu.ph/event/iesm20-monthly-webinar-series/
END:VEVENT
BEGIN:VEVENT
DTSTART;TZID=UTC:20230913T160000
DTEND;TZID=UTC:20230913T180000
DTSTAMP:20260424T012042
CREATED:20230910T193055Z
LAST-MODIFIED:20230910T234059Z
UID:12265-1694620800-1694628000@alum.up.edu.ph
SUMMARY:Ukrainian Movie Month 2023
DESCRIPTION:Image from the UPFI Film Center Facebook page\nCatch the screenings of the three films featured in the “Ukrainian Movie Month 2023” on September 13\, 26\, and 28\, 4 p.m.\, at the UP Diliman Film Institute (UPFI) Film Center.\n\nRegister before the showing of the films “The Stronghold” (https://forms.gle/quBbVp71nKVzjKmX7)\, “The Rising Hawk” (https://forms.gle/C9Vz6jcaFNuRw3sU6)\, and “Iron Butterflies” (https://forms.gle/YdaHaYbfDMg1Stx48).\n\nThe special screenings of the three critically acclaimed films are hosted by the Consulate of Ukraine in Manila\, in collaboration with the UPFI and the Embassy of Ukraine in Malaysia.\n\nSee post for more information and to watch the trailers of the featured films.
URL:https://alum.up.edu.ph/event/ukrainian-movie-month-2023/
END:VEVENT
END:VCALENDAR