BEGIN:VCALENDAR
VERSION:2.0
PRODID:-//UP Alumni Website - ECPv6.15.16//NONSGML v1.0//EN
CALSCALE:GREGORIAN
METHOD:PUBLISH
X-WR-CALNAME:UP Alumni Website
X-ORIGINAL-URL:https://alum.up.edu.ph
X-WR-CALDESC:Events for UP Alumni Website
REFRESH-INTERVAL;VALUE=DURATION:PT1H
X-Robots-Tag:noindex
X-PUBLISHED-TTL:PT1H
BEGIN:VTIMEZONE
TZID:UTC
BEGIN:STANDARD
TZOFFSETFROM:+0000
TZOFFSETTO:+0000
TZNAME:UTC
DTSTART:20220101T000000
END:STANDARD
END:VTIMEZONE
BEGIN:VEVENT
DTSTART;TZID=UTC:20230628T183000
DTEND;TZID=UTC:20231018T193000
DTSTAMP:20260424T133724
CREATED:20230606T210516Z
LAST-MODIFIED:20230606T210537Z
UID:10651-1687977000-1697657400@alum.up.edu.ph
SUMMARY:"VISION and OCCUPATION: Tools and Techniques for Visual Rehabilitation"
DESCRIPTION:From UP Occupational Therapy Facebook\n📣 WORKSHOP ALERT\n\nThe UPManila Department of Occupational Therapy invites you to join us for a specialized training course on “VISION and OCCUPATION: Tools and Techniques for Visual Rehabilitation”!\n\n👉🏻 REGISTRATION IS NOW OPEN!\nRegister at: https://bit.ly/OTVisualRehab\n\n💡 In this workshop\, you will learn about various techniques and strategies used in the evaluation and treatment of individuals with visual impairments. More than that\, you will also get to apply your learnings through actual patient interactions.\n\n⭐️ Short on CPD Units? We’ve got you covered. This course has been accredited by the PRC for 16 CPD units.\n\nFollow the UP Occupational Therapy Facebook Page for more information and updates.\n\nWe hope you can join us!\n\nSource: UP Occupational Therapy Facebook
URL:https://alum.up.edu.ph/event/vision-and-occupation-tools-and-techniques-for-visual-rehabilitation/
END:VEVENT
BEGIN:VEVENT
DTSTART;TZID=UTC:20230911T130000
DTEND;TZID=UTC:20230922T170000
DTSTAMP:20260424T133724
CREATED:20230629T163526Z
LAST-MODIFIED:20230629T163526Z
UID:11257-1694437200-1695402000@alum.up.edu.ph
SUMMARY:Post Graduate Course on Basic Health Promotion
DESCRIPTION:The Department of Health Promotion and Education of UP Manila College of Public Health invites you to the Post Graduate Course on Basic Health Promotion on 11-22 September 2023. This ten half-day short course will cover the essential concepts and strategies in health promotion and education.\n\nFor more info and early registration\, go to https://bit.ly/HealthPromotion2023\n\nSource: College of Public Health\, University of the Philippines
URL:https://alum.up.edu.ph/event/post-graduate-course-on-basic-health-promotion/
END:VEVENT
BEGIN:VEVENT
DTSTART;TZID=UTC:20230918T100000
DTEND;TZID=UTC:20230918T110000
DTSTAMP:20260424T133724
CREATED:20230910T175912Z
LAST-MODIFIED:20230910T183437Z
UID:12256-1695031200-1695034800@alum.up.edu.ph
SUMMARY:Stanford Knight-Hennessy Scholar Q&A Event at UPLB
DESCRIPTION:Everyone is invited to join the Stanford Knight-Hennessy Scholar Q&A Event happening in the Physical Science Lecture Hall B at the University of the Philippines Los Baños on September 18\, 2023 from 10-11 AM (PHST).\n\nKnight-Hennessy Scholars at Stanford University is a multidisciplinary\, multicultural graduate scholarship program. Each Knight-Hennessy scholar receives up to three years of financial support to pursue graduate studies at Stanford while participating in engaging experiences that prepare scholars to be visionary\, courageous\, and collaborative leaders who address complex challenges facing the world.\n\nJoshua Dimasaka ’19 from the Philippines and Ling Rañeses Ritter ’21 of the United States to talk about their experiences as Knight-Hennessy scholars\, the application process\, and pursuing degrees at Stanford. There is no formal presentation\, and an admission officer will not be in attendance. These sessions are intended for those who want to learn more about life as a scholar.\n\nThe online application for autumn 2024 enrollment opens June 1\, 2023\, and is due October 11\, 2023.\n\nYou are eligible to apply if you earned (or will earn) your bachelor’s degree in 2017 or later. For U.S. military (active or veteran) applicants\, you are eligible if you earned your bachelor’s degree in 2015 or later. Additionally\, current Stanford PhD students in the first year of enrollment may apply if starting at KHS in the second year of PhD enrollment.\n\nIf you would like to learn more about Knight-Hennessy Scholars but cannot attend this session\, please stay in touch.\n\nFor more information\, please visit https://knight-hennessy.stanford.edu.\n\nVisit the link to register:\nOnline: https://tinyurl.com/KHSPHLonline\nIn-person: https://tinyurl.com/KHSPHLinperson
URL:https://alum.up.edu.ph/event/stanford-knight-hennessy-scholar-qa-event-at-uplb/
END:VEVENT
BEGIN:VEVENT
DTSTART;TZID=UTC:20230918T103000
DTEND;TZID=UTC:20230918T120000
DTSTAMP:20260424T133724
CREATED:20230910T225557Z
LAST-MODIFIED:20230910T225557Z
UID:12281-1695033000-1695038400@alum.up.edu.ph
SUMMARY:Fiscal Decentralization in the 21st Century: Tackling Emerging Challenges
DESCRIPTION:Image from the CLRG Facebook page\nJoin the webinar “Fiscal Decentralization in the 21st Century: Tackling Emerging Challenges” on September 18\, Monday\, 10:30 a.m.–12:00 p.m.\, via Zoom.\n\nThis is the second installment of the “Ugnayan Webinar Series” of the Center for Local and Regional Governance of the UP Diliman National College of Public Administration and Governance.\n\nRegister at tinyurl.com/2ndUgnayan or scan the QR code on the poster.
URL:https://alum.up.edu.ph/event/fiscal-decentralization-in-the-21st-century-tackling-emerging-challenges/
END:VEVENT
BEGIN:VEVENT
DTSTART;TZID=UTC:20230918T130000
DTEND;TZID=UTC:20230918T150000
DTSTAMP:20260424T133724
CREATED:20230912T171025Z
LAST-MODIFIED:20230912T171025Z
UID:12381-1695042000-1695049200@alum.up.edu.ph
SUMMARY:A New Arbitration in the South China Sea?
DESCRIPTION:Image from the UP College of Law Facebook page\nCatch the screening of the documentary film “A New Arbitration in the South China Sea?” on September 18\, Monday\, 1–3 p.m.\, at Malcolm Hall\, UP College of Law and via Zoom.\n\nAn open forum will also be held after viewing.\n\nTo watch via Zoom\, register at https://uplaw.ph/scsnewarb.\n\nThe event is organized by the UP Law Center Institute for the Administration of Justice.
URL:https://alum.up.edu.ph/event/a-new-arbitration-in-the-south-china-sea/
END:VEVENT
BEGIN:VEVENT
DTSTART;TZID=UTC:20230918T133000
DTEND;TZID=UTC:20230918T153000
DTSTAMP:20260424T133724
CREATED:20230911T185153Z
LAST-MODIFIED:20230911T185233Z
UID:12338-1695043800-1695051000@alum.up.edu.ph
SUMMARY:KIMATA Book Launch (Literary and visual folio of UP Baguio's Committee on Culture and the Art)
DESCRIPTION:Join Us at the KIMATA Book Launch!\n\nWe invite you to the book launch of the first two volumes of Kimata\, the literary and visual folio of UP Baguio’s Committee on Culture and the Arts.\n\nCreated at the height of the Covid-19 pandemic\, the Kimata folio is a compilation of visual and literary work from the creatives of Baguio City and nearby areas who through art\, photography\, sculpture\, poetry\, fiction\, and essay were able to document a time of economic and emotional upheaval.\n\nMay our community of artists and authors celebrate the culmination of this shared effort on 18 September at 1:30 PM in the Teatro Amianan. See you there!\n\nSource: University of the Philippines Baguio Facebook
URL:https://alum.up.edu.ph/event/kimata-book-launch/
END:VEVENT
BEGIN:VEVENT
DTSTART;TZID=UTC:20230918T140000
DTEND;TZID=UTC:20230918T180000
DTSTAMP:20260424T133724
CREATED:20230913T204908Z
LAST-MODIFIED:20230913T204908Z
UID:12427-1695045600-1695060000@alum.up.edu.ph
SUMMARY:Maria: A Documentary Film by Sheryl Rose M. Andes
DESCRIPTION:Images from the UPFI Film Center Facebook page\nEveryone is invited to the screening of the documentary film “Maria” directed by Sheryl Rose M. Andes on September 18\, 28\, and 29\, 2p.m.\, at the UP Diliman Film Institute (UPFI) Film Center.\n\nTickets are available at the cinema entrance an hour before screen time.\n\nFor more information and updates\, visit the UPFI Film Center Facebook page.
URL:https://alum.up.edu.ph/event/maria-a-documentary-film-by-sheryl-rose-m-andes/
END:VEVENT
END:VCALENDAR