BEGIN:VCALENDAR
VERSION:2.0
PRODID:-//UP Alumni Website - ECPv6.15.16//NONSGML v1.0//EN
CALSCALE:GREGORIAN
METHOD:PUBLISH
X-WR-CALNAME:UP Alumni Website
X-ORIGINAL-URL:https://alum.up.edu.ph
X-WR-CALDESC:Events for UP Alumni Website
REFRESH-INTERVAL;VALUE=DURATION:PT1H
X-Robots-Tag:noindex
X-PUBLISHED-TTL:PT1H
BEGIN:VTIMEZONE
TZID:UTC
BEGIN:STANDARD
TZOFFSETFROM:+0000
TZOFFSETTO:+0000
TZNAME:UTC
DTSTART:20220101T000000
END:STANDARD
END:VTIMEZONE
BEGIN:VEVENT
DTSTART;TZID=UTC:20230628T183000
DTEND;TZID=UTC:20231018T193000
DTSTAMP:20260424T001513
CREATED:20230606T210516Z
LAST-MODIFIED:20230606T210537Z
UID:10651-1687977000-1697657400@alum.up.edu.ph
SUMMARY:"VISION and OCCUPATION: Tools and Techniques for Visual Rehabilitation"
DESCRIPTION:From UP Occupational Therapy Facebook\n📣 WORKSHOP ALERT\n\nThe UPManila Department of Occupational Therapy invites you to join us for a specialized training course on “VISION and OCCUPATION: Tools and Techniques for Visual Rehabilitation”!\n\n👉🏻 REGISTRATION IS NOW OPEN!\nRegister at: https://bit.ly/OTVisualRehab\n\n💡 In this workshop\, you will learn about various techniques and strategies used in the evaluation and treatment of individuals with visual impairments. More than that\, you will also get to apply your learnings through actual patient interactions.\n\n⭐️ Short on CPD Units? We’ve got you covered. This course has been accredited by the PRC for 16 CPD units.\n\nFollow the UP Occupational Therapy Facebook Page for more information and updates.\n\nWe hope you can join us!\n\nSource: UP Occupational Therapy Facebook
URL:https://alum.up.edu.ph/event/vision-and-occupation-tools-and-techniques-for-visual-rehabilitation/
END:VEVENT
BEGIN:VEVENT
DTSTART;TZID=UTC:20230911T130000
DTEND;TZID=UTC:20230922T170000
DTSTAMP:20260424T001513
CREATED:20230629T163526Z
LAST-MODIFIED:20230629T163526Z
UID:11257-1694437200-1695402000@alum.up.edu.ph
SUMMARY:Post Graduate Course on Basic Health Promotion
DESCRIPTION:The Department of Health Promotion and Education of UP Manila College of Public Health invites you to the Post Graduate Course on Basic Health Promotion on 11-22 September 2023. This ten half-day short course will cover the essential concepts and strategies in health promotion and education.\n\nFor more info and early registration\, go to https://bit.ly/HealthPromotion2023\n\nSource: College of Public Health\, University of the Philippines
URL:https://alum.up.edu.ph/event/post-graduate-course-on-basic-health-promotion/
END:VEVENT
BEGIN:VEVENT
DTSTART;TZID=UTC:20230920T080000
DTEND;TZID=UTC:20230921T170000
DTSTAMP:20260424T001513
CREATED:20230129T230039Z
LAST-MODIFIED:20230129T230039Z
UID:7161-1695196800-1695315600@alum.up.edu.ph
SUMMARY:UP Manila Basic Emergency Response Team Simulation Training
DESCRIPTION:TAKE DISASTER PREPAREDNESS TO THE NEXT LEVEL.\n\nThe UP Manila Disaster Risk Reduction and Management in Health (UP Manila DRRM-H) Center is the pioneer in disaster virtual reality in the Philippines. We offer a scope of basic emergency response team simulation trainings that make use of state-of-the-art virtual reality software.\n\nThe Center opens its doors to those interested in availing our trainings for the following dates indicated below\, from March to November 2023.\n\nWe provide basic emergency response team simulation trainings that are data-driven\, evidence-based\, and capacity-building—and at the same time\, accessible and affordable.\n\nIf interested\, kindly fill out this form: bit.ly/BERTST. You may also scan the QR code below.\n\nWe are also welcome to invitations to conduct simulation trainings to be held in your respective municipalities and localities. For inquiries\, send us a message on Messenger or email us at upm-drrmh-list@up.edu.ph.\n\nTRAIN WITH US NOW!\n\n#UPMDRRMH\n#VRReady\n#DisasterPreparedness\n#DisasterResilience\n\nSource: UP Manila DRRM – H Center Facebook
URL:https://alum.up.edu.ph/event/up-manila-basic-emergency-response-team-simulation-training-7/
END:VEVENT
BEGIN:VEVENT
DTSTART;TZID=UTC:20230920T093000
DTEND;TZID=UTC:20230920T113000
DTSTAMP:20260424T001513
CREATED:20230912T173415Z
LAST-MODIFIED:20230912T173415Z
UID:12384-1695202200-1695209400@alum.up.edu.ph
SUMMARY:Oil industry structures and their effects on aid policies in East Asian countries
DESCRIPTION:Source: UP Manila Department of Social Sciences Facebook
URL:https://alum.up.edu.ph/event/oil-industry-structures-and-their-effects-on-aid-policies-in-east-asian-countries/
END:VEVENT
BEGIN:VEVENT
DTSTART;TZID=UTC:20230920T120000
DTEND;TZID=UTC:20230920T130000
DTSTAMP:20260424T001513
CREATED:20230919T193149Z
LAST-MODIFIED:20230919T193149Z
UID:12500-1695211200-1695214800@alum.up.edu.ph
SUMMARY:DYSLIPIDEMIA AND BEYOND: The Future of Dyslipidemia Management in the Philippines
DESCRIPTION:Join our webinar on DYSLIPIDEMIA on Sep 20\, Wednesday\, 12nn. This is brought to you by this year’s Silver Jubilarians\, the UP College of Medicine Class of 1998.\n\n• Zoom (early registration) – bit.ly/44YkC0s\n• Facebook (membership required) – bit.ly/3HKjseV\n• UP Manila Livestream – bit.ly/3jIitnI\n\nSource: UP Med Webinars Facebook
URL:https://alum.up.edu.ph/event/dyslipidemia-and-beyond-the-future-of-dyslipidemia-management-in-the-philippines/
END:VEVENT
END:VCALENDAR