BEGIN:VCALENDAR
VERSION:2.0
PRODID:-//UP Alumni Website - ECPv6.15.16//NONSGML v1.0//EN
CALSCALE:GREGORIAN
METHOD:PUBLISH
X-WR-CALNAME:UP Alumni Website
X-ORIGINAL-URL:https://alum.up.edu.ph
X-WR-CALDESC:Events for UP Alumni Website
REFRESH-INTERVAL;VALUE=DURATION:PT1H
X-Robots-Tag:noindex
X-PUBLISHED-TTL:PT1H
BEGIN:VTIMEZONE
TZID:UTC
BEGIN:STANDARD
TZOFFSETFROM:+0000
TZOFFSETTO:+0000
TZNAME:UTC
DTSTART:20220101T000000
END:STANDARD
END:VTIMEZONE
BEGIN:VEVENT
DTSTART;TZID=UTC:20230628T183000
DTEND;TZID=UTC:20231018T193000
DTSTAMP:20260423T063458
CREATED:20230606T210516Z
LAST-MODIFIED:20230606T210537Z
UID:10651-1687977000-1697657400@alum.up.edu.ph
SUMMARY:"VISION and OCCUPATION: Tools and Techniques for Visual Rehabilitation"
DESCRIPTION:From UP Occupational Therapy Facebook\n📣 WORKSHOP ALERT\n\nThe UPManila Department of Occupational Therapy invites you to join us for a specialized training course on “VISION and OCCUPATION: Tools and Techniques for Visual Rehabilitation”!\n\n👉🏻 REGISTRATION IS NOW OPEN!\nRegister at: https://bit.ly/OTVisualRehab\n\n💡 In this workshop\, you will learn about various techniques and strategies used in the evaluation and treatment of individuals with visual impairments. More than that\, you will also get to apply your learnings through actual patient interactions.\n\n⭐️ Short on CPD Units? We’ve got you covered. This course has been accredited by the PRC for 16 CPD units.\n\nFollow the UP Occupational Therapy Facebook Page for more information and updates.\n\nWe hope you can join us!\n\nSource: UP Occupational Therapy Facebook
URL:https://alum.up.edu.ph/event/vision-and-occupation-tools-and-techniques-for-visual-rehabilitation/
END:VEVENT
BEGIN:VEVENT
DTSTART;VALUE=DATE:20230925
DTEND;VALUE=DATE:20230930
DTSTAMP:20260423T063458
CREATED:20230907T213509Z
LAST-MODIFIED:20230920T175837Z
UID:12219-1695600000-1696031999@alum.up.edu.ph
SUMMARY:76th Year of the UP Presence in Iloilo
DESCRIPTION:Let’s celebrate!\n\nThe 76th year of UP presence in Iloilo celebration is happening from 25-29 September 2023 with a wide array of activities to enjoy in both Miagao and Iloilo City campuses! This year’s theme is “Pasanyog: Enhancing Our Strengths\, Broadening Our Reach\, Deepening Our Roots.”\n\nThe five-day celebration will formally open on 25 September with a flag raising ceremony at the Oblation Plaza\, Iloilo City campus to be attended by the University officials\, faculty\, and staff. It will be followed by a thanksgiving mass at 9:00 AM at the Auditorium. The opening program will take place thereafter. Pagtunda sa Palaabuton\, a laying of the time capsule activity\, will follow at the Oblation Plaza.\n\nThe highlight of the first day of the celebration will be the Chancellor’s Awards for Outstanding Performance and Service Awards\, which will recognize the exemplary performance of the University’s faculty and staff. This will be followed by a concert at the Auditorium titled “Mga Lanton kag Ambahanon Naton.”\n\nCheck out the schedule of activities below and be part of the celebration!\n\nSource: University of the Philippines Visayas Facebook
URL:https://alum.up.edu.ph/event/76th-year-of-the-up-presence-in-iloilo/
END:VEVENT
BEGIN:VEVENT
DTSTART;TZID=UTC:20230929T090000
DTEND;TZID=UTC:20230929T120000
DTSTAMP:20260423T063458
CREATED:20230927T215924Z
LAST-MODIFIED:20230927T215924Z
UID:12648-1695978000-1695988800@alum.up.edu.ph
SUMMARY:Balik Scientist Program Exit Report Presentation
DESCRIPTION:Image from the IB Facebook page\nThe UP Diliman Institute of Biology (IB) invites everyone to the “Balik Scientist Program Exit Report Presentation” by Gene P. Ables\, DVM\, PhD on Friday\, September 29\, 9 a.m.–12 p.m.\, at the IB Auditorium.\n\nAbles is an associate scientist at the Orentreich Foundation for the Advancement of Science\, Cold Spring\, New York\, USA.
URL:https://alum.up.edu.ph/event/balik-scientist-program-exit-report-presentation/
END:VEVENT
BEGIN:VEVENT
DTSTART;TZID=UTC:20230929T100000
DTEND;TZID=UTC:20230929T120000
DTSTAMP:20260423T063458
CREATED:20230927T220029Z
LAST-MODIFIED:20230927T220029Z
UID:12651-1695981600-1695988800@alum.up.edu.ph
SUMMARY:Kinaray-a: Ang Papel ng Masisiglang Wika sa Diskurso ng Panganganib Pangwika
DESCRIPTION:Imahe mula sa UPD Department of Linguistics Facebook page\nMakilahok sa panayam na “Kinaray-a: Ang Papel ng Masisiglang Wika sa Diskurso ng Panganganib Pangwika” ni Noah Cruz sa darating na Biyernes\, Setyembre 29\, 10 n.u.\, sa Room 428\, Palma Hall\, UP Diliman (UPD).\n\nSi Cruz ay instruktor at gradwadong mag-aaral ng UPD Department of Linguistics.\n\nIto ay bahagi ng “Philippine Indigenous Languages Lecture Series” ng departamento.
URL:https://alum.up.edu.ph/event/kinaray-a-ang-papel-ng-masisiglang-wika-sa-diskurso-ng-panganganib-pangwika/
END:VEVENT
BEGIN:VEVENT
DTSTART;TZID=UTC:20230929T100000
DTEND;TZID=UTC:20230929T120000
DTSTAMP:20260423T063458
CREATED:20230928T171032Z
LAST-MODIFIED:20230928T171032Z
UID:12682-1695981600-1695988800@alum.up.edu.ph
SUMMARY:One ASEAN: Unifying Health for People\, Animals\, and Ecosystems!
DESCRIPTION:Today’s the day for the Let’s Talk It Over on One Health\, One ASEAN: Unifying Health for People\, Animals\, and Ecosystems!\n\nWe are slated at 10 AM today and it’s not yet late to join us and register at https://url.upou.edu.ph/LTIO-Registration-Link\n\nJoin us today at the UP Open University (UPOU) Audiovisual room and online via:\nUPOU Networks: https://networks.upou.edu.ph/\nUPOU YouTube Channel: https://www.youtube.com/@UPOpenUniversityNetworks\nUPOU Networks Facebook page: https://www.facebook.com/UPOpenUniversityNetworks\n\nSource: UPOU Faculty of Management & Development Studies Facebook
URL:https://alum.up.edu.ph/event/one-asean-unifying-health-for-people-animals-and-ecosystems/
END:VEVENT
BEGIN:VEVENT
DTSTART;TZID=UTC:20230929T120000
DTEND;TZID=UTC:20230929T140000
DTSTAMP:20260423T063458
CREATED:20230906T170837Z
LAST-MODIFIED:20230927T204156Z
UID:12185-1695988800-1695996000@alum.up.edu.ph
SUMMARY:Stop COVID Deaths Webinar #165: “Tiis-Ganda\, Dagdag-Bawas\, Ligtas Ba?” Promoting Safety in Cosmetic Surgery
DESCRIPTION:The University of the Philippines in partnership with\nNational Telehealth Center of the UP Manila-National Institutes of Health and in cooperation with\nUP Philippine General Hospital and\nUP College of Medicine\nwould like to invite you to join the Fight Against C.O.V.I.D.! \n  \nRegistration slots are limited to this SPECIAL EDITION of\nthe STOP C.O.V.I.D. DEATHS Webinar Series.\n(Current COVID-19 problems; Other outbreaks; Viruses; Infections; Disasters)\nSo sign up NOW:\nbit.ly/StopCOVIDDeathsWebinar165 \n  \nWebinar #165\nSeptember 29\, 2023 (Friday) 12nn\n“Tiis-Ganda\, Dagdag-Bawas\, Ligtas Ba?” Promoting Safety in Cosmetic Surgery\n\nPresenter:\nDR. JOSE JOVEN CRUZ\nUP College of Medicine Class of 1992\nProfessor of Plastic Surgery and Associate Dean\, UP College of Medicine\nAttending Plastic Surgeon\, Department of Surgery\, UP-Philippine General Hospital\nCurrent Regent\, Philippine College of Surgeons\nPast President\, Philippine Association of Plastic\, Reconstructive\, and Aesthetic Surgeons\, Inc.\n\nReactor:\nDR. ERIC PERPETUO ARCILLA\nUP College of Medicine Class of 1992\nAssociate Professor & Chief\, Division of Plastic Surgery\, Department of Surgery\nUP-Philippine General Hospital\n\nSynthesis & Closing Remarks:\nDR. STELLA MARIE L. JOSE\nHead\, Office of Expanded Education and Training\nUP Philippine General Hospital\n\n———————————————————–\n\nSeptember 29\, 2023 (Friday) 12nn\nWebinar #165\n“Tiis-Ganda\, Dagdag-Bawas\, Ligtas Ba?” Promoting Safety in Cosmetic Surgery\n\nCosmetic surgery is a rapidly evolving field that offers transformative benefits to countless individuals. However\, ensuring safety during these procedures is paramount. Frontline healthcare workers\, including nurses\, anesthesiologists\, and surgical technicians\, will gain valuable knowledge to enhance patient care and safety during cosmetic surgeries. Attendees will gain insights into making informed decisions when considering cosmetic procedures\, ensuring their well-being is prioritized throughout the process. This event aims to foster a deeper understanding of safety measures in cosmetic surgery and our expert panel will share their insights\, best practices\, and experiences in promoting a culture of safety within the cosmetic surgery industry.\n\nThis week on STOP COVID DEATHS\, our main speaker is Dr. Jose Joven Cruz\, who serves as Professor of Plastic Surgery and Associate Dean at the UP College of Medicine; an Attending Plastic Surgeon\, Department of Surgery at the UP-Philippine General Hospital; Current Regent of the Philippine College of Surgeons; and Past President of the Philippine Association of Plastic\, Reconstructive\, and Aesthetic Surgeons\, Inc. Our reactor is Dr. Eric Perpetuo Arcilla\, who is the Chief of the Division of Plastic Surgery of the Department of Surgery\, UP-Philippine General Hospital. The Synthesis and Closing Remarks will be delivered by Dr. Stella Marie L. Jose\, who is the Head of the Office of Expanded Education and Training at the UP Philippine General Hospital.\n\nJoin us to be a part of this insightful discussion. Together\, we can contribute to a safer and more informed cosmetic surgery landscape. Let’s ensure that cosmetic surgery remains a path to enhancing beauty and self-confidence while prioritizing the health and safety of all individuals involved. Together\, we can make a difference.\n\nTogether\, we can stop preventable deaths!
URL:https://alum.up.edu.ph/event/stop-covid-deaths-webinar-165/
END:VEVENT
BEGIN:VEVENT
DTSTART;TZID=UTC:20230929T140000
DTEND;TZID=UTC:20230929T160000
DTSTAMP:20260423T063458
CREATED:20230913T204953Z
LAST-MODIFIED:20230913T204953Z
UID:12433-1695996000-1696003200@alum.up.edu.ph
SUMMARY:Maria: A Documentary Film by Sheryl Rose M. Andes
DESCRIPTION:Images from the UPFI Film Center Facebook page\nEveryone is invited to the screening of the documentary film “Maria” directed by Sheryl Rose M. Andes on September 18\, 28\, and 29\, 2p.m.\, at the UP Diliman Film Institute (UPFI) Film Center.\n\nTickets are available at the cinema entrance an hour before screen time.\n\nFor more information and updates\, visit the UPFI Film Center Facebook page.
URL:https://alum.up.edu.ph/event/maria-a-documentary-film-by-sheryl-rose-m-andes-3/
END:VEVENT
BEGIN:VEVENT
DTSTART;TZID=UTC:20230929T140000
DTEND;TZID=UTC:20230929T164500
DTSTAMP:20260423T063458
CREATED:20230905T180754Z
LAST-MODIFIED:20230905T180754Z
UID:12132-1695996000-1696005900@alum.up.edu.ph
SUMMARY:16th International Infectious Diseases Forum
DESCRIPTION:The National Institutes of Health – National Clinical Trials and Translation Center (NCTTC) invites you to the 16th International Infectious Diseases Forum of the National Center for Global Medicine (NCGM) to be held via Zoom.\n\n📅 September 29\, 2023\n🕑 2:00 PM to 4:45 PM (PST)\n\nPresentations will be interpreted in English.\n\nThe main theme of this forum is “Updates on AMR – Trends and Countermeasures for Antimicrobial-resistant Bacterial Infections\, and New Antibiotics – ”\n\n1st session: Current Situation & Challenges of Antimicrobial-resistant Bacteria\n2nd session: Clinical Testing\, Countermeasures\, Antibacterial Therapy and Antibiotics\n\nRegister for free by scanning the QR code in the event poster.\n\nSource: University of the Philippines Manila Facebook
URL:https://alum.up.edu.ph/event/16th-international-infectious-diseases-forum/
END:VEVENT
BEGIN:VEVENT
DTSTART;TZID=UTC:20230929T160000
DTEND;TZID=UTC:20230929T170000
DTSTAMP:20260423T063458
CREATED:20230919T192928Z
LAST-MODIFIED:20230919T192928Z
UID:12495-1696003200-1696006800@alum.up.edu.ph
SUMMARY:"Nanotechnology: Liquid Crystals as Drug Carriers"
DESCRIPTION:We are inviting you to attend the 6th IPS Research Hour Webinar on 29 September 2023 (Friday) | 4:00 PM to 5:00 PM (Phil time) via Zoom.\n\nThis FREE webinar is entitled: “Nanotechnology: Liquid Crystals as Drug Carriers” and will be discussed by a young pharmaceutical scientist expert\, Dr. Gerard Lee See\, from the University of San Carlos\, Cebu City.\n\nThis webinar is meant to enrich your knowledge on the principles of a new technological approach in the delivery of drugs as applied to liquid crystals as nanocarriers for biological targets. This is open to all health and allied professionals\, pharmacists\, clinicians\, researchers\, faculty members\, students and other interested participants.\n\nPlease register by clicking on this link: https://bit.ly/IPSResearchHour_Sep2023\n\nWe suggest registering in advance. If there is any problem with this link\, please contact the NIH-IPS secretariat email c/o Ms Ana Rose Palmes: ips_nih.upm@up.edu.ph. After registering\, you will receive a confirmation email containing information about joining the meeting in Zoom.\n\nSource: University of the Philippines Manila Facebook
URL:https://alum.up.edu.ph/event/nanotechnology-liquid-crystals-as-drug-carriers/
END:VEVENT
BEGIN:VEVENT
DTSTART;TZID=UTC:20230929T160000
DTEND;TZID=UTC:20230929T180000
DTSTAMP:20260423T063458
CREATED:20230927T220139Z
LAST-MODIFIED:20230927T220139Z
UID:12655-1696003200-1696010400@alum.up.edu.ph
SUMMARY:Econ x Tech = Better Results
DESCRIPTION:Image from the SE Facebook page\nJoin the lecture “Econ x Tech = Better Results” on Friday\, September 29\, 4 p.m.\, at the Judith R. Duavit-Vasquez and Class of 1984 Lecture Room\, UP Diliman School of Economics (SE) and via Zoom.\n\nThe guest speakers are Kartu Prakerja Program’s Project Management Office’s executive director Denni Puspa Purbasari\, PhD and director of operations and technology Hengki Sihombing.\n\nTo register\, visit https://bit.ly/3Pp26bn (on-site) or https://bit.ly/3sUBEig (via Zoom)\, or scan the QR codes on the poster.\n\nThis is presented by the SE and the Philippine Center for Economic Development.
URL:https://alum.up.edu.ph/event/econ-x-tech-better-results/
END:VEVENT
BEGIN:VEVENT
DTSTART;TZID=UTC:20230929T210000
DTEND;TZID=UTC:20230929T230000
DTSTAMP:20260423T063458
CREATED:20230829T173126Z
LAST-MODIFIED:20230829T173126Z
UID:11961-1696021200-1696028400@alum.up.edu.ph
SUMMARY:UPAAA "In Conversation Online Series" (Spotlights Outstanding Alumni) Part 4
DESCRIPTION:In Conversation Online Series\nSpotlights Outstanding Alumni\n\nMeet the UPAAA Oblation Awards 2023 recipients and hear their remarkable stories.\n\nJoin us for In Conversation—a free\, online series (held on the Zoom platform) featuring brief presentations by each awardee\, followed by a moderated conversation and audience Q&A.\n\nFriday\, September 29\n6PM PT | 8PM CT | 9PM ET\n\nTo attend this free\, online event: Simply click on the link below on the day of the event (September 15)\, about 5-10 minutes prior to the start of the online event\, as noted above. You will be directed to the online waiting room\, then admitted into the Zoom room.\n\nATTEND (FREE)\n\nHear from the UPAAA 2023 Lifetime Achievement Award Recipient\n\nFrancisco Santos Sy\, MD DrPH\n\nProfessor of Public Health and Chair of the Department of Environmental and Occupational Health in the School of Public Health at the University of Nevada\, Las Vegas (UNLV)
URL:https://alum.up.edu.ph/event/upaaa-in-conversation-online-series-spotlights-outstanding-alumni-part-4/
END:VEVENT
BEGIN:VEVENT
DTSTART;TZID=UTC:20230929T210000
DTEND;TZID=UTC:20230929T230000
DTSTAMP:20260423T063458
CREATED:20230925T220646Z
LAST-MODIFIED:20230925T220646Z
UID:12610-1696021200-1696028400@alum.up.edu.ph
SUMMARY:UPAAA “In Conversation Online Series” (Spotlights Outstanding Alumni) Part 4
DESCRIPTION:In Conversation Online Series\nSpotlights Outstanding Alumni\n\nMeet the UPAAA Oblation Awards 2023 recipients and hear their remarkable stories.\n\nJoin us for In Conversation—a free\, online series (held on the Zoom platform) featuring brief presentations by each awardee\, followed by a moderated conversation and audience Q&A.\n\nTo register for the GRC: https://upaaagrc2023.eventbrite.com
URL:https://alum.up.edu.ph/event/upaaa-in-conversation-online-series-spotlights-outstanding-alumni-part-4-2/
END:VEVENT
END:VCALENDAR