BEGIN:VCALENDAR
VERSION:2.0
PRODID:-//UP Alumni Website - ECPv6.15.16//NONSGML v1.0//EN
CALSCALE:GREGORIAN
METHOD:PUBLISH
X-WR-CALNAME:UP Alumni Website
X-ORIGINAL-URL:https://alum.up.edu.ph
X-WR-CALDESC:Events for UP Alumni Website
REFRESH-INTERVAL;VALUE=DURATION:PT1H
X-Robots-Tag:noindex
X-PUBLISHED-TTL:PT1H
BEGIN:VTIMEZONE
TZID:UTC
BEGIN:STANDARD
TZOFFSETFROM:+0000
TZOFFSETTO:+0000
TZNAME:UTC
DTSTART:20220101T000000
END:STANDARD
END:VTIMEZONE
BEGIN:VEVENT
DTSTART;VALUE=DATE:20231003
DTEND;VALUE=DATE:20231025
DTSTAMP:20260423T214500
CREATED:20230924T220640Z
LAST-MODIFIED:20230924T220640Z
UID:12588-1696291200-1698191999@alum.up.edu.ph
SUMMARY:2023 UP Manila Wellness and Sports Festival
DESCRIPTION:The University of the Philippines Manila will hold the Wellness and Sports Festival this October 2023. The UP Manila Wellness and Sports Festival Committee has prepared a month-long wellness and sports activities for the UP Manila community.\n\nThe University community is enjoined to actively participate in the various activities and to stay tuned for updates and the pre-registration forms for the wellness activities and sports events from the Committee.\n\nSource: UP Manila Facebook
URL:https://alum.up.edu.ph/event/2023-up-manila-wellness-and-sports-festival/
END:VEVENT
BEGIN:VEVENT
DTSTART;TZID=UTC:20231009T080000
DTEND;TZID=UTC:20231028T170000
DTSTAMP:20260423T214500
CREATED:20231009T185509Z
LAST-MODIFIED:20231009T185509Z
UID:12880-1696838400-1698512400@alum.up.edu.ph
SUMMARY:CSSP 40th Founding Anniversary Activities
DESCRIPTION:Join the activities organized by the UP Diliman College of Social Sciences and Philosophy this October in celebration of its 40th founding anniversary.\n\nRefer to the schedule below for more details.
URL:https://alum.up.edu.ph/event/cssp-40th-founding-anniversary-activities/
END:VEVENT
BEGIN:VEVENT
DTSTART;TZID=UTC:20231014T090000
DTEND;TZID=UTC:20231031T170000
DTSTAMP:20260423T214500
CREATED:20231012T230957Z
LAST-MODIFIED:20231012T230957Z
UID:13000-1697274000-1698771600@alum.up.edu.ph
SUMMARY:Marco Ruben T. Malto II's 'Bisa' painting exhibit
DESCRIPTION:The following is a press release from the ‘Bisa’ painting exhibit.\n\nWhen the horn-headed aliens from planet Boazan invade to conquer Earth\, a team of young heroes goes “Let’s volt in!” and turns into Voltes V to save the day. Pilots of five attack vehicles fly into a V formation\, and using ultra-electromagnetic energy\, they come together to boost their strength to fight the superior Boazanians. This mind-blowing transformation into a Super Electromagnetic Machine that kept its young viewers glued to their screens happens with the LSS-inducing theme song in the background and the all-too-familiar battle cry\, “Voltes Fiiiive-vah!”\n\nThe recent return of Voltes V on mainstream TV banks on the power of nostalgia over the beloved Japanese anime\, particularly among its first Filipino viewers whose excitement for its nearing finale was cut short by the banning of the show in 1979 for promoting “unwholesome attitudes among children toward violence.” But the show’s fanatics swear the story of Voltes V promotes good values with the heroes looking for their missing father\, the underdogs standing up against injustice\, tyranny and oppression\, and the five pilots learning the value of teamwork. For many\, Voltes V is really about “family and freedom.”\n\nThe V in this iconic anime character stands for the five heroes\, and presumably their ultimate goal — Victory. Coincidentally\, the rebirth of the popular “peace sign” during the last presidential campaign resembles the letter V\, with the candidates waving it ending up victorious indeed. Perhaps more than any other political party\, the current officials put a premium on the impact of images\, and the power of propaganda. More than a year into the “New Philippines” regime\, and upon lifting the country’s state of emergency from the COVID-19 pandemic\, logo launching became a regular event. Government agencies have been promoting their redesigned logos left and right as part of the administration’s campaign for a new brand of governance and leadership. Bagong Pilipinas is “characterized by a principled\, accountable and dependable government reinforced by unified institutions of society\,” and it comes with its own logo.\n\nLogos\, after all\, are graphics for easy recall and understanding of what a brand is all about. The design is as important as the capacity of the brand to make good on its commitment to its audience. When a government\, or any organization\, cannot deliver on its brand promise\, then the logo means nothing. There is a fine line between branding and propaganda. Branding happens when a word\, a slogan\, an image\, or a logo is repeatedly projected to the public until it remains firmly in their memory\, and they finally take it for a fact. Political branding involves government and political actors\, and can be used for either public information or mass disinformation. The success of political branding or campaigns to instil ideas aimed at shaping public opinions have been most evident in the past national elections. An entire nation suffering from “truth decay” has been voting based on its perceived facts. As one Madam once pointed out\, “Perception is real\, the truth is not.”\n\nAmid all the brouhaha over the strongly criticized government logos and campaigns\, Bagong Pilipinas has been marked by high inflation rates\, high prices of basic commodities\, high unemployment rates\, and low expectations from incumbent leaders. 51% of the Filipino families who rated themselves “poor\,” and even the 30% who considered themselves on “borderline\,” are bearing the brunt of poor public service delivery\, problematic education system\, tensions in West Philippine Sea\, damages due to extreme weather changes\, red-tagging\, and mounting cases of massive corruption. With hope running dry\, most Filipinos\, particularly those without privilege or power\, are turning yet again to their most available source of strength — their faith. Some would argue that in “faith\, hope\, and love\,” the greatest of all is faith.\n\nFaithful Filipinos can be followers of superpowers or local heroes\, saints or deities\, prayers or rituals\, religious articles or amulets\, influencers or idols\, political parties or patronage\, vaccines or facemasks\, Lazada or Shopee. Faith in the protection and power offered by these fountains of hope is a comfort provider to overcome challenges\, as well as a courage booster to make things happen. Faith is a formidable force — the vaccine to a virus\, the booster to a weakening immunity\, the Voltes V to Prince Zardoz. Faith is hoping for heroes’ timely rescue\, the prayer to one’s god for protection\, the undying quest for mystical powers\, the rain dance to water shortage\, the dopamine from fangirling K-pop idols or binge-watching K-dramas\, and the highly sought-after assurance from political alliances.\n\nIn his painting exhibit Bisa\, artist\, University of the Philippines Fine Arts professor\, and painter Marco Ruben T. Malto II examines the efficacy\, influence\, power\, or strength of various forms of faith. This is not the first time Malto has featured manifestations of the Filipino faith in his works. Faith and the beliefs that they represent using the enigmatic anting-anting elements is a recurring theme in the artist’s works\, alongside his suggestive narratives referencing popular images to reflect on current issues dominating the nation. The symbols found in anting-antings can be traced to hybrid beliefs combining Roman-Judeo-Christian religion and Filipino folk beliefs in the Bathala. Just as each element in a logo design is strategically decided to achieve desired results\, the symbols etched in the amulets are meticulously composed in order to heal\, protect\, and strengthen the faithful wearer. In Bisa\, the artist showcases how every text in pidgin Latin deliberately inscribed in his works are interplayed with imageries to put to power what many Filipinos consider their talisman.\n\nMalto’s Bisa Exhibit opens on Saturday\, October 14\, at 6 pm\, at Boston Gallery (2nd Flr) on 72 Boston Street\, Cubao\, Quezon City. The exhibit runs until October 31\, 2023. Gallery hours are from 9 am to 5 pm\, Tuesdays to Sundays.\n\nAbout the artist\n\nEvery year\, for the past 10 years\, solo exhibitions by Marco Ruben T. Malto II embody themes capturing the country’s current crucial concerns and how they interplay with history and the nuances of the Filipino culture. The professor in the artist constantly aspires to educate by engaging his public in important national discourses — using his works to characterize and to comment on the socio-political conditions of the present\, while remembering history and drawing on cultural references from thematic beliefs and practices that are distinctly Filipino.\n\nMalto is a graduate of UP Diliman College of Fine Arts (UPCFA) completing his Bachelor of Fine Arts Major in Painting degree in 1993\, and his Master of Fine Arts degree in 2002. He has been teaching at UPCFA-Department of Studio Arts since 2002\, and has been a recipient of the University Artist Award\, and the UP Diliman Centennial Professorial Chair Award for his annual solo exhibits from 2013 to 2022.\n\nSource: https://www.rappler.com/bulletin-board/bisa-painting-exhibit-quezon-city-october-2023/
URL:https://alum.up.edu.ph/event/marco-ruben-t-malto-iis-bisa-painting-exhibit/
END:VEVENT
BEGIN:VEVENT
DTSTART;TZID=UTC:20231019T100000
DTEND;TZID=UTC:20240126T160000
DTSTAMP:20260423T214500
CREATED:20231018T181649Z
LAST-MODIFIED:20231018T181649Z
UID:13137-1697709600-1706284800@alum.up.edu.ph
SUMMARY:Waray-Pag-ultan han Pinulongan: Mulay-Mulay ha Binisaya (Waray without Borders: Playing with Words)
DESCRIPTION:Waray-Pag-ultan han Pinulongan: Mulay-Mulay ha Binisaya (Waray without Borders: Playing with Words)\n\nThe Leyte Samar Heritage Center is marking its 28th founding anniversary and Museums and Galleries Month this October with a new exhibit on the Binisaya/Waray language with the title “Waray Pag-ultan han Pinulongan: Mulay-Mulay ha Binisaya (Waray without Borders: Playing with Words).”\n\nThe free interactive exhibit underscores how language carries the collective knowledge of our ancestors\, how it shapes our identity as a people\, and how it helps us navigate this modern world.\n\nEveryone is invited to view the exhibit anytime between 19 October 2023 and 26 January 2024\, from 10:00 AM to 4:00 PM on weekdays except holidays. Book your visit by filling out this form [https://bit.ly/WarayLanguageExhibit].\n\nSource: UP Tacloban – Leyte Samar Heritage Center Facebook
URL:https://alum.up.edu.ph/event/waray-pag-ultan-han-pinulongan-mulay-mulay-ha-binisaya-waray-without-borders-playing-with-words/
END:VEVENT
BEGIN:VEVENT
DTSTART;TZID=UTC:20231020T080000
DTEND;TZID=UTC:20231122T170000
DTSTAMP:20260423T214500
CREATED:20231016T214947Z
LAST-MODIFIED:20231016T214947Z
UID:13056-1697788800-1700672400@alum.up.edu.ph
SUMMARY:Indigenous Peoples Month
DESCRIPTION:🌿✨ Embrace the Living Heritage in Creativity and Nature! Join us in celebrating Indigenous Peoples Month this October at the University of the Philippines Baguio! ✨🌿\n\nUniversity of the Philippines Baguio Committee on Culture and the Arts (CCA)\, Program for Indigenous Cultures (PIC)\, Cordillera Textiles Research Project (CordiTex)\, University Student Council (USC)\, and Pagawisan Tako Am-in (PAGTA) are proud to invite the entire UP Baguio community to a month-long celebration dedicated to honoring the rich heritage of our Indigenous Peoples.\n\nUnder the Presidential Proclamation No. 1906 and the Indigenous Peoples Rights Act (IPRA)\, we are delighted to bring you an array of activities that echo the essence of indigenous cultural vibrance and awareness.\n\nLet us come together\, learn\, and celebrate the beauty of our Living Heritage! Join us in this meaningful journey of discovery\, appreciation\, and cultural harmony.\n\nOctober 20 | 11 AM Living Cultural Tradition: Pinikpikan Lecture-Demonstration\nOctober 20 | 2 PM Education Discussion: Weaponry\nOctober 23-26 | 9 AM PiCafe 3\nOctober 25 | 8 AM Dad-an Tako Conference\nOctober 27 | 10 AM Living Cultural Tradition: Tapëy Making Lecture-Demonstration\nNovember 17 | Intangible Cultural Heritage Workshop\nNovember 23 | Weaving Workshop with The CordiTex Project\nNovember 2023 | AYUYANG\n\nTogether\, let’s make this Indigenous Peoples Month a meaningful celebration for our Living Heritage!\n\nSource: UP Baguio Program for Indigenous Cultures Facebook
URL:https://alum.up.edu.ph/event/indigenous-peoples-month/
END:VEVENT
BEGIN:VEVENT
DTSTART;TZID=UTC:20231021T050000
DTEND;TZID=UTC:20231021T100000
DTSTAMP:20260423T214500
CREATED:20231020T002706Z
LAST-MODIFIED:20231020T002706Z
UID:13203-1697864400-1697882400@alum.up.edu.ph
SUMMARY:UPLB Saturday Bazaar
DESCRIPTION:Source: UPLB Business Affairs Office Facebook
URL:https://alum.up.edu.ph/event/uplb-saturday-bazaar-4/
END:VEVENT
BEGIN:VEVENT
DTSTART;TZID=UTC:20231021T080000
DTEND;TZID=UTC:20231021T110000
DTSTAMP:20260423T214500
CREATED:20231019T162907Z
LAST-MODIFIED:20231019T162907Z
UID:13166-1697875200-1697886000@alum.up.edu.ph
SUMMARY:Linis Komunidad
DESCRIPTION:Ang UP Diliman Office of Community Relations (OCR) ay magsasagawa ng “Linis Komunidad” sa Sabado\, Oktubre 21\, 8 n.u.\, sa Malantic Bukid\, Pook Amorsolo.\n\nSa mga nais maging bahagi ng gawaing ito\, tumawag lamang sa (02) 8981–8627 o magpadala ng mensahe sa OCR Facebook page.
URL:https://alum.up.edu.ph/event/linis-komunidad/
END:VEVENT
BEGIN:VEVENT
DTSTART;TZID=UTC:20231021T090000
DTEND;TZID=UTC:20231021T170000
DTSTAMP:20260423T214500
CREATED:20230731T221749Z
LAST-MODIFIED:20230731T221749Z
UID:11605-1697878800-1697907600@alum.up.edu.ph
SUMMARY:13th Advanced Leadership and Management Course
DESCRIPTION:The training program “13th Advanced Leadership and Management Course” of the UP Diliman Institute for Small-Scale Industries (ISSI) will be conducted for 11 Saturdays starting August 12 until October 21\, 9 a.m.-5 p.m.\, at the 3rd Floor\, ISSI Building.\n\nRegister at http://bit.ly/UPISSI_2023TrainingRegistration.\n\nFor inquiries\, email Jefferson Sumalabe (jcsumalabe@up.edu.ph) and Krystel Soria (ktsoria@up.edu.ph).\n\nSee photo for more details.
URL:https://alum.up.edu.ph/event/13th-advanced-leadership-and-management-course-11/
END:VEVENT
BEGIN:VEVENT
DTSTART;TZID=UTC:20231021T113000
DTEND;TZID=UTC:20231021T143000
DTSTAMP:20260423T214500
CREATED:20231017T163904Z
LAST-MODIFIED:20231017T163904Z
UID:13090-1697887800-1697898600@alum.up.edu.ph
SUMMARY:Stata II: Basic Econometrics Using Data
DESCRIPTION:Image from the SE Facebook page\nThe online training “Stata II: Basic Econometrics Using Data” will be held on October 21 and 28\, Saturdays\, 11:30 a.m.–2:30 p.m. and 3:30–5:30 p.m.\, via Zoom.\n\nInterested participants may register at https://bit.ly/Stata2-2023 until October 17.\n\nThe resource speaker is Marife Lou L. Bacate\, a development economist.\n\nThis is organized by the UP Diliman School of Economics and the Philippine Center for Economic Development.\n\nEmail upsetraining.upd@up.edu.ph for inquiries.
URL:https://alum.up.edu.ph/event/stata-ii-basic-econometrics-using-data/
END:VEVENT
BEGIN:VEVENT
DTSTART;TZID=UTC:20231021T170000
DTEND;TZID=UTC:20231021T210000
DTSTAMP:20260423T214500
CREATED:20231005T210936Z
LAST-MODIFIED:20231005T210936Z
UID:12861-1697907600-1697922000@alum.up.edu.ph
SUMMARY:CSSP Alumni Homecoming 2023
DESCRIPTION:TO OUR CSSP ALUMNI:\n\nIt has been 40 years since the creation of the three colleges — the College of Arts and Letters (CAL)\, the College of Science (CS)\, and the College of Social Sciences and Philosophy (CSSP) — from the old College of Arts and Sciences. To celebrate this milestone event\, CSSP has organized a series of activities this month of October. The theme of the College’s 40th year celebration is “Pagpapanibagong Lunsad Tungo sa Bagong Paglilingkod”\, which underscores the College’s commitment to service and its integral role in nurturing UP graduates.\n\nCentral to this month’s celebration is the Alumni Homecoming and the establishment of the CSSP Alumni Association. In relation to this\, we are cordially inviting all CSSP Alumni to attend the 2023 Alumni Homecoming to be held on OCTOBER 21\, 2023 (Saturday) AT THE PALMA HALL LOBBY\, University of the Philippines Diliman. Registration opens at 4 p.m.\n\nWe also request a small donation (preferably at least P500) to help establish and sustain the CSSP Alumni Association.\n\nTo help us acquire a head count of attendees\, collect information on food preferences\, and receive donations\, we likewise request that you fill up the RSVP form through this link: https://forms.gle/9AwMFvLVHmAbtRvQ8\n\nFor any questions or concerns\, please email the CSSP External Affairs Officer through eaccsp.upd@up.edu.ph\n\nThank you and we look forward to seeing you!\n\nSource: UPD CSSP External Affairs Office Facebook
URL:https://alum.up.edu.ph/event/cssp-alumni-homecoming-2023/
END:VEVENT
BEGIN:VEVENT
DTSTART;TZID=UTC:20231021T170000
DTEND;TZID=UTC:20231021T210000
DTSTAMP:20260423T214500
CREATED:20231016T235045Z
LAST-MODIFIED:20231016T235153Z
UID:13067-1697907600-1697922000@alum.up.edu.ph
SUMMARY:UPIEAA Alumni Homecoming
DESCRIPTION:fIEsta 2023 (UPIEAA Alumni Homecoming)\n\nTo see one another face-to-face after being apart for four long years calls for a celebration. And\, not just any celebration\, but a fIEsta!\n\nUPIEAA Alumni Homecoming for 2023 will be a fIEsta you wouldn’t want to miss.\n\nMarking our 52nd year with a fIEsta means lots of Pinoy food. Sumptuous Lechon\, Fish Balls\, Squid Balls\, with every Filipino’s drink of choice\, locally brewed Beer! At dahil walang nag-bago\, kwuentuhan over drinks and yummy food on the grounds of PeyUps!\n\nA live band with an open mic and dancing to help relive the memories is part of the fIEsta! Games and raffle prizes too!\n\nAnd since we have a shared mission\, we will share ideas with fellow alumni on how we can collaborate and help one other in each of our industries and communities to help build our country as influencers and leaders in our respective fields.\n\nRegistration Fees\nThese fees will be utilized for the event costs and more importantly for programs that the UP IE AA run to help support our beloved Department and develop assistance programs for our faculty and students who require financial assistance.\n\nRegular and Walk-in Registration Fee:\nPhP 1\,200.00\n\nEarly Bird Registration Fee (if you register and pay on or before September 30\, 2023):\nPhP 1\,100.00\n\nBarkada Table Fee – option to do bulk registration for one table (10 pax) on or before September 30\, 2023:\nPhP 10\,000\n*Barkada Table registrations need to be pre-advised by way of email enumerating the names and point of contact who will settle payment to\n\nA confirmation email or viber message will be sent to you once payment is received.\n\nRegister here!\n\nhttps://docs.google.com/…/1756CCchuxyiaSWGtBmq5MY4…/edit\n\nSource: UP IE Alumni Association Facebook
URL:https://alum.up.edu.ph/event/upieaa-alumni-homecoming/
END:VEVENT
BEGIN:VEVENT
DTSTART;TZID=UTC:20231021T180000
DTEND;TZID=UTC:20231021T220000
DTSTAMP:20260423T214500
CREATED:20231016T235522Z
LAST-MODIFIED:20231016T235543Z
UID:13071-1697911200-1697925600@alum.up.edu.ph
SUMMARY:UP EEE Alumni Homecoming 2023
DESCRIPTION:BACK ON TRACK: Advancing Innovation in the Age of AI\n\nPre-register for the homecoming at https://bit.ly/RSVPEEEHomecoming2023\n\nThis event is free for all UP EEE alumni.\n\nFor further inquiries\, you may send an email to alumni@eee.upd.edu.ph or call (02) 925-2957 or 981-8500 loc. 3300 or 3301. Please look for Claude / Colline / Belay.\n\nVisit the Facebook page event for more info
URL:https://alum.up.edu.ph/event/up-eee-alumni-homecoming-2023/
END:VEVENT
BEGIN:VEVENT
DTSTART;TZID=UTC:20231021T190000
DTEND;TZID=UTC:20231021T233000
DTSTAMP:20260423T214500
CREATED:20230829T180358Z
LAST-MODIFIED:20230829T180358Z
UID:11970-1697914800-1697931000@alum.up.edu.ph
SUMMARY:UPAAA Oblation Awards 2023
DESCRIPTION:The in-person awards ceremony for the UPAAA Oblation Awards\, 2023 takes place on October 21\, 2023\, as part of Day 3 of the Grand Reunion & Convention (GRC) 2023 in New Brunswick\, New Jersey.\n\nTickets for the Gala & Awards Night only are $150 per person (+$10.76 fee) and include dinner and dancing. Dress code is formal attire.\n\nRESERVE YOUR SPOT
URL:https://alum.up.edu.ph/event/upaaa-oblation-awards-2023/
END:VEVENT
END:VCALENDAR