BEGIN:VCALENDAR
VERSION:2.0
PRODID:-//UP Alumni Website - ECPv6.15.16//NONSGML v1.0//EN
CALSCALE:GREGORIAN
METHOD:PUBLISH
X-WR-CALNAME:UP Alumni Website
X-ORIGINAL-URL:https://alum.up.edu.ph
X-WR-CALDESC:Events for UP Alumni Website
REFRESH-INTERVAL;VALUE=DURATION:PT1H
X-Robots-Tag:noindex
X-PUBLISHED-TTL:PT1H
BEGIN:VTIMEZONE
TZID:UTC
BEGIN:STANDARD
TZOFFSETFROM:+0000
TZOFFSETTO:+0000
TZNAME:UTC
DTSTART:20220101T000000
END:STANDARD
END:VTIMEZONE
BEGIN:VEVENT
DTSTART;TZID=UTC:20231019T100000
DTEND;TZID=UTC:20240126T160000
DTSTAMP:20260422T090001
CREATED:20231018T181649Z
LAST-MODIFIED:20231018T181649Z
UID:13137-1697709600-1706284800@alum.up.edu.ph
SUMMARY:Waray-Pag-ultan han Pinulongan: Mulay-Mulay ha Binisaya (Waray without Borders: Playing with Words)
DESCRIPTION:Waray-Pag-ultan han Pinulongan: Mulay-Mulay ha Binisaya (Waray without Borders: Playing with Words)\n\nThe Leyte Samar Heritage Center is marking its 28th founding anniversary and Museums and Galleries Month this October with a new exhibit on the Binisaya/Waray language with the title “Waray Pag-ultan han Pinulongan: Mulay-Mulay ha Binisaya (Waray without Borders: Playing with Words).”\n\nThe free interactive exhibit underscores how language carries the collective knowledge of our ancestors\, how it shapes our identity as a people\, and how it helps us navigate this modern world.\n\nEveryone is invited to view the exhibit anytime between 19 October 2023 and 26 January 2024\, from 10:00 AM to 4:00 PM on weekdays except holidays. Book your visit by filling out this form [https://bit.ly/WarayLanguageExhibit].\n\nSource: UP Tacloban – Leyte Samar Heritage Center Facebook
URL:https://alum.up.edu.ph/event/waray-pag-ultan-han-pinulongan-mulay-mulay-ha-binisaya-waray-without-borders-playing-with-words/
END:VEVENT
BEGIN:VEVENT
DTSTART;TZID=UTC:20231020T080000
DTEND;TZID=UTC:20231122T170000
DTSTAMP:20260422T090001
CREATED:20231016T214947Z
LAST-MODIFIED:20231016T214947Z
UID:13056-1697788800-1700672400@alum.up.edu.ph
SUMMARY:Indigenous Peoples Month
DESCRIPTION:🌿✨ Embrace the Living Heritage in Creativity and Nature! Join us in celebrating Indigenous Peoples Month this October at the University of the Philippines Baguio! ✨🌿\n\nUniversity of the Philippines Baguio Committee on Culture and the Arts (CCA)\, Program for Indigenous Cultures (PIC)\, Cordillera Textiles Research Project (CordiTex)\, University Student Council (USC)\, and Pagawisan Tako Am-in (PAGTA) are proud to invite the entire UP Baguio community to a month-long celebration dedicated to honoring the rich heritage of our Indigenous Peoples.\n\nUnder the Presidential Proclamation No. 1906 and the Indigenous Peoples Rights Act (IPRA)\, we are delighted to bring you an array of activities that echo the essence of indigenous cultural vibrance and awareness.\n\nLet us come together\, learn\, and celebrate the beauty of our Living Heritage! Join us in this meaningful journey of discovery\, appreciation\, and cultural harmony.\n\nOctober 20 | 11 AM Living Cultural Tradition: Pinikpikan Lecture-Demonstration\nOctober 20 | 2 PM Education Discussion: Weaponry\nOctober 23-26 | 9 AM PiCafe 3\nOctober 25 | 8 AM Dad-an Tako Conference\nOctober 27 | 10 AM Living Cultural Tradition: Tapëy Making Lecture-Demonstration\nNovember 17 | Intangible Cultural Heritage Workshop\nNovember 23 | Weaving Workshop with The CordiTex Project\nNovember 2023 | AYUYANG\n\nTogether\, let’s make this Indigenous Peoples Month a meaningful celebration for our Living Heritage!\n\nSource: UP Baguio Program for Indigenous Cultures Facebook
URL:https://alum.up.edu.ph/event/indigenous-peoples-month/
END:VEVENT
BEGIN:VEVENT
DTSTART;TZID=UTC:20231106T130000
DTEND;TZID=UTC:20231117T170000
DTSTAMP:20260422T090001
CREATED:20230425T164950Z
LAST-MODIFIED:20230425T164950Z
UID:9586-1699275600-1700240400@alum.up.edu.ph
SUMMARY:UP Manila HOPE Course (Virtual)
DESCRIPTION:𝐑𝐞𝐠𝐢𝐬𝐭𝐫𝐚𝐭𝐢𝐨𝐧 𝐢𝐬 𝐧𝐨𝐰 𝐨𝐩𝐞𝐧 𝐟𝐨𝐫 𝐭𝐡𝐞 𝐇𝐎𝐏𝐄 𝐂𝐨𝐮𝐫𝐬𝐞! 𝐓𝐡𝐞 𝐧𝐞𝐱𝐭 𝐛𝐚𝐭𝐜𝐡 𝐟𝐨𝐫 𝐭𝐡𝐢𝐬 𝐲𝐞𝐚𝐫 𝐰𝐢𝐥𝐥 𝐛𝐞 𝐨𝐧 𝐌𝐚𝐲 𝟏𝟓-𝟐𝟔\, 𝟐𝟎𝟐𝟑\, 𝐟𝐫𝐨𝐦 𝟏 𝐏𝐌 𝐭𝐨 𝟓 𝐏𝐌 𝐝𝐚𝐢𝐥𝐲. 𝐓𝐡𝐢𝐬 𝐛𝐚𝐭𝐜𝐡 𝐡𝐚𝐬 𝟏𝟓𝟎 𝐂𝐌𝐄 𝐮𝐧𝐢𝐭𝐬 𝐠𝐫𝐚𝐧𝐭𝐞𝐝 𝐛𝐲 𝐭𝐡𝐞 𝐏𝐡𝐢𝐥𝐢𝐩𝐩𝐢𝐧𝐞 𝐂𝐨𝐥𝐥𝐞𝐠𝐞 𝐨𝐟 𝐄𝐦𝐞𝐫𝐠𝐞𝐧𝐜𝐲 𝐌𝐞𝐝𝐢𝐜𝐢𝐧𝐞 (𝐏𝐂𝐄𝐌).\n\nScan the QR code below\, or visit bit.ly/UPMHOPE to register.\n\nThe monthly schedule for this year is indicated below\, along with the answers to some of the frequently asked questions.\n\nHospital Preparedness for Emergencies (HOPE) is a course of the Program for Enhancement of Emergency Response that was developed by the United States Agency for International Development through its Office of U.S. Foreign Disaster Assistance in collaboration with the Asian Disaster Preparedness Center\, John Hopkins University\, National Society for Earthquake Technology-Nepal\, and a team of leading experts from the Asia Pacific region.\n\nThe course has been tested and delivered in Bangladesh\, Indonesia\, Nepal\, and the Philippines. A certificate that contains the logo of the Asian Disaster Preparedness Center: Program for Enhancement of Emergency Response will be handed to each participant after finishing the course.\n\nFor more information\, kindly refer to this link: https://bit.ly/3EIETvI.\n\nFor more inquiries\, kindly send us an email at upm-drrmh-list@up.edu.ph or ping us on Messenger.\n\nSource: UP Manila DRRM – H Center Facebook
URL:https://alum.up.edu.ph/event/up-manila-hope-course-virtual-6/
END:VEVENT
BEGIN:VEVENT
DTSTART;TZID=UTC:20231113T083000
DTEND;TZID=UTC:20231113T121000
DTSTAMP:20260422T090001
CREATED:20231109T175214Z
LAST-MODIFIED:20231109T175214Z
UID:13540-1699864200-1699877400@alum.up.edu.ph
SUMMARY:IM Graduate Research Colloquium
DESCRIPTION:Images from the IM Facebook page\nThe UP Diliman Institute of Mathematics (IM) invites everyone to the “IM Graduate Research Colloquium” on November 13\, Monday\, 8:30 a.m.–12:10 p.m.\, at Room 118\, Main Building.\n\nTo join\, register at bit.ly/imgradcolloqnov23 until November 10\, Friday\, 3 p.m.
URL:https://alum.up.edu.ph/event/im-graduate-research-colloquium/
END:VEVENT
BEGIN:VEVENT
DTSTART;TZID=UTC:20231113T090000
DTEND;TZID=UTC:20231113T120000
DTSTAMP:20260422T090001
CREATED:20231026T222716Z
LAST-MODIFIED:20231026T222716Z
UID:13342-1699866000-1699876800@alum.up.edu.ph
SUMMARY:Land of Turmoil: Colonization and Division of the Korean Peninsula
DESCRIPTION:[SPECIAL LECTURE] Land of Turmoil: Colonization and Division of the Korean Peninsula\n\n🔹️Date: NOV 6 & NOV 13\, 9am – 12pm (GMT+8)\n🔹️Mode: Online (ZOOM\, YouTube Live Streaming)\n🔸️Registration Link: https://bit.ly/SpecialLecture2023\n\nThe special lecture is co-hosted by the UP Center for International Studies (UPCIS)\, UP KRC\, and Seoul National University – Asia Center (SNUAC) on two Mondays\, Nov 6 & Nov 13\, 2023. This is an ONLINE event and open to the public.\n\n🔹️TOPICS:\n(1) November 6: Japanese Colonialism and the Independence Movement\n(2) November 13: Division of Korea & Post-war Korean History and Democratization\n\n🔸️Speaker: Dr. Benjamin A. Engel is a Research Professor at the Institute of International Affairs\, Seoul National University. He received his Ph.D. and Master’s in International Studies from the Graduate School of International Studies\, Seoul National University. His dissertation\, entitled “A Search for a Tacit Agreement: U.S.-ROK Relations and Human Rights\, 1972-1980\,” focuses on the development of U.S. human rights diplomacy toward South Korea and the subsequent ROK government response during the 1970s. His recent academic publications include “For the Sake of Appearances: The Case of South Korean Authoritarian Image Management in the 1970s” published in The Korean Journal of International Studies in 2023\, and “Aiding and Abetting: Role of Foreign Missionaries in the South Korean Democracy Movement” published in Korea Observer in 2020.\n\nSource: UP Korea Research Center Facebook
URL:https://alum.up.edu.ph/event/land-of-turmoil-colonization-and-division-of-the-korean-peninsula-2/
END:VEVENT
BEGIN:VEVENT
DTSTART;TZID=UTC:20231113T100000
DTEND;TZID=UTC:20231113T120000
DTSTAMP:20260422T090001
CREATED:20231109T174028Z
LAST-MODIFIED:20231109T174028Z
UID:13534-1699869600-1699876800@alum.up.edu.ph
SUMMARY:Sixth Public History Symposium: Navigating Pre-colonial History in the Public Realm
DESCRIPTION:(Imahe mula sa UPD Departamento ng Kasaysayan Facebook page\nTunghayan ang “Sixth Public History Symposium” ng UP Diliman (UPD) Departamento ng Kasaysayan\, na may temang “Navigating Pre-colonial History in the Public Realm\,” sa darating na Nobyembre 13\, Lunes\, 10 n.u.–12 n.h.\, sa Palma Hall 400\, UPD.\n\nAng mga pangunahing tagapagsalita ay sina Maria Bernadette L. Abrera\, PhD\, dating dekana ng UPD College of Social Sciences and Philosophy; Mary Jane Louise A. Bolunia\, PhD ng National Museum of the Philippines Archaeology Division; at Jennifer Pia T. Sibug-Las\, tagapangulo ng National Commission on Indigenous Peoples.
URL:https://alum.up.edu.ph/event/sixth-public-history-symposium-navigating-pre-colonial-history-in-the-public-realm/
END:VEVENT
BEGIN:VEVENT
DTSTART;TZID=UTC:20231113T110000
DTEND;TZID=UTC:20231113T120000
DTSTAMP:20260422T090001
CREATED:20231109T174156Z
LAST-MODIFIED:20231109T174156Z
UID:13537-1699873200-1699876800@alum.up.edu.ph
SUMMARY:Serbisyong Tatak UP: Environment\, Gender\, and Conflict
DESCRIPTION:Imahe mula sa DZUP Facebook page\nAbangan ang programang “Serbisyong Tatak UP” ng DZUP 1602 tampok ang episode na “Environment\, Gender\, and Conflict” sa darating na Nobyembre 13\, Lunes\, 11 n.u.–12 n.h.\n\nMakakasama rito si Tobias Ide\, isang senior lecturer sa Murdoch University of Perth\, Australia at Specially Appointed Professor for Peace and Sustainability sa Hiroshima University\, Japan.\n\nMapapanood ito nang live sa DZUP Facebook page at mapapakinggan sa https://dzup.org/.\n\nIto ay hatid ng UP Diliman National Service Training Program Office\, sa pakikipagtulungan ng DZUP 1602.
URL:https://alum.up.edu.ph/event/serbisyong-tatak-up-environment-gender-and-conflict/
END:VEVENT
BEGIN:VEVENT
DTSTART;TZID=UTC:20231113T130000
DTEND;TZID=UTC:20231113T173000
DTSTAMP:20260422T090001
CREATED:20231109T175346Z
LAST-MODIFIED:20231109T175346Z
UID:13545-1699880400-1699896600@alum.up.edu.ph
SUMMARY:4th Graduate Student Research Conference
DESCRIPTION:Image from the CS Facebook page\nThe UP Diliman College of Science (CS) invites everyone to the “4th Graduate Student Research Conference” on November 13\, Monday\, 1:00–5:30 p.m.\, at the CS Admin Building Auditorium.\n\nFor updates\, visit the CS Facebook page.
URL:https://alum.up.edu.ph/event/4th-graduate-student-research-conference/
END:VEVENT
BEGIN:VEVENT
DTSTART;TZID=UTC:20231113T133000
DTEND;TZID=UTC:20231113T153000
DTSTAMP:20260422T090001
CREATED:20231108T185732Z
LAST-MODIFIED:20231108T185732Z
UID:13476-1699882200-1699889400@alum.up.edu.ph
SUMMARY:UPLB Professorial Chair Lecture "The Revolution in Martial Law Cinema and Literature"
DESCRIPTION:Join us as Assoc. Prof. Laurence Marvin S. Castillo of the Department of Humanities delivers his Professorial Chair Lecture titled “The Revolution in Martial Law Cinema and Literature” on 13 November 2023 at the Makiling Film Lab\, ICOPED Building. The lecture is free and open to the public.\n\nSource: UPLB Department of Humanities Facebook
URL:https://alum.up.edu.ph/event/uplb-professorial-chair-lecture-the-revolution-in-martial-law-cinema-and-literature/
END:VEVENT
END:VCALENDAR