BEGIN:VCALENDAR
VERSION:2.0
PRODID:-//UP Alumni Website - ECPv6.15.16//NONSGML v1.0//EN
CALSCALE:GREGORIAN
METHOD:PUBLISH
X-WR-CALNAME:UP Alumni Website
X-ORIGINAL-URL:https://alum.up.edu.ph
X-WR-CALDESC:Events for UP Alumni Website
REFRESH-INTERVAL;VALUE=DURATION:PT1H
X-Robots-Tag:noindex
X-PUBLISHED-TTL:PT1H
BEGIN:VTIMEZONE
TZID:UTC
BEGIN:STANDARD
TZOFFSETFROM:+0000
TZOFFSETTO:+0000
TZNAME:UTC
DTSTART:20220101T000000
END:STANDARD
END:VTIMEZONE
BEGIN:VEVENT
DTSTART;TZID=UTC:20231019T100000
DTEND;TZID=UTC:20240126T160000
DTSTAMP:20260423T070519
CREATED:20231018T181649Z
LAST-MODIFIED:20231018T181649Z
UID:13137-1697709600-1706284800@alum.up.edu.ph
SUMMARY:Waray-Pag-ultan han Pinulongan: Mulay-Mulay ha Binisaya (Waray without Borders: Playing with Words)
DESCRIPTION:Waray-Pag-ultan han Pinulongan: Mulay-Mulay ha Binisaya (Waray without Borders: Playing with Words)\n\nThe Leyte Samar Heritage Center is marking its 28th founding anniversary and Museums and Galleries Month this October with a new exhibit on the Binisaya/Waray language with the title “Waray Pag-ultan han Pinulongan: Mulay-Mulay ha Binisaya (Waray without Borders: Playing with Words).”\n\nThe free interactive exhibit underscores how language carries the collective knowledge of our ancestors\, how it shapes our identity as a people\, and how it helps us navigate this modern world.\n\nEveryone is invited to view the exhibit anytime between 19 October 2023 and 26 January 2024\, from 10:00 AM to 4:00 PM on weekdays except holidays. Book your visit by filling out this form [https://bit.ly/WarayLanguageExhibit].\n\nSource: UP Tacloban – Leyte Samar Heritage Center Facebook
URL:https://alum.up.edu.ph/event/waray-pag-ultan-han-pinulongan-mulay-mulay-ha-binisaya-waray-without-borders-playing-with-words/
END:VEVENT
BEGIN:VEVENT
DTSTART;TZID=UTC:20231020T080000
DTEND;TZID=UTC:20231122T170000
DTSTAMP:20260423T070519
CREATED:20231016T214947Z
LAST-MODIFIED:20231016T214947Z
UID:13056-1697788800-1700672400@alum.up.edu.ph
SUMMARY:Indigenous Peoples Month
DESCRIPTION:🌿✨ Embrace the Living Heritage in Creativity and Nature! Join us in celebrating Indigenous Peoples Month this October at the University of the Philippines Baguio! ✨🌿\n\nUniversity of the Philippines Baguio Committee on Culture and the Arts (CCA)\, Program for Indigenous Cultures (PIC)\, Cordillera Textiles Research Project (CordiTex)\, University Student Council (USC)\, and Pagawisan Tako Am-in (PAGTA) are proud to invite the entire UP Baguio community to a month-long celebration dedicated to honoring the rich heritage of our Indigenous Peoples.\n\nUnder the Presidential Proclamation No. 1906 and the Indigenous Peoples Rights Act (IPRA)\, we are delighted to bring you an array of activities that echo the essence of indigenous cultural vibrance and awareness.\n\nLet us come together\, learn\, and celebrate the beauty of our Living Heritage! Join us in this meaningful journey of discovery\, appreciation\, and cultural harmony.\n\nOctober 20 | 11 AM Living Cultural Tradition: Pinikpikan Lecture-Demonstration\nOctober 20 | 2 PM Education Discussion: Weaponry\nOctober 23-26 | 9 AM PiCafe 3\nOctober 25 | 8 AM Dad-an Tako Conference\nOctober 27 | 10 AM Living Cultural Tradition: Tapëy Making Lecture-Demonstration\nNovember 17 | Intangible Cultural Heritage Workshop\nNovember 23 | Weaving Workshop with The CordiTex Project\nNovember 2023 | AYUYANG\n\nTogether\, let’s make this Indigenous Peoples Month a meaningful celebration for our Living Heritage!\n\nSource: UP Baguio Program for Indigenous Cultures Facebook
URL:https://alum.up.edu.ph/event/indigenous-peoples-month/
END:VEVENT
BEGIN:VEVENT
DTSTART;TZID=UTC:20231106T130000
DTEND;TZID=UTC:20231117T170000
DTSTAMP:20260423T070519
CREATED:20230425T164950Z
LAST-MODIFIED:20230425T164950Z
UID:9586-1699275600-1700240400@alum.up.edu.ph
SUMMARY:UP Manila HOPE Course (Virtual)
DESCRIPTION:𝐑𝐞𝐠𝐢𝐬𝐭𝐫𝐚𝐭𝐢𝐨𝐧 𝐢𝐬 𝐧𝐨𝐰 𝐨𝐩𝐞𝐧 𝐟𝐨𝐫 𝐭𝐡𝐞 𝐇𝐎𝐏𝐄 𝐂𝐨𝐮𝐫𝐬𝐞! 𝐓𝐡𝐞 𝐧𝐞𝐱𝐭 𝐛𝐚𝐭𝐜𝐡 𝐟𝐨𝐫 𝐭𝐡𝐢𝐬 𝐲𝐞𝐚𝐫 𝐰𝐢𝐥𝐥 𝐛𝐞 𝐨𝐧 𝐌𝐚𝐲 𝟏𝟓-𝟐𝟔\, 𝟐𝟎𝟐𝟑\, 𝐟𝐫𝐨𝐦 𝟏 𝐏𝐌 𝐭𝐨 𝟓 𝐏𝐌 𝐝𝐚𝐢𝐥𝐲. 𝐓𝐡𝐢𝐬 𝐛𝐚𝐭𝐜𝐡 𝐡𝐚𝐬 𝟏𝟓𝟎 𝐂𝐌𝐄 𝐮𝐧𝐢𝐭𝐬 𝐠𝐫𝐚𝐧𝐭𝐞𝐝 𝐛𝐲 𝐭𝐡𝐞 𝐏𝐡𝐢𝐥𝐢𝐩𝐩𝐢𝐧𝐞 𝐂𝐨𝐥𝐥𝐞𝐠𝐞 𝐨𝐟 𝐄𝐦𝐞𝐫𝐠𝐞𝐧𝐜𝐲 𝐌𝐞𝐝𝐢𝐜𝐢𝐧𝐞 (𝐏𝐂𝐄𝐌).\n\nScan the QR code below\, or visit bit.ly/UPMHOPE to register.\n\nThe monthly schedule for this year is indicated below\, along with the answers to some of the frequently asked questions.\n\nHospital Preparedness for Emergencies (HOPE) is a course of the Program for Enhancement of Emergency Response that was developed by the United States Agency for International Development through its Office of U.S. Foreign Disaster Assistance in collaboration with the Asian Disaster Preparedness Center\, John Hopkins University\, National Society for Earthquake Technology-Nepal\, and a team of leading experts from the Asia Pacific region.\n\nThe course has been tested and delivered in Bangladesh\, Indonesia\, Nepal\, and the Philippines. A certificate that contains the logo of the Asian Disaster Preparedness Center: Program for Enhancement of Emergency Response will be handed to each participant after finishing the course.\n\nFor more information\, kindly refer to this link: https://bit.ly/3EIETvI.\n\nFor more inquiries\, kindly send us an email at upm-drrmh-list@up.edu.ph or ping us on Messenger.\n\nSource: UP Manila DRRM – H Center Facebook
URL:https://alum.up.edu.ph/event/up-manila-hope-course-virtual-6/
END:VEVENT
BEGIN:VEVENT
DTSTART;TZID=UTC:20231114T080000
DTEND;TZID=UTC:20231116T170000
DTSTAMP:20260423T070519
CREATED:20231001T221615Z
LAST-MODIFIED:20231001T221615Z
UID:12726-1699948800-1700154000@alum.up.edu.ph
SUMMARY:2023 MCI and Triage Training
DESCRIPTION:Photo from UP Manila FB\n𝗥𝗘𝗚𝗜𝗦𝗧𝗘𝗥 𝗡𝗢𝗪 for the last two batches of the MCI and Triage Training in 2023! Early registrants will receive a discount on their registration fee!\n\nEarly registration period is until two weeks before the scheduled training. October 11\, 2023 for the October batch and October 31\, 2023 for the November batch.\n\nThe Mass Casualty Incident and Triage Training aims to provide participants with the concepts and purpose of triage during mass casualty incidents\, including the utilization of various triage system algorithms using case-scenario-based simulation exercises\, and to also provide the participants with the competence in triaging with advanced knowledge\, skills\, and attitude in applying disaster triage systems for correct assignment of victims to appropriate triage categories.\n\nRegistration can be paid over the counter at the UP Manila Cash Office or via bank deposit. Online payment methods are also available. For further inquiries\, kindly send us an email at upm-drrmh-list@up.edu.ph or ping us on Messenger.\n\nSource: University of the Philippines Manila Facebook
URL:https://alum.up.edu.ph/event/2023-mci-and-triage-training-2/
END:VEVENT
BEGIN:VEVENT
DTSTART;TZID=UTC:20231114T090000
DTEND;TZID=UTC:20231114T120000
DTSTAMP:20260423T070519
CREATED:20231109T213404Z
LAST-MODIFIED:20231109T213404Z
UID:13558-1699952400-1699963200@alum.up.edu.ph
SUMMARY:ZamBaSulTa: SUCs and HEIs Collaboration Meeting
DESCRIPTION:University of the Philippines Diliman Ugnayan ng Pahinungod will be holding ZamBaSulTa: SUCs and HEIs Collaboration Meeting on November 14\, 2023 (Tuesday) at 9 AM via Zoom. Open to students of participating ZamBaSulTa SUCs and HEIs.\n\nRegister now at: https://tinyurl.com/UNPZamBaSulTaStudentsReg or scan the QR code.\n\nSource: University of the Philippines Facebook
URL:https://alum.up.edu.ph/event/zambasulta-sucs-and-heis-collaboration-meeting/
END:VEVENT
BEGIN:VEVENT
DTSTART;TZID=UTC:20231114T100000
DTEND;TZID=UTC:20231114T120000
DTSTAMP:20260423T070519
CREATED:20231113T154804Z
LAST-MODIFIED:20231113T154804Z
UID:13576-1699956000-1699963200@alum.up.edu.ph
SUMMARY:OIL-D Umalohokan Series: Nanyang Technological University\, Singapore
DESCRIPTION:Image from the OIL-D Facebook page\nThe UP Diliman (UPD) Office of International Linkages will hold the “OIL-D Umalohokan Series: Nanyang Technological University (NTU)\, Singapore” tomorrow\, November 14\, 10 a.m.–12 p.m.\, at Palma Hall 207\, UPD College of Social Sciences and Philosophy.\n\nThis is an information session on the graduate programs of NTU. The resource speaker is Rahul Singh\, an assistant director of Global Marketing and Strategy of the Office of International Engagement\, NTU.\n\nThe event is open to UPD faculty\, researchers\, and staff.\n\nRegister at https://tinyurl.com/48psfkcz or scan the QR code on the poster.
URL:https://alum.up.edu.ph/event/oil-d-umalohokan-series-nanyang-technological-university-singapore/
END:VEVENT
BEGIN:VEVENT
DTSTART;TZID=UTC:20231114T140000
DTEND;TZID=UTC:20231114T150000
DTSTAMP:20260423T070519
CREATED:20231107T175916Z
LAST-MODIFIED:20231107T182200Z
UID:13449-1699970400-1699974000@alum.up.edu.ph
SUMMARY:Better Communication Strategies for Persons with Hearing Loss
DESCRIPTION:The Philippine National Ear Institute\, together with the Newborn Hearing Screening Reference Center\, UPCM Department of Otolaryngology-Head and Neck Surgery\, and College of Allied Medical Professions would like to invite you to its celebration of Deaf Awareness Week from November 13-17\, 2023 with the theme :\n\nFacilitating Effective Communication between the Deaf and Hard of Hearing Community and Healthcare Professionals.\n\nThis week will be highlighted by two webinars open for practicing clinicians and students.\n\nRegister Now:\n\nCommunication Strategies for Persons with Hearing Loss (Nov 14\, 2pm-3pm) https://tinyurl.com/xtt2as6d\n\nOrientation to Deaf Culture and Basic Sign Language Training (Nov 16\, 2pm-4:30pm in partnership with Deaf and Terp) *limited slots only*\nhttps://tinyurl.com/2tkdhnkn\n\nSource: University of the Philippines Manila Facebook
URL:https://alum.up.edu.ph/event/better-communication-strategies-for-persons-with-hearing-loss/
END:VEVENT
END:VCALENDAR