BEGIN:VCALENDAR
VERSION:2.0
PRODID:-//UP Alumni Website - ECPv6.15.16//NONSGML v1.0//EN
CALSCALE:GREGORIAN
METHOD:PUBLISH
X-WR-CALNAME:UP Alumni Website
X-ORIGINAL-URL:https://alum.up.edu.ph
X-WR-CALDESC:Events for UP Alumni Website
REFRESH-INTERVAL;VALUE=DURATION:PT1H
X-Robots-Tag:noindex
X-PUBLISHED-TTL:PT1H
BEGIN:VTIMEZONE
TZID:UTC
BEGIN:STANDARD
TZOFFSETFROM:+0000
TZOFFSETTO:+0000
TZNAME:UTC
DTSTART:20220101T000000
END:STANDARD
END:VTIMEZONE
BEGIN:VEVENT
DTSTART;TZID=UTC:20231019T100000
DTEND;TZID=UTC:20240126T160000
DTSTAMP:20260423T031613
CREATED:20231018T181649Z
LAST-MODIFIED:20231018T181649Z
UID:13137-1697709600-1706284800@alum.up.edu.ph
SUMMARY:Waray-Pag-ultan han Pinulongan: Mulay-Mulay ha Binisaya (Waray without Borders: Playing with Words)
DESCRIPTION:Waray-Pag-ultan han Pinulongan: Mulay-Mulay ha Binisaya (Waray without Borders: Playing with Words)\n\nThe Leyte Samar Heritage Center is marking its 28th founding anniversary and Museums and Galleries Month this October with a new exhibit on the Binisaya/Waray language with the title “Waray Pag-ultan han Pinulongan: Mulay-Mulay ha Binisaya (Waray without Borders: Playing with Words).”\n\nThe free interactive exhibit underscores how language carries the collective knowledge of our ancestors\, how it shapes our identity as a people\, and how it helps us navigate this modern world.\n\nEveryone is invited to view the exhibit anytime between 19 October 2023 and 26 January 2024\, from 10:00 AM to 4:00 PM on weekdays except holidays. Book your visit by filling out this form [https://bit.ly/WarayLanguageExhibit].\n\nSource: UP Tacloban – Leyte Samar Heritage Center Facebook
URL:https://alum.up.edu.ph/event/waray-pag-ultan-han-pinulongan-mulay-mulay-ha-binisaya-waray-without-borders-playing-with-words/
END:VEVENT
BEGIN:VEVENT
DTSTART;TZID=UTC:20231121T080000
DTEND;TZID=UTC:20231123T123000
DTSTAMP:20260423T031613
CREATED:20231012T172219Z
LAST-MODIFIED:20231012T172219Z
UID:12988-1700553600-1700742600@alum.up.edu.ph
SUMMARY:2nd Regional Short Course on Implementation Research
DESCRIPTION:The Department of Health Policy and Administration invites you to the 2nd Regional Short Course on Implementation Research from 21 – 23 November 2023\, 8:00 AM – 12:30 PM PhST via Zoom platform.\n\nThis course will enhance participants’ expertise in implementing research for improved healthcare delivery quality. It will cover models\, frameworks\, and strategies to address implementation research gaps\, allowing participants to create research protocols infused with implementation research components for potential funding and real-world application.\n\nThe registration fee is PHP 6\,000.00.\n\nPlease register here: https://tinyurl.com/ImplementationResearch2023\n\nSource: University of the Philippines Manila Facebook
URL:https://alum.up.edu.ph/event/2nd-regional-short-course-on-implementation-research/
END:VEVENT
BEGIN:VEVENT
DTSTART;TZID=UTC:20231121T080000
DTEND;TZID=UTC:20231123T170000
DTSTAMP:20260423T031613
CREATED:20231010T221542Z
LAST-MODIFIED:20231010T221542Z
UID:12961-1700553600-1700758800@alum.up.edu.ph
SUMMARY:Pista nga Mapa 2023
DESCRIPTION:UP Tacloban is hosting Pista nga Mapa 2023 on 21-23 November 2023.\n\nPista ng Mapa (Festival of Maps) is the pioneer and premier free and open conference in the Philippines for and by people who have a passion for open mapping\, open data\, and open source. It aims to generate public interest\, advocate and advance the use of open (geo) data\, promote free and open source software for geospatial (FOSS4G)\, and support local open mapping communities around the Philippines.\n\nPista ng Mapa 2023 is being held in Tacloban City on the 10th anniversary of supertyphoon Yolanda.\n\nFollow Pista ng Mapa’s official FB page for more insights\, narratives\, and thought-provoking discussions on the profound impact of open mapping and open data in disaster resilience.\n\nSource: University of the Philippines Tacloban Facebook
URL:https://alum.up.edu.ph/event/pista-nga-mapa-2023/
END:VEVENT
BEGIN:VEVENT
DTSTART;TZID=UTC:20231121T170000
DTEND;TZID=UTC:20231124T180000
DTSTAMP:20260423T031613
CREATED:20231120T220013Z
LAST-MODIFIED:20231120T220013Z
UID:13749-1700586000-1700848800@alum.up.edu.ph
SUMMARY:UP College of Pharmacy "Reinforcing Antimicrobial Awareness of Filipino Pharmacists"
DESCRIPTION:CALLING PHARMACISTS AND PHARMACY STUDENTS!\n\nYou are all invited to the UPCP’s celebration of the Philippine AMR Awareness Week with the theme: Reinforcing Antimicrobial Awareness of Filipino Pharmacists. We have FREE lectures on AMR for human health from November 21-24 every 5-6PM!\n\nYou may use the QR codes below to register to the different lectures we have in store for you. Together\, let us raise AMR awareness!\n\nSource: UP College of Pharmacy Facebook
URL:https://alum.up.edu.ph/event/up-college-of-pharmacy-reinforcing-antimicrobial-awareness-of-filipino-pharmacists/
END:VEVENT
BEGIN:VEVENT
DTSTART;TZID=UTC:20231122T080000
DTEND;TZID=UTC:20231123T170000
DTSTAMP:20260423T031613
CREATED:20230129T230153Z
LAST-MODIFIED:20230129T230153Z
UID:7165-1700640000-1700758800@alum.up.edu.ph
SUMMARY:UP Manila Basic Emergency Response Team Simulation Training
DESCRIPTION:TAKE DISASTER PREPAREDNESS TO THE NEXT LEVEL.\n\nThe UP Manila Disaster Risk Reduction and Management in Health (UP Manila DRRM-H) Center is the pioneer in disaster virtual reality in the Philippines. We offer a scope of basic emergency response team simulation trainings that make use of state-of-the-art virtual reality software.\n\nThe Center opens its doors to those interested in availing our trainings for the following dates indicated below\, from March to November 2023.\n\nWe provide basic emergency response team simulation trainings that are data-driven\, evidence-based\, and capacity-building—and at the same time\, accessible and affordable.\n\nIf interested\, kindly fill out this form: bit.ly/BERTST. You may also scan the QR code below.\n\nWe are also welcome to invitations to conduct simulation trainings to be held in your respective municipalities and localities. For inquiries\, send us a message on Messenger or email us at upm-drrmh-list@up.edu.ph.\n\nTRAIN WITH US NOW!\n\n#UPMDRRMH\n#VRReady\n#DisasterPreparedness\n#DisasterResilience\n\nSource: UP Manila DRRM – H Center Facebook
URL:https://alum.up.edu.ph/event/up-manila-basic-emergency-response-team-simulation-training-9/
END:VEVENT
BEGIN:VEVENT
DTSTART;TZID=UTC:20231122T080000
DTEND;TZID=UTC:20231124T170000
DTSTAMP:20260423T031613
CREATED:20231121T222714Z
LAST-MODIFIED:20231121T222714Z
UID:13868-1700640000-1700845200@alum.up.edu.ph
SUMMARY:UPLB Science Film Festival
DESCRIPTION:The Department of Science Communication once again partners with Goethe-Institut for the annual Science Film Festival (SFF). As part of our 25th Anniversary\, DSC will screen SFF films from November 22-24\, 2023 at SEARCA Umali Auditorium.\n\nThis event is free\, on a first come first serve basis. Register through: bit.ly/sffptix23\n\nNow on it’s 14th edition with the theme “UN Decade on Ecosystem Restoration”\, this year’s festival brings 34 international science edutainment films for students (from primary to college) to creatively explore the issue of ecosystem restoration and to engage in science in a fun way.\n\nSource: UPLB Devcom Facebook
URL:https://alum.up.edu.ph/event/uplb-science-film-festival/
END:VEVENT
BEGIN:VEVENT
DTSTART;TZID=UTC:20231122T080000
DTEND;TZID=UTC:20231126T170000
DTSTAMP:20260423T031613
CREATED:20231121T213841Z
LAST-MODIFIED:20231121T213841Z
UID:13847-1700640000-1701018000@alum.up.edu.ph
SUMMARY:UP Visayas "National Science\, Technology\, and Innovation Week 2023"
DESCRIPTION:𝗙𝗼𝗿 𝗦𝗰𝗶𝗲𝗻𝗰𝗲 𝗮𝗻𝗱 𝘁𝗵𝗲 𝗣𝗲𝗼𝗽𝗹𝗲: 𝗨𝗣 𝗩𝗶𝘀𝗮𝘆𝗮𝘀 𝗷𝗼𝗶𝗻𝘀 𝗡𝗦𝗧𝗪 𝟮𝟬𝟮𝟯\n\nThe University of the Philippines Visayas joins the celebration of DOST National Science\,Technology\, and Innovation Week 2023 in Iloilo City on November 22-26\, 2023.\n\nFaculty and researchers of the University will present papers in scientific sessions organized by DOST-PCAARRD\, DOST-PCHRD and DOST-Balik Scientist Program at the Iloilo Convention Center on November 22-23\, 2023.\n\nThe University has prepared exhibits in two areas: Main S & T Exhibit in the Iloilo Convention Center and in Lawud: Marine S & T Exhibit at the M/V Capt. John B. Lacson Training Ship at Muelle Loney St.\, Iloilo City. This will be on November 22-26\, 2023\, 8AM-5PM.\\n\nAlso\, UPV is partnering with DOST Region VI for the NSTW TechnoTours wherein the university will showcase various research\, development and innovation facilities of the UPV Regional Research Center.\n\nThis will be on November 22-25\, 2023 at the UPV RRC Building\, Miagao\, Iloilo.\n\nSource: University of the Philippines Visayas Facebook
URL:https://alum.up.edu.ph/event/up-visayas-national-science-technology-and-innovation-week-2023/
END:VEVENT
BEGIN:VEVENT
DTSTART;TZID=UTC:20231123T080000
DTEND;TZID=UTC:20231123T150000
DTSTAMP:20260423T031613
CREATED:20231114T190558Z
LAST-MODIFIED:20231114T190752Z
UID:13677-1700726400-1700751600@alum.up.edu.ph
SUMMARY:UP Baguio NSTW 2023 Celebration Day 3
DESCRIPTION:Check out the complete list of speakers and their topics for the UP Baguio NSTW 2023 celebration! We can’t wait to see you there.\n\nPS: For Face-to-face talks\, participants can either attend on-site at the CS-AVR or via FB Livestream only.\n\nSource: UPB College of Science Facebook
URL:https://alum.up.edu.ph/event/up-baguio-nstw-2023-celebration-day-3/
END:VEVENT
BEGIN:VEVENT
DTSTART;TZID=UTC:20231123T080000
DTEND;TZID=UTC:20231124T120000
DTSTAMP:20260423T031613
CREATED:20231121T210551Z
LAST-MODIFIED:20231121T210551Z
UID:13839-1700726400-1700827200@alum.up.edu.ph
SUMMARY:6th Environmental and Occupational Health Forum
DESCRIPTION:Join us in just a few days for the highly anticipated 6th Environmental and Occupational Health Forum! 🌿🏥 With the theme ‘ACCELERATING THE DEVELOPMENT OF HEALTHY AND CLIMATE-SMART HOSPITALS IN THE SOUTHEAST ASIAN REGION\,’ this forum promises engaging discussions and impactful presentations focusing on environmental and occupational health issues in Southeast Asia.\n\nCo-organized by the College of Public Health\, University of the Philippines Manila\, SEAMEO TROPMED Philippines\, the Regional Centre for Public Health\, Hospital Administration\, Environmental and Occupational Health\, and Health Care Without Harm Southeast Asia\, this collaborative event is a must-attend.\n\nExpect thought-provoking insights from our line of distinguished speakers—prominent practitioners and advocates from the field—who will be sharing their expertise and experience.\n\nRegistration is still open! Reserve your spot for the Zoom webinar by scanning the QR code or clicking the link below:\nhttps://forms.gle/MD3uZMTSoDjMogbq6\n\nSee you all online this Thursday and Friday for the 6th EOH Forum! 🌏💡\n\nSource: UP Manila Department of Environmental and Occupational Health Facebook
URL:https://alum.up.edu.ph/event/6th-environmental-and-occupational-health-forum/
END:VEVENT
BEGIN:VEVENT
DTSTART;TZID=UTC:20231123T090000
DTEND;TZID=UTC:20231124T160000
DTSTAMP:20260423T031613
CREATED:20231107T165037Z
LAST-MODIFIED:20231107T165037Z
UID:13419-1700730000-1700841600@alum.up.edu.ph
SUMMARY:Applied Statistical Forecasting
DESCRIPTION:Image from the STAT Facebook page\nJoin the on-site training seminars in applied statistics organized by the UP Diliman School of Statistics\, in collaboration with the UP Statistical Center Research Foundation\, Inc.\, this November.\n\nThe seminar “Basic Statistics With Exploratory Data Analysis” will be held on November 8–10.\n\n“Introduction to R and Data Management Using the Tidyverse Ecosystem” will be on November 15–17.\n\nMeanwhile\, “Applied Statistical Forecasting” will be held on November 23–24.\n\nRegister by visiting https://bit.ly/UPSS-November2023-Trainings.
URL:https://alum.up.edu.ph/event/applied-statistical-forecasting/
END:VEVENT
BEGIN:VEVENT
DTSTART;TZID=UTC:20231123T130000
DTEND;TZID=UTC:20231123T160000
DTSTAMP:20260423T031613
CREATED:20231113T224428Z
LAST-MODIFIED:20231113T224428Z
UID:13631-1700744400-1700755200@alum.up.edu.ph
SUMMARY:Radical Television in the Time of Crises
DESCRIPTION:As part of the celebration of 70 Years of Television in the Philippines\, the Department of Broadcast Communication presents the following events for November:\n\n𝗟𝗘𝗖𝗧𝗨𝗥𝗘\nCountering the Algorithm: Is there space for long-form media in a Tik-Tok world? by Dorian Merina\nNov. 13 | 10 AM to 12 PM | CMC Audi\n\n𝗘𝗫𝗛𝗜𝗕𝗜𝗧\nTV sa Tabi-Tabi: Maiiksing Dokumentaryo ng Danas TV ng mga Pilipino\nNov. 17 | 2 PM | CMC Audi Lobby\n\n𝗥𝗢𝗨𝗡𝗗𝗧𝗔𝗕𝗟𝗘 𝗗𝗜𝗦𝗖𝗨𝗦𝗦𝗜𝗢𝗡\nRadical Television in the Time of Crises\nNov. 23 | 1-4 PM | CMC Audi\n\nFor more details\, contact the UP Department of Broadcast Communication at broadcast.upd@up.edu.ph.\n\nSource: UP Department of Broadcast Communication Facebook
URL:https://alum.up.edu.ph/event/radical-television-in-the-time-of-crises/
END:VEVENT
BEGIN:VEVENT
DTSTART;TZID=UTC:20231123T140000
DTEND;TZID=UTC:20231123T160000
DTSTAMP:20260423T031613
CREATED:20231121T173458Z
LAST-MODIFIED:20231121T173458Z
UID:13790-1700748000-1700755200@alum.up.edu.ph
SUMMARY:Share the Road With Her: Gender Responsive Planning for Public Spaces and Mobility Forum
DESCRIPTION:Image from the Embassy of Denmark in the Philippines Facebook page\nJoin the “Share the Road With Her: Gender Responsive Planning for Public Spaces and Mobility Forum” on Thursday\, Nov. 23\, 2–4 p.m.\, at Training Hall 1\, UP Diliman (UPD) School of Urban and Regional Planning (SURP) New Building.\n\nRegister at https://www.bit.ly/GenderAndMobility.\n\nThis is part of the #ShareTheRoadWithHer campaign led by the Embassy of the Kingdom of Belgium in Manila in line with the international commemoration of the United Nations’ annual campaign “16 Days of Activism Against Gender-Based Violence.”\n\nThe event is organized by the Embassy of Denmark in the Philippines\, SURP\, and UPD Office of International Linkages.
URL:https://alum.up.edu.ph/event/share-the-road-with-her-gender-responsive-planning-for-public-spaces-and-mobility-forum/
END:VEVENT
BEGIN:VEVENT
DTSTART;TZID=UTC:20231123T143000
DTEND;TZID=UTC:20231123T160000
DTSTAMP:20260423T031613
CREATED:20231113T160226Z
LAST-MODIFIED:20231113T160226Z
UID:13601-1700749800-1700755200@alum.up.edu.ph
SUMMARY:Dark Memories of Torture\, Incarceration\, Disappearance\, and Death Under Ferdinand E. Marcos Sr.’s Martial Law
DESCRIPTION:Image from the UPD Third World Studies Center Facebook page\nThe lecture “Dark Memories of Torture\, Incarceration\, Disappearance\, and Death Under Ferdinand E. Marcos Sr.’s Martial Law” by Rick Rocamora will happen on November 23\, Thursday\, 2:30–4:00 p.m.\, at Palma Hall 207\, UP Diliman College of Social Sciences and Philosophy.\n\nRegister at tinyurl.com/rrocamoraupd.\n\nRocamora is an award-winning documentary photographer and author of six photo books\, namely “Filipino WWII Soldiers: America’s Second Class Veterans;” “Blood\, Sweat\, Hope\, and Quiapo: Rodallie S. Mosende Story;” “Human Wrongs\,” “Alagang Angara\,” “Long Road to Dignity\,” and the photobook about Muslim-Americans published by the Tokyo University for Foreign Studies Press.\n\nThe event is presented by the UPD Third World Studies Center.
URL:https://alum.up.edu.ph/event/dark-memories-of-torture-incarceration-disappearance-and-death-under-ferdinand-e-marcos-sr-s-martial-law/
END:VEVENT
BEGIN:VEVENT
DTSTART;TZID=UTC:20231123T180000
DTEND;TZID=UTC:20231123T200000
DTSTAMP:20260423T031613
CREATED:20231121T173824Z
LAST-MODIFIED:20231121T173824Z
UID:13793-1700762400-1700769600@alum.up.edu.ph
SUMMARY:Rakugo in English
DESCRIPTION:Image from the AC Facebook page\nWitness the “Rakugo in English\,” a traditional Japanese storytelling\, on Nov. 23\, Thursday\, 6 p.m.\, at the UP Diliman Asian Center (AC) Auditorium.\n\nThis is one of the activities for the AC’s 68th founding anniversary celebration.\n\nKnow more and register at bit.ly/rakugo23.
URL:https://alum.up.edu.ph/event/rakugo-in-english/
END:VEVENT
END:VCALENDAR