BEGIN:VCALENDAR
VERSION:2.0
PRODID:-//UP Alumni Website - ECPv6.15.16//NONSGML v1.0//EN
CALSCALE:GREGORIAN
METHOD:PUBLISH
X-WR-CALNAME:UP Alumni Website
X-ORIGINAL-URL:https://alum.up.edu.ph
X-WR-CALDESC:Events for UP Alumni Website
REFRESH-INTERVAL;VALUE=DURATION:PT1H
X-Robots-Tag:noindex
X-PUBLISHED-TTL:PT1H
BEGIN:VTIMEZONE
TZID:UTC
BEGIN:STANDARD
TZOFFSETFROM:+0000
TZOFFSETTO:+0000
TZNAME:UTC
DTSTART:20220101T000000
END:STANDARD
END:VTIMEZONE
BEGIN:VEVENT
DTSTART;TZID=UTC:20231019T100000
DTEND;TZID=UTC:20240126T160000
DTSTAMP:20260423T085756
CREATED:20231018T181649Z
LAST-MODIFIED:20231018T181649Z
UID:13137-1697709600-1706284800@alum.up.edu.ph
SUMMARY:Waray-Pag-ultan han Pinulongan: Mulay-Mulay ha Binisaya (Waray without Borders: Playing with Words)
DESCRIPTION:Waray-Pag-ultan han Pinulongan: Mulay-Mulay ha Binisaya (Waray without Borders: Playing with Words)\n\nThe Leyte Samar Heritage Center is marking its 28th founding anniversary and Museums and Galleries Month this October with a new exhibit on the Binisaya/Waray language with the title “Waray Pag-ultan han Pinulongan: Mulay-Mulay ha Binisaya (Waray without Borders: Playing with Words).”\n\nThe free interactive exhibit underscores how language carries the collective knowledge of our ancestors\, how it shapes our identity as a people\, and how it helps us navigate this modern world.\n\nEveryone is invited to view the exhibit anytime between 19 October 2023 and 26 January 2024\, from 10:00 AM to 4:00 PM on weekdays except holidays. Book your visit by filling out this form [https://bit.ly/WarayLanguageExhibit].\n\nSource: UP Tacloban – Leyte Samar Heritage Center Facebook
URL:https://alum.up.edu.ph/event/waray-pag-ultan-han-pinulongan-mulay-mulay-ha-binisaya-waray-without-borders-playing-with-words/
END:VEVENT
BEGIN:VEVENT
DTSTART;TZID=UTC:20231122T080000
DTEND;TZID=UTC:20231126T170000
DTSTAMP:20260423T085756
CREATED:20231121T213841Z
LAST-MODIFIED:20231121T213841Z
UID:13847-1700640000-1701018000@alum.up.edu.ph
SUMMARY:UP Visayas "National Science\, Technology\, and Innovation Week 2023"
DESCRIPTION:𝗙𝗼𝗿 𝗦𝗰𝗶𝗲𝗻𝗰𝗲 𝗮𝗻𝗱 𝘁𝗵𝗲 𝗣𝗲𝗼𝗽𝗹𝗲: 𝗨𝗣 𝗩𝗶𝘀𝗮𝘆𝗮𝘀 𝗷𝗼𝗶𝗻𝘀 𝗡𝗦𝗧𝗪 𝟮𝟬𝟮𝟯\n\nThe University of the Philippines Visayas joins the celebration of DOST National Science\,Technology\, and Innovation Week 2023 in Iloilo City on November 22-26\, 2023.\n\nFaculty and researchers of the University will present papers in scientific sessions organized by DOST-PCAARRD\, DOST-PCHRD and DOST-Balik Scientist Program at the Iloilo Convention Center on November 22-23\, 2023.\n\nThe University has prepared exhibits in two areas: Main S & T Exhibit in the Iloilo Convention Center and in Lawud: Marine S & T Exhibit at the M/V Capt. John B. Lacson Training Ship at Muelle Loney St.\, Iloilo City. This will be on November 22-26\, 2023\, 8AM-5PM.\\n\nAlso\, UPV is partnering with DOST Region VI for the NSTW TechnoTours wherein the university will showcase various research\, development and innovation facilities of the UPV Regional Research Center.\n\nThis will be on November 22-25\, 2023 at the UPV RRC Building\, Miagao\, Iloilo.\n\nSource: University of the Philippines Visayas Facebook
URL:https://alum.up.edu.ph/event/up-visayas-national-science-technology-and-innovation-week-2023/
END:VEVENT
BEGIN:VEVENT
DTSTART;VALUE=DATE:20231125
DTEND;VALUE=DATE:20231127
DTSTAMP:20260423T085756
CREATED:20230920T170219Z
LAST-MODIFIED:20230920T170219Z
UID:12521-1700870400-1701043199@alum.up.edu.ph
SUMMARY:Mandëko Kito: 12 days of High Quality Artisanal Fair
DESCRIPTION:Poster from UPB SILBI Facebook\nAre you ready to embark on a journey to the heart of the Cordilleras\, where tradition meets creativity?\n\nJoin us at Mandëko Kito: 12 days of High Quality Artisanal Fair! An immersive celebration of the rich crafts and arts that define this magnificent region of the Cordilleras!\n\nWe believe in the power of community and supporting local talent. By attending this trade fair\, you contribute to the livelihoods of Cordilleran artisans and help preserve their unique traditions.\n\nDon’t keep this cultural extravaganza a secret! Share this event with your friends and family\, and let’s come together to celebrate the extraordinary arts and crafts of the Cordilleras!\n\nSee you at the University of the Philippines Baguio!\n\nSource: University of the Philippines Baguio Facebook
URL:https://alum.up.edu.ph/event/mandeko-kito-12-days-of-high-quality-artisanal-fair-2/
END:VEVENT
BEGIN:VEVENT
DTSTART;TZID=UTC:20231125T083000
DTEND;TZID=UTC:20231125T100000
DTSTAMP:20260423T085756
CREATED:20231107T172008Z
LAST-MODIFIED:20231107T172008Z
UID:13439-1700901000-1700906400@alum.up.edu.ph
SUMMARY:La Historia Olvidada: Filipinas-Mexico 2023 (A Virtual Colloquium Series on Philippine-Mexico Relations)
DESCRIPTION:Image from the UPD Departamento ng Kasaysayan Facebook page\nThe second episode of the “La Historia Olvidada: Filipinas-Mexico 2023 (A Virtual Colloquium Series on Philippine-Mexico Relations)” will be held on November 25\, Saturday\, 8:30–10:00 a.m.\, via Zoom.\n\nCuauhtemoc Villamar\, PhD\, a researcher and former diplomat\, is the resource speaker of the colloquium.\n\nTo join\, register at bit.ly/Historia-OlvidadaPHMX or scan the QR code on the poster.\n\nThe event is organized by the Embassy of the Philippines in Mexico\, in partnership with the UP Diliman Department of History\, El Colegio de San Luis\, and the Philippine-Mexico Studies Program\, Universidad Nacional Autónoma de México.
URL:https://alum.up.edu.ph/event/la-historia-olvidada-filipinas-mexico-2023-a-virtual-colloquium-series-on-philippine-mexico-relations/
END:VEVENT
BEGIN:VEVENT
DTSTART;TZID=UTC:20231125T090000
DTEND;TZID=UTC:20231125T120000
DTSTAMP:20260423T085756
CREATED:20231122T230448Z
LAST-MODIFIED:20231122T230448Z
UID:13886-1700902800-1700913600@alum.up.edu.ph
SUMMARY:#VAWFREEPH: A Public Forum and Self Defense Training
DESCRIPTION:In observance of the 18-Day Campaign to End Violence Against Women (EVAW)\, the UPV Gender and Development Program and the Ugsad Regional Gender Resource Network\, in partnership with the Bangko Sentral ng Pilipinas Iloilo Branch and the Bankers Association of Iloilo (BAI)\, Inc.\, invite everyone to attend the “#VAWFREEPH: A Public Forum and Self Defense Training” on 25 November 2023\, 9:00 AM-12:00 NN at the UP Visayas Auditorium\, Iloilo City campus.\n\n“Ending Violence Against Women: It Starts with You”\n\nResource Speaker:\nATTY. MIA LAINE C. CATALAN-DABAO\nPublic Attorney II\nPublic Attorney’s Office Region VI\n\n“Brazilian Jiu-Jitsu Self Defense for Women”\nInstructor:\nMR. JOHN LEOGIN FUENTES\nHead Coach\, MDS Jiu-Jitsu\, Jaro Branch\nBrazilian Jiu-Jitsu Purple Belt\nCoach\, Ateneo de Iloilo Jiu-Jitsu Club\n\nSince slots are limited\, please register through this link:\nhttps://forms.gle/aVA8WW2ohWRF9jhd7\n\nOr scan the QR Code below 👇\n\nThis is a free event. Certificate of participation will be given to the participants\, provided that they accomplish the evaluation form after the activity.\n\nFor questions or clarifications\, please contact us at tel. no. (033) 335-1702 or email us at gdp.upvisayas@up.edu.ph.\n\nSource: UPV Gender and Development Program Facebook
URL:https://alum.up.edu.ph/event/vawfreeph-a-public-forum-and-self-defense-training/
END:VEVENT
BEGIN:VEVENT
DTSTART;TZID=UTC:20231125T100000
DTEND;TZID=UTC:20231125T120000
DTSTAMP:20260423T085756
CREATED:20231120T225517Z
LAST-MODIFIED:20231120T225517Z
UID:13766-1700906400-1700913600@alum.up.edu.ph
SUMMARY:"Rethinking the Planning History of Baguio?"
DESCRIPTION:IS BAGUIO\, AS A PLANNED CITY\, REALLY BURNHAM’S CITY?\n\nProf. Ian Morley mentioned in his book “Cities and Nationhood: American Imperialism and Urban Design in the Philippines\, 1898-1916” that Baguio’s transformation from “a barren site five thousand feet above sea level into a modern planned city stands out as perhaps one of the greatest achievements of early American colonial rule in the Philippines.” However\, this raises the question: is Baguio\, as a planned city\, really Burnham’s city? More specifically\, is Baguio actually William E. Parsons’ planned city?\n\nCatch the lecture “Rethinking the Planning History of Baguio?” with Prof. Ian Morley on November 25\, 2023\, at Zoom and Facebook Live\, 10 am.\n\nRegister here: https://forms.gle/gvJu4u1AjhFcYtCr5\n\nThis lecture series is organized by the Baguio Heritage Foundation\, Inc. (BHFI)\, co-presented by the National Historical Commission of the Philippines and the Local Historical Committees Network\, in partnership with UP Kalipunan ng Mag-aaral sa Kasaysayan – UP Kamalayan and UPB College of Social Sciences\, and sponsored by Pine Cone Movement\, Inc.\n\nSee you there!\n\nSource: UP Baguio Facebook
URL:https://alum.up.edu.ph/event/rethinking-the-planning-history-of-baguio/
END:VEVENT
BEGIN:VEVENT
DTSTART;TZID=UTC:20231125T110000
DTEND;TZID=UTC:20231125T120000
DTSTAMP:20260423T085756
CREATED:20231121T221500Z
LAST-MODIFIED:20231121T221500Z
UID:13864-1700910000-1700913600@alum.up.edu.ph
SUMMARY:"ICARUS RE-ASCENDING: Navigating the Creative Shifts of Artistic Imagination with Generative AI"
DESCRIPTION:Connecting the islands through art\, the Visayas Art Fair (VAF) is an avenue for creatives across the region and the Philippines.\n\nFor this year’s VAF\, a talk on art and artificial intelligence will be presented by Asst. Professor Gregg Lloren of the UP Cebu Communication Program – CCAD.\n\nCatch Asst. Prof. Lloren’s discussion on “ICARUS RE-ASCENDING: Navigating the Creative Shifts of Artistic Imagination with Generative AI” on November 25 from 11 a.m. to 12 p.m. at the Oakridge Business Park Pavillion.\n\nSource: University of the Philippines Cebu Facebook
URL:https://alum.up.edu.ph/event/icarus-re-ascending-navigating-the-creative-shifts-of-artistic-imagination-with-generative-ai/
END:VEVENT
BEGIN:VEVENT
DTSTART;TZID=UTC:20231125T130000
DTEND;TZID=UTC:20231125T170000
DTSTAMP:20260423T085756
CREATED:20231121T180121Z
LAST-MODIFIED:20231121T180121Z
UID:13810-1700917200-1700931600@alum.up.edu.ph
SUMMARY:B.I.M. Now! A Webinar on Current Applications in Practice of Building Information Modeling
DESCRIPTION:The UP Diliman College of Architecture (CA) invites everyone to “B.I.M. Now! A Webinar on Current Applications in Practice of Building Information Modeling” on Nov. 25\, Saturday\, 1–5 p.m.\, via Zoom and Facebook Live.\n\nTo join\, register at https://bit.ly/UPCA-BIM-Webinar2023 or scan the QR code on the poster.\n\nWatch the livestream on the CA Facebook page.\n\nThe event is presented by the Building Science Studio Laboratory and Architectural Communication Studio Laboratory of the CA.
URL:https://alum.up.edu.ph/event/b-i-m-now-a-webinar-on-current-applications-in-practice-of-building-information-modeling/
END:VEVENT
BEGIN:VEVENT
DTSTART;TZID=UTC:20231125T140000
DTEND;TZID=UTC:20231125T160000
DTSTAMP:20260423T085756
CREATED:20231121T175944Z
LAST-MODIFIED:20231121T175944Z
UID:13805-1700920800-1700928000@alum.up.edu.ph
SUMMARY:Dayuday 3: Bahaginan ng Pagtuturo ng Panitikan ng Iba’t ibang Pangkat-Etniko ng Pilipinas sa Filipino 7
DESCRIPTION:Makilahok sa “Dayuday 3: Bahaginan ng Pagtuturo ng Panitikan ng Iba’t ibang Pangkat-Etniko ng Pilipinas sa Filipino 7” na gaganapin sa Nobyembre 25\, Sabado\, 2 n.h.\, sa pamamagitan ng Zoom at Facebook Live.\n\nIto ay handog ng Larangan ng Panitikan (LnP) ng UP Diliman Departamento ng Filipino at Panitikan ng Pilipinas.\n\nSa mga nais dumalo\, i-scan ang QR code sa poster o magrehistro lamang sa https://tinyurl.com/dayuday3.\n\nMapapanood ito nang live sa LnP Facebook page.
URL:https://alum.up.edu.ph/event/dayuday-3-bahaginan-ng-pagtuturo-ng-panitikan-ng-ibat-ibang-pangkat-etniko-ng-pilipinas-sa-filipino-7/
END:VEVENT
BEGIN:VEVENT
DTSTART;TZID=UTC:20231125T170000
DTEND;TZID=UTC:20231125T220000
DTSTAMP:20260423T085756
CREATED:20231114T173141Z
LAST-MODIFIED:20231114T173141Z
UID:13640-1700931600-1700949600@alum.up.edu.ph
SUMMARY:UP Manila Department of Social Sciences Alumni Homecoming
DESCRIPTION:Source: Department of Social Sciences – U.P. Manila Facebook
URL:https://alum.up.edu.ph/event/up-manila-department-of-social-sciences-alumni-homecoming/
END:VEVENT
END:VCALENDAR