BEGIN:VCALENDAR
VERSION:2.0
PRODID:-//UP Alumni Website - ECPv6.15.16//NONSGML v1.0//EN
CALSCALE:GREGORIAN
METHOD:PUBLISH
X-WR-CALNAME:UP Alumni Website
X-ORIGINAL-URL:https://alum.up.edu.ph
X-WR-CALDESC:Events for UP Alumni Website
REFRESH-INTERVAL;VALUE=DURATION:PT1H
X-Robots-Tag:noindex
X-PUBLISHED-TTL:PT1H
BEGIN:VTIMEZONE
TZID:UTC
BEGIN:STANDARD
TZOFFSETFROM:+0000
TZOFFSETTO:+0000
TZNAME:UTC
DTSTART:20220101T000000
END:STANDARD
END:VTIMEZONE
BEGIN:VEVENT
DTSTART;TZID=UTC:20231019T100000
DTEND;TZID=UTC:20240126T160000
DTSTAMP:20260422T081119
CREATED:20231018T181649Z
LAST-MODIFIED:20231018T181649Z
UID:13137-1697709600-1706284800@alum.up.edu.ph
SUMMARY:Waray-Pag-ultan han Pinulongan: Mulay-Mulay ha Binisaya (Waray without Borders: Playing with Words)
DESCRIPTION:Waray-Pag-ultan han Pinulongan: Mulay-Mulay ha Binisaya (Waray without Borders: Playing with Words)\n\nThe Leyte Samar Heritage Center is marking its 28th founding anniversary and Museums and Galleries Month this October with a new exhibit on the Binisaya/Waray language with the title “Waray Pag-ultan han Pinulongan: Mulay-Mulay ha Binisaya (Waray without Borders: Playing with Words).”\n\nThe free interactive exhibit underscores how language carries the collective knowledge of our ancestors\, how it shapes our identity as a people\, and how it helps us navigate this modern world.\n\nEveryone is invited to view the exhibit anytime between 19 October 2023 and 26 January 2024\, from 10:00 AM to 4:00 PM on weekdays except holidays. Book your visit by filling out this form [https://bit.ly/WarayLanguageExhibit].\n\nSource: UP Tacloban – Leyte Samar Heritage Center Facebook
URL:https://alum.up.edu.ph/event/waray-pag-ultan-han-pinulongan-mulay-mulay-ha-binisaya-waray-without-borders-playing-with-words/
END:VEVENT
BEGIN:VEVENT
DTSTART;VALUE=DATE:20231201
DTEND;VALUE=DATE:20231204
DTSTAMP:20260422T081119
CREATED:20230920T170248Z
LAST-MODIFIED:20230920T170248Z
UID:12523-1701388800-1701647999@alum.up.edu.ph
SUMMARY:Mandëko Kito: 12 days of High Quality Artisanal Fair
DESCRIPTION:Poster from UPB SILBI Facebook\nAre you ready to embark on a journey to the heart of the Cordilleras\, where tradition meets creativity?\n\nJoin us at Mandëko Kito: 12 days of High Quality Artisanal Fair! An immersive celebration of the rich crafts and arts that define this magnificent region of the Cordilleras!\n\nWe believe in the power of community and supporting local talent. By attending this trade fair\, you contribute to the livelihoods of Cordilleran artisans and help preserve their unique traditions.\n\nDon’t keep this cultural extravaganza a secret! Share this event with your friends and family\, and let’s come together to celebrate the extraordinary arts and crafts of the Cordilleras!\n\nSee you at the University of the Philippines Baguio!\n\nSource: University of the Philippines Baguio Facebook
URL:https://alum.up.edu.ph/event/mandeko-kito-12-days-of-high-quality-artisanal-fair-3/
END:VEVENT
BEGIN:VEVENT
DTSTART;TZID=UTC:20231201T080000
DTEND;TZID=UTC:20231201T170000
DTSTAMP:20260422T081119
CREATED:20231129T172203Z
LAST-MODIFIED:20231129T172203Z
UID:13934-1701417600-1701450000@alum.up.edu.ph
SUMMARY:Chemistry Laboratory Safety Ethics\, Structural Considerations\, and Compliance to Environmental Laws: Theories and Applications
DESCRIPTION:Image from the UP Diliman Research and Analytical Services Laboratory Facebook page\nJoin the workshop “Chemistry Laboratory Safety Ethics\, Structural Considerations\, and Compliance to Environmental Laws: Theories and Applications” on December 1\, 8 a.m.–5 p.m.\, at the Conference Room\, UP Diliman Natural Sciences Research Institute (NSRI).\n\nThis is organized by the Research and Analytical Services Laboratory of the NSRI.\n\nRegister at https://forms.gle/aNbqYv8cjKmK8y1cA.\n\nEmail nsri.rasl.upd@up.edu.ph or call (02) 8981-8500 local 3608 for inquiries.
URL:https://alum.up.edu.ph/event/chemistry-laboratory-safety-ethics-structural-considerations-and-compliance-to-environmental-laws-theories-and-applications/
END:VEVENT
BEGIN:VEVENT
DTSTART;TZID=UTC:20231201T083000
DTEND;TZID=UTC:20231201T150000
DTSTAMP:20260422T081119
CREATED:20231129T173923Z
LAST-MODIFIED:20231129T173923Z
UID:13937-1701419400-1701442800@alum.up.edu.ph
SUMMARY:2nd Postgraduate Symposium: Indigenous Issues in Southeast Asia Across the Board
DESCRIPTION:The UP Diliman Department of Anthropology (DAnthro) invites everyone to the “2nd Postgraduate Symposium: Indigenous Issues in Southeast Asia Across the Board” on Friday\, Dec. 1\, 8:30 a.m.–3:00 p.m.\, via Zoom.\n\nTo join\, register at http://bit.ly/indigenouspgsymposium or scan the QR code on the poster.\n\nThis is organized by DAnthro\, together with the Institute for Borneo Studies – University Malaysia Sarawak and the Center for World Austronesia and Indigenous Peoples – National Tsing-Hua University.
URL:https://alum.up.edu.ph/event/2nd-postgraduate-symposium-indigenous-issues-in-southeast-asia-across-the-board/
END:VEVENT
BEGIN:VEVENT
DTSTART;TZID=UTC:20231201T120000
DTEND;TZID=UTC:20231201T130000
DTSTAMP:20260422T081119
CREATED:20231130T162911Z
LAST-MODIFIED:20231130T162911Z
UID:13992-1701432000-1701435600@alum.up.edu.ph
SUMMARY:Advent Webinar: Spirituality & Medical Decision-Making
DESCRIPTION:Join our ADVENT webinar on Dec 1\, Friday\, 12nn. This is brought to you by UPCM Class 1990 and this year’s Silver Jubilarians\, the UP College of Medicine Class of 1998.\n\n• Zoom (early registration) – bit.ly/477US2F\n• Facebook (membership required) – bit.ly/3HKjseV\n• UP Manila Livestream – bit.ly/3jIitnI\n\nSource: UP Med Webinars Facebook
URL:https://alum.up.edu.ph/event/advent-webinar-spirituality-medical-decision-making/
END:VEVENT
BEGIN:VEVENT
DTSTART;TZID=UTC:20231201T120000
DTEND;TZID=UTC:20231201T140000
DTSTAMP:20260422T081119
CREATED:20231121T182132Z
LAST-MODIFIED:20231129T232822Z
UID:13826-1701432000-1701439200@alum.up.edu.ph
SUMMARY:Stop COVID Deaths Webinar #174 "Malubhang Sakit\, Pwede Bang Alagaan sa Bahay?" Providing Palliative Care at Home
DESCRIPTION:The University of the Philippines in partnership with\nNational Telehealth Center of the UP Manila-National Institutes of Health and in cooperation with\nUP Philippine General Hospital and\nUP College of Medicine\nwould like to invite you to join the Fight Against C.O.V.I.D.! \n  \nRegistration slots are limited to this SPECIAL EDITION of\nthe STOP C.O.V.I.D. DEATHS Webinar Series.\n(Current COVID-19 problems; Other outbreaks; Viruses; Infections; Disasters)\nSo sign up NOW:\nbit.ly/StopCOVIDDeathsWebinar174 \n  \nWebinar #174\nDecember 1\, 2023 (Friday) 12nn\n“Malubhang Sakit\, Pwede Bang Alagaan sa Bahay?”\nProviding Palliative Care at Home\n\nPresenter:\nDR. ANDREW E. ANG\nChief\, Division of Supportive\, Hospice\, and Palliative Medicine\nDepartment of Family and Community Medicine\nUP – Philippine General Hospital\n\nReactor:\nDR. KARIN V. ESTEPA-GARCIA\nImmediate Past President\, Philippine Society of Hospice and Palliative Medicine\nChair\, Department of Family and Community Medicine\nUP – Philippine General Hospital\n\nSynthesis & Closing Remarks:\nDR. STELLA MARIE L. JOSE\nHead\, Office of Expanded Education and Training\nUP – Philippine General Hospital\n\n———————————————————–\n\nDecember 1\, 2023 (Friday) 12nn\nWebinar #174\n“Malubhang Sakit\, Pwede Bang Alagaan sa Bahay?”\nProviding Palliative Care at Home\n\nIn a world where healthcare often revolves around curing ailments\, we invite you to explore a realm of compassionate care that transcends boundaries – Palliative and Hospice Care.\n\nThe Philippines\, with its unique blend of cultural diversity and a healthcare landscape in constant evolution\, presents a dynamic backdrop for this discussion. Palliative and hospice care\, often regarded as the epitome of compassion in healthcare\, focuses on enhancing the quality of life for individuals facing life-limiting illnesses. In the Philippine context\, where familial bonds and cultural values are paramount\, the significance of such care is even more pronounced.\n\nOur distinguished panel of speakers comprises trailblazers in the field\, each with a wealth of experience in navigating the complexities of palliative and hospice care within the Philippine context. Together\, we will explore cultural sensitivities\, ethical considerations\, and practical approaches that can elevate the standard of care for those navigating the final chapters of their lives.\n\nOur main presenter is Dr. Andrew E. Ang\, who is the Chief of the Division of Supportive\, Hospice\, and Palliative Medicine from the Department of Family and Community Medicine of the UP-Philippine General Hospital while our reactor is Dr. Karin V. Estepa-Garcia\, who is the Immediate Past President of the Philippine Society of Hospice and Palliative Medicine and also the current Chair of the UP-PGH Department of Family and Community Medicine. The Synthesis and Closing Remarks will be delivered by Dr. Stella Marie L. Jose\, who is the Head of the Office of Expanded Education and Training at the UP Philippine General Hospital.\n\nJoin us in this compassionate journey and let us collectively strive to build a healthcare landscape that not only heals but also comforts\, ensuring that every individual\, regardless of their health condition\, receives the dignity and support they deserve. Together\, let’s illuminate the path towards a more compassionate and holistic approach to healthcare in the Philippines.\n\nTogether\, we can stop preventable deaths!
URL:https://alum.up.edu.ph/event/stop-covid-deaths-webinar-174/
END:VEVENT
BEGIN:VEVENT
DTSTART;TZID=UTC:20231201T130000
DTEND;TZID=UTC:20231201T160000
DTSTAMP:20260422T081119
CREATED:20231108T181256Z
LAST-MODIFIED:20231108T181256Z
UID:13467-1701435600-1701446400@alum.up.edu.ph
SUMMARY:INTRODUCTION OF A GREEN APPROACH FOR PREVENTING SHALLOW LANDSLIDES IN THE PHILIPPINES
DESCRIPTION:The University of the Philippines College of Engineering (UP-COE) and the UP National Engineering Center (UP-NEC) in partnership with JICA\, Daisho Co. Ltd.\, and the Department of Public Works and Highways – Cordillera Autonomous Region would like to invite you to i-conNECt on the INTRODUCTION OF A GREEN APPROACH FOR PREVENTING SHALLOW LANDSLIDES IN THE PHILIPPINES on 01 December 2023 (Friday)\, 1:00 PM at the UP NEC Audio Visual Room. The event will also be streamed online via Facebook.\n\nThe i-conNECt series of seminars/webinars aims to disseminate information and provide a venue for discussion among the industry\, academe\, and the government on important issues affecting the nation. It aims to spread awareness on relevant topics in engineering and how it affects the lives of ordinary people.\n\nThis is FREE and open to the public.\n\nYou may register by filling out the form here: bit.ly/ICONNECTREG\n\nFor queries\, you may reach us through the UP NEC Engineering Information Division at nec_info.upd@up.edu.ph\n\nSource: UP National Engineering Center Facebook
URL:https://alum.up.edu.ph/event/introduction-of-a-green-approach-for-preventing-shallow-landslides-in-the-philippines/
END:VEVENT
BEGIN:VEVENT
DTSTART;TZID=UTC:20231201T160000
DTEND;TZID=UTC:20231201T180000
DTSTAMP:20260422T081119
CREATED:20231129T171456Z
LAST-MODIFIED:20231129T171456Z
UID:13926-1701446400-1701453600@alum.up.edu.ph
SUMMARY:Sex and Ancestry Estimation Methods in Filipino Crania
DESCRIPTION:Image from the Dep. of Anthro FB\nEveryone is invited to the fourth installment of the “TriKal – Kalikasan\, Kalinangan at Kalooban: A Biological and Ecological Anthropology Lecture Series” on Friday\, Dec. 1\, at 4 p.m. via Zoom.\n\nThe resource speaker is Matthew C. Go\, PhD\, a forensic anthropologist of the Defense POW/MIA Accounting Agency\, USA.\n\nJoin the Zoom meeting at https://up-edu.zoom.us/j/99159820145 or through its meeting ID: 991 5982 0145\, and passcode: 10160290.\n\nThis is presented by the UP Diliman Department of Anthropology.
URL:https://alum.up.edu.ph/event/sex-and-ancestry-estimation-methods-in-filipino-crania/
END:VEVENT
BEGIN:VEVENT
DTSTART;TZID=UTC:20231201T170000
DTEND;TZID=UTC:20231201T190000
DTSTAMP:20260422T081119
CREATED:20231129T171625Z
LAST-MODIFIED:20231129T171625Z
UID:13930-1701450000-1701457200@alum.up.edu.ph
SUMMARY:Lockdown Diaries: COVID-19
DESCRIPTION:Image from the UPFI Film Center Facebook page\nCatch the free screening of Avic Ilagan’s documentary “Lockdown Diaries: COVID-19” on Dec. 1\, Friday\, 5 p.m.\, at the UP Film Institute (UPFI) Film Center.\n\nThere will be a question-and-answer session with the filmmaker and featured artists after the screening.\n\nRegister at the cinema entrance an hour before screen time.\n\nFor updates\, visit the UPFI Film Center Facebook page.
URL:https://alum.up.edu.ph/event/lockdown-diaries-covid-19/
END:VEVENT
END:VCALENDAR