BEGIN:VCALENDAR
VERSION:2.0
PRODID:-//UP Alumni Website - ECPv6.15.16//NONSGML v1.0//EN
CALSCALE:GREGORIAN
METHOD:PUBLISH
X-WR-CALNAME:UP Alumni Website
X-ORIGINAL-URL:https://alum.up.edu.ph
X-WR-CALDESC:Events for UP Alumni Website
REFRESH-INTERVAL;VALUE=DURATION:PT1H
X-Robots-Tag:noindex
X-PUBLISHED-TTL:PT1H
BEGIN:VTIMEZONE
TZID:UTC
BEGIN:STANDARD
TZOFFSETFROM:+0000
TZOFFSETTO:+0000
TZNAME:UTC
DTSTART:20220101T000000
END:STANDARD
END:VTIMEZONE
BEGIN:VEVENT
DTSTART;TZID=UTC:20231019T100000
DTEND;TZID=UTC:20240126T160000
DTSTAMP:20260424T113244
CREATED:20231018T181649Z
LAST-MODIFIED:20231018T181649Z
UID:13137-1697709600-1706284800@alum.up.edu.ph
SUMMARY:Waray-Pag-ultan han Pinulongan: Mulay-Mulay ha Binisaya (Waray without Borders: Playing with Words)
DESCRIPTION:Waray-Pag-ultan han Pinulongan: Mulay-Mulay ha Binisaya (Waray without Borders: Playing with Words)\n\nThe Leyte Samar Heritage Center is marking its 28th founding anniversary and Museums and Galleries Month this October with a new exhibit on the Binisaya/Waray language with the title “Waray Pag-ultan han Pinulongan: Mulay-Mulay ha Binisaya (Waray without Borders: Playing with Words).”\n\nThe free interactive exhibit underscores how language carries the collective knowledge of our ancestors\, how it shapes our identity as a people\, and how it helps us navigate this modern world.\n\nEveryone is invited to view the exhibit anytime between 19 October 2023 and 26 January 2024\, from 10:00 AM to 4:00 PM on weekdays except holidays. Book your visit by filling out this form [https://bit.ly/WarayLanguageExhibit].\n\nSource: UP Tacloban – Leyte Samar Heritage Center Facebook
URL:https://alum.up.edu.ph/event/waray-pag-ultan-han-pinulongan-mulay-mulay-ha-binisaya-waray-without-borders-playing-with-words/
END:VEVENT
BEGIN:VEVENT
DTSTART;VALUE=DATE:20231201
DTEND;VALUE=DATE:20231204
DTSTAMP:20260424T113244
CREATED:20230920T170248Z
LAST-MODIFIED:20230920T170248Z
UID:12523-1701388800-1701647999@alum.up.edu.ph
SUMMARY:Mandëko Kito: 12 days of High Quality Artisanal Fair
DESCRIPTION:Poster from UPB SILBI Facebook\nAre you ready to embark on a journey to the heart of the Cordilleras\, where tradition meets creativity?\n\nJoin us at Mandëko Kito: 12 days of High Quality Artisanal Fair! An immersive celebration of the rich crafts and arts that define this magnificent region of the Cordilleras!\n\nWe believe in the power of community and supporting local talent. By attending this trade fair\, you contribute to the livelihoods of Cordilleran artisans and help preserve their unique traditions.\n\nDon’t keep this cultural extravaganza a secret! Share this event with your friends and family\, and let’s come together to celebrate the extraordinary arts and crafts of the Cordilleras!\n\nSee you at the University of the Philippines Baguio!\n\nSource: University of the Philippines Baguio Facebook
URL:https://alum.up.edu.ph/event/mandeko-kito-12-days-of-high-quality-artisanal-fair-3/
END:VEVENT
BEGIN:VEVENT
DTSTART;TZID=UTC:20231202T080000
DTEND;TZID=UTC:20231202T113000
DTSTAMP:20260424T113244
CREATED:20231129T182622Z
LAST-MODIFIED:20231129T182622Z
UID:13946-1701504000-1701516600@alum.up.edu.ph
SUMMARY:Decolonizing Policymaking
DESCRIPTION:Image from the CIDS Facebook page\nThe roundtable discussion “Decolonizing Policymaking” will be held on Saturday\, Dec. 2\, 8:00–11:30 a.m.\, via Zoom.\n\nThe resource speakers are Vincent L. Casil\, chief of Legislative Research Division\, Bangsamoro Parliament and research supervisor at the Development Academy of the Philippines\, and Kebart P. Licayan of the Policy Research and Legal Services\, Bangsamoro Parliament and a faculty member at Miriam College and De La Salle – College of St. Benilde.\n\nKnow more and register at https://bit.ly/decolonize1202.\n\nThe event is organized by the UP Center for Integrative and Development Studies Decolonial Studies Program.
URL:https://alum.up.edu.ph/event/decolonizing-policymaking/
END:VEVENT
BEGIN:VEVENT
DTSTART;TZID=UTC:20231202T080000
DTEND;TZID=UTC:20231203T170000
DTSTAMP:20260424T113244
CREATED:20231115T225518Z
LAST-MODIFIED:20231115T225518Z
UID:13717-1701504000-1701622800@alum.up.edu.ph
SUMMARY:UPD Ugnayan ng Pahinungod: Become a Peer Support Volunteer (PSV)
DESCRIPTION:[VOLUNTEER OPPORTUNITY]\n\n🌟 Calling all compassionate hearts! 🌟\n\nReady to make a difference in someone’s life? We’re excited to invite you to join our mission as a Peer Support Volunteer in our upcoming Training Batch 6! 🤝✨\n\nThis training is your gateway to gaining essential knowledge and skills in providing basic psychosocial support. Once completed\, you’ll have the opportunity to extend a helping hand to those in need through our Free Psychosocial Peer Support Service. 🌈🤗\n\nTraining Dates (Face-to-Face): 🗓️ Saturday\, December 2\, 2023\, from 8:00 a.m. to 5:00 p.m. 🗓️ Sunday\, December 3\, 2023\, from 8:00 a.m. to 5:00 p.m.\n\n📍 Training Venue: De Los Reyes Auditorium\, School of Labor and Industrial Relations\, UP Diliman\n\nWith limited slots available\, we encourage you to act fast! Secure your place by completing the registration form here: https://forms.gle/hMt859A8t9JN8UFZ7\n\nThis is open to all UP students\, faculty\, staff\, REPs\, and alumni.\n\nEmbrace the opportunity to make a positive impact and become a beacon of support. Let’s embark on this meaningful journey together!\n\nSource: UPD Ugnayan ng Pahinungod Facebook
URL:https://alum.up.edu.ph/event/upd-ugnayan-ng-pahinungod-become-a-peer-support-volunteer-psv/
END:VEVENT
BEGIN:VEVENT
DTSTART;TZID=UTC:20231202T120000
DTEND;TZID=UTC:20231202T130000
DTSTAMP:20260424T113244
CREATED:20231129T181437Z
LAST-MODIFIED:20231129T181437Z
UID:13940-1701518400-1701522000@alum.up.edu.ph
SUMMARY:Philippine Unemployment Insurance: How It Works and How to Improve the Existing Scheme
DESCRIPTION:Image from the SOLAIR Facebook page\nJoin the seminar “Philippine Unemployment Insurance: How It Works and How to Improve the Existing Scheme” on Dec. 2\, Saturday\, 12–1 p.m.\, at the Lobby of the UP Diliman School of Labor and Industrial Relations (SOLAIR) New Building.\n\nThis is part of its “6th Research Dissemination Seminar” of the Center for Labor Justice of SOLAIR.\n\nEmail solair@upd.edu.ph for inquiries.
URL:https://alum.up.edu.ph/event/philippine-unemployment-insurance-how-it-works-and-how-to-improve-the-existing-scheme/
END:VEVENT
BEGIN:VEVENT
DTSTART;TZID=UTC:20231202T120000
DTEND;TZID=UTC:20231202T163000
DTSTAMP:20260424T113244
CREATED:20231112T170816Z
LAST-MODIFIED:20231112T174638Z
UID:13568-1701518400-1701534600@alum.up.edu.ph
SUMMARY:UPAA Edmonton Christmas Party And 10th Anniversary Celebration
DESCRIPTION:The public is invited to join the UPAA Edmonton annual Christmas party and 10th year Anniversary celebration. There will be walk through exhibits\, children’s activities\, and games for all. Founding members and other members through the years who have made significant contributions to the organization and to the community will also be recognized.\n\nUPAAE is asking all members for a contribution towards food and drinks: $20 for one person\, $10 for children between 7-15 years old\, and $50 for a family of five.\n\nUPAAE is asking for volunteers to help for the upcoming event.\n\nYou may contact them at upaa.edmonton@gmail.com or visit their Facebook account.
URL:https://alum.up.edu.ph/event/upaa-edmonton-christmas-party-and-10th-anniversary-celebration/
END:VEVENT
BEGIN:VEVENT
DTSTART;TZID=UTC:20231202T130000
DTEND;TZID=UTC:20231202T150000
DTSTAMP:20260424T113244
CREATED:20231010T173657Z
LAST-MODIFIED:20231010T173657Z
UID:12931-1701522000-1701529200@alum.up.edu.ph
SUMMARY:Pan-adivay: A SILBI Series of Lectures and Workshops (Culmination)
DESCRIPTION:Pan-adivay: Mandeko & SILBI series of lectures and workshops! Join and be part of multiple opportunities to gain knowledge and insights from experts of different fields!\n\nThis is FREE sessions of learning\, so what are you waiting for? Register now at https://forms.gle/QsBXWXpGG9cvt6Pc9 & be part of our #SilbiStory\n\n📸 UPB SILBI\n\nSource: University of the Philippines Baguio
URL:https://alum.up.edu.ph/event/pan-adivay-a-silbi-series-of-lectures-and-workshops-culmination/
END:VEVENT
BEGIN:VEVENT
DTSTART;TZID=UTC:20231202T160000
DTEND;TZID=UTC:20231202T190000
DTSTAMP:20260424T113244
CREATED:20231129T181616Z
LAST-MODIFIED:20231129T181616Z
UID:13943-1701532800-1701543600@alum.up.edu.ph
SUMMARY:Pelikomunidad: Dukot ni Joel Lamangan
DESCRIPTION:Inaanyayahan ang buong komunidad ng UP Diliman sa ikatlong serye ng “Pelikomunidad” tampok ang pelikulang “Dukot” na idinerehe ni Joel Lamangan na gaganapin sa Disyembre 2\, Sabado\, 4 n.h.–7 n.g.\, sa UP Film Institute Film Center.\n\nAng “Pelikomunidad” ay bunga ng ugnayan at tamabalan ng Tag-ani Performing Arts Society\, SELDA\, Surian sa Sining\, Hustisya\, UP Cine Adarna\, Opisina ng Rehente ng mga Mag-aaral\, Desaparecidos\, at Opisina ng Ugnayang Pangkomunidad (OCR)\, sa pakikipagtulungan ng Opisina ng Bise Tsanselor para sa Usaping Pangkomunidad.\n\nTumawag lamang sa OCR sa 8981–8627 para sa karagdagang impormasyon.
URL:https://alum.up.edu.ph/event/pelikomunidad-dukot-ni-joel-lamangan/
END:VEVENT
END:VCALENDAR