BEGIN:VCALENDAR
VERSION:2.0
PRODID:-//UP Alumni Website - ECPv6.15.16//NONSGML v1.0//EN
CALSCALE:GREGORIAN
METHOD:PUBLISH
X-WR-CALNAME:UP Alumni Website
X-ORIGINAL-URL:https://alum.up.edu.ph
X-WR-CALDESC:Events for UP Alumni Website
REFRESH-INTERVAL;VALUE=DURATION:PT1H
X-Robots-Tag:noindex
X-PUBLISHED-TTL:PT1H
BEGIN:VTIMEZONE
TZID:UTC
BEGIN:STANDARD
TZOFFSETFROM:+0000
TZOFFSETTO:+0000
TZNAME:UTC
DTSTART:20220101T000000
END:STANDARD
END:VTIMEZONE
BEGIN:VEVENT
DTSTART;TZID=UTC:20231019T100000
DTEND;TZID=UTC:20240126T160000
DTSTAMP:20260424T042517
CREATED:20231018T181649Z
LAST-MODIFIED:20231018T181649Z
UID:13137-1697709600-1706284800@alum.up.edu.ph
SUMMARY:Waray-Pag-ultan han Pinulongan: Mulay-Mulay ha Binisaya (Waray without Borders: Playing with Words)
DESCRIPTION:Waray-Pag-ultan han Pinulongan: Mulay-Mulay ha Binisaya (Waray without Borders: Playing with Words)\n\nThe Leyte Samar Heritage Center is marking its 28th founding anniversary and Museums and Galleries Month this October with a new exhibit on the Binisaya/Waray language with the title “Waray Pag-ultan han Pinulongan: Mulay-Mulay ha Binisaya (Waray without Borders: Playing with Words).”\n\nThe free interactive exhibit underscores how language carries the collective knowledge of our ancestors\, how it shapes our identity as a people\, and how it helps us navigate this modern world.\n\nEveryone is invited to view the exhibit anytime between 19 October 2023 and 26 January 2024\, from 10:00 AM to 4:00 PM on weekdays except holidays. Book your visit by filling out this form [https://bit.ly/WarayLanguageExhibit].\n\nSource: UP Tacloban – Leyte Samar Heritage Center Facebook
URL:https://alum.up.edu.ph/event/waray-pag-ultan-han-pinulongan-mulay-mulay-ha-binisaya-waray-without-borders-playing-with-words/
END:VEVENT
BEGIN:VEVENT
DTSTART;VALUE=DATE:20231216
DTEND;VALUE=DATE:20231217
DTSTAMP:20260424T042517
CREATED:20231120T231656Z
LAST-MODIFIED:20231120T231656Z
UID:13784-1702684800-1702771199@alum.up.edu.ph
SUMMARY:UPOU 27th Commencement Exercises
DESCRIPTION:SAVE THE DATE for the UP Open University (UPOU) 27th Commencement Exercises on 16 December 2023\, at the UPOU Headquarters\, Los Baños\, Laguna.\n\nStay tuned! We’re gearing up to share more details very soon!\n\nFor inquiries\, email records@upou.edu.ph or records_support@upou.edu.ph.\n\nSource: UP Open University (UPOU) Facebook
URL:https://alum.up.edu.ph/event/upou-27th-commencement-exercises/
END:VEVENT
BEGIN:VEVENT
DTSTART;TZID=UTC:20231216T053000
DTEND;TZID=UTC:20231216T090000
DTSTAMP:20260424T042517
CREATED:20231210T232800Z
LAST-MODIFIED:20231210T232800Z
UID:14030-1702704600-1702717200@alum.up.edu.ph
SUMMARY:BLAZE UP: Igniting Hope for Pediatric Patients
DESCRIPTION:Image from the UPPMHS Facebook page\nThe UP Pre-Medical Honor Society invites everyone to the fun run “BLAZE UP: Igniting Hope for Pediatric Patients” on Dec. 16\, Saturday\, at the AS Steps\, Palma Hall\, UP Diliman.\n\nTo join\, register at tinyurl.com/BlazeUpRegistration.\n\nThe event’s proceeds will go to Bahay Aruga\, a home for children with cancer located in Ermita\, Manila.
URL:https://alum.up.edu.ph/event/blaze-up-igniting-hope-for-pediatric-patients/
END:VEVENT
BEGIN:VEVENT
DTSTART;TZID=UTC:20231216T090000
DTEND;TZID=UTC:20231216T120000
DTSTAMP:20260424T042517
CREATED:20231213T204735Z
LAST-MODIFIED:20231213T204735Z
UID:14090-1702717200-1702728000@alum.up.edu.ph
SUMMARY:Revolutionizing Healthcare: The Promising Future of Physical Therapy
DESCRIPTION:The students of the Master of Physical Therapy (MPT) program of the College of Allied Medical Professions\, University of the Philippines Manila are inviting you to attend a free webinar entitled ‘Revolutionizing Healthcare: The Promising Future of Physical Therapy’. This webinar is the final output of the MPT students in the course PT 291 Selected Topics in Physical Therapy.\n\nThe webinar will discuss professional issues and developments in physical therapy practice and is open to PT students and professionals alike\n\nIf you are interested\, kindly register in Zoom through this link or through the QR code found in the image attached: https://up-edu.zoom.us/…/tJEkf…\n\nAfter registering\, you will receive a confirmation email containing information about joining the meeting.\n\nDetails and program of activities can be found in the attached images. You may use the Zoom BG here upon joining:\nhttps://drive.google.com/…/19…/view…\n\nWe hope to see you there!\n\nSource: UP College of Allied Medical Professions Facebook
URL:https://alum.up.edu.ph/event/revolutionizing-healthcare-the-promising-future-of-physical-therapy/
END:VEVENT
BEGIN:VEVENT
DTSTART;TZID=UTC:20231216T100000
DTEND;TZID=UTC:20231216T120000
DTSTAMP:20260424T042517
CREATED:20231212T170036Z
LAST-MODIFIED:20231212T170036Z
UID:14047-1702720800-1702728000@alum.up.edu.ph
SUMMARY:The 5E Instructional Model: A Learning Cycle Approach to Making Thinking Visible
DESCRIPTION:Tunghayan ang webinar na “The 5E Instructional Model: A Learning Cycle Approach to Making Thinking Visible” sa Sabado\, Disyembre 16\, 10 n.u.–12 n.h\, sa pamamagitan ng Facebook Live.\n\nMagrehistro lamang sa https://bit.ly/ktc-16December2023.\n\nMapapanood ang livestream sa KaSaMa Teachers Community Facebook page.\n\nSa mga Filipino\, science\, math\, o STEM teacher na nais sumali sa KaSaMa Teachers Community at mag-sign up lamang sa https://bit.ly/KTC3_0-Sign-up.\n\nIto ay handog ng UP Diliman National Institute for Science and Mathematics Education Development.
URL:https://alum.up.edu.ph/event/the-5e-instructional-model-a-learning-cycle-approach-to-making-thinking-visible/
END:VEVENT
BEGIN:VEVENT
DTSTART;TZID=UTC:20231216T170000
DTEND;TZID=UTC:20231216T200000
DTSTAMP:20260424T042517
CREATED:20231213T163108Z
LAST-MODIFIED:20231213T163108Z
UID:14083-1702746000-1702756800@alum.up.edu.ph
SUMMARY:UPOU 27th Commencement Exercises
DESCRIPTION:The University of the Philippines (UP) has approved 571 UP Open University (UPOU) students for graduation. This 16 December 2023\, UPOU will hold its 27th Commencement Exercises to confer these degrees to these students. This is the last batch of UP graduates for the year 2023.\n\nCarrying the theme “University of the Future: Reimaginations\, Reconfigurations\, Realizations\,” the 27th UPOU Commencement Exercises will be held at the UPOU Oblation Plaza\, UPOU headquarters\, Los Baños\, Laguna\, starting at 5:00 PM.\n\nVisit the Facebook Event page
URL:https://alum.up.edu.ph/event/upou-27th-commencement-exercises-2/
END:VEVENT
END:VCALENDAR