BEGIN:VCALENDAR
VERSION:2.0
PRODID:-//UP Alumni Website - ECPv6.15.16//NONSGML v1.0//EN
CALSCALE:GREGORIAN
METHOD:PUBLISH
X-WR-CALNAME:UP Alumni Website
X-ORIGINAL-URL:https://alum.up.edu.ph
X-WR-CALDESC:Events for UP Alumni Website
REFRESH-INTERVAL;VALUE=DURATION:PT1H
X-Robots-Tag:noindex
X-PUBLISHED-TTL:PT1H
BEGIN:VTIMEZONE
TZID:UTC
BEGIN:STANDARD
TZOFFSETFROM:+0000
TZOFFSETTO:+0000
TZNAME:UTC
DTSTART:20220101T000000
END:STANDARD
END:VTIMEZONE
BEGIN:VEVENT
DTSTART;TZID=UTC:20231019T100000
DTEND;TZID=UTC:20240126T160000
DTSTAMP:20260424T034156
CREATED:20231018T181649Z
LAST-MODIFIED:20231018T181649Z
UID:13137-1697709600-1706284800@alum.up.edu.ph
SUMMARY:Waray-Pag-ultan han Pinulongan: Mulay-Mulay ha Binisaya (Waray without Borders: Playing with Words)
DESCRIPTION:Waray-Pag-ultan han Pinulongan: Mulay-Mulay ha Binisaya (Waray without Borders: Playing with Words)\n\nThe Leyte Samar Heritage Center is marking its 28th founding anniversary and Museums and Galleries Month this October with a new exhibit on the Binisaya/Waray language with the title “Waray Pag-ultan han Pinulongan: Mulay-Mulay ha Binisaya (Waray without Borders: Playing with Words).”\n\nThe free interactive exhibit underscores how language carries the collective knowledge of our ancestors\, how it shapes our identity as a people\, and how it helps us navigate this modern world.\n\nEveryone is invited to view the exhibit anytime between 19 October 2023 and 26 January 2024\, from 10:00 AM to 4:00 PM on weekdays except holidays. Book your visit by filling out this form [https://bit.ly/WarayLanguageExhibit].\n\nSource: UP Tacloban – Leyte Samar Heritage Center Facebook
URL:https://alum.up.edu.ph/event/waray-pag-ultan-han-pinulongan-mulay-mulay-ha-binisaya-waray-without-borders-playing-with-words/
END:VEVENT
BEGIN:VEVENT
DTSTART;TZID=UTC:20231218T100000
DTEND;TZID=UTC:20231218T120000
DTSTAMP:20260424T034156
CREATED:20231212T170359Z
LAST-MODIFIED:20231212T170359Z
UID:14050-1702893600-1702900800@alum.up.edu.ph
SUMMARY:Advancing Biotechnology in the Philippines: Revealing Molecular Diversity in Marine Life Through Biochemistry and Omics Research
DESCRIPTION:Join the lecture “Advancing Biotechnology in the Philippines: Revealing Molecular Diversity in Marine Life Through Biochemistry and Omics Research” on Dec. 18\, Monday\, 10 a.m.–12 p.m.\, at the UP Diliman Marine Science Institute (MSI) Audiovisual Room and via Zoom.\n\nEizadora T. Yu\, PhD\, a professor at the MSI\, is the resource speaker for this session.\n\nThis is the sixth installment of the “MSI@50 Lecture Series.”\n\nRegister at bit.ly/MSIat50LS06.
URL:https://alum.up.edu.ph/event/advancing-biotechnology-in-the-philippines-revealing-molecular-diversity-in-marine-life-through-biochemistry-and-omics-research/
END:VEVENT
BEGIN:VEVENT
DTSTART;TZID=UTC:20231218T100000
DTEND;TZID=UTC:20231218T120000
DTSTAMP:20260424T034156
CREATED:20231214T181628Z
LAST-MODIFIED:20231214T181628Z
UID:14104-1702893600-1702900800@alum.up.edu.ph
SUMMARY:"Equity in UHC: Bridging the Gaps and Reaching All"
DESCRIPTION:The UP College of Public Health (UP CPH) Program for Health Equity (PHE)\, invites you to the inaugural session of our Health Equity Learning Series.\n\nThe first of many\, the first learning session will be conducted with the theme\, “Equity in UHC: Bridging the Gaps and Reaching All” on December 18\, 2023\, from 10:00 a.m. to 12:00 noon. This will be done through a hybrid set-up. For onsite attendance\, the venue will be at Room 407\, Lara Hall\, College of Public Health. For online attendees\, a Zoom Link will be sent to your email after registration.\n\nPlease register through: bit.ly/HealthEquityLS1\n\nThe session will be highlighting the need for equitable access to quality healthcare within our UHC framework. Together as a community\, we can push for the achievement of health equity throughout the Philippines!\n\nSource: College of Public Health\, University of the Philippines Facebook
URL:https://alum.up.edu.ph/event/equity-in-uhc-bridging-the-gaps-and-reaching-all/
END:VEVENT
END:VCALENDAR